{"text_format":"1","workbook":"xlsx","n_sheets":10,"sheets":["Home","RawData","Calculations","Descriptives","Meets recommendations","Inadequately Restrained","Unrestrained ","Charts","Any restraint & back seat","Seat use detail"],"not_rendered":{"charts":18,"images":2,"macros":1,"external_links":0,"defined_names":2,"comments":1,"pivot_tables":1},"unopened":[],"bounds":{"document_bytes":16777216,"sheet_cells":100000,"rows_first":2000,"rows_last":500,"rows_between":2000,"halvings":0,"cell_chars":16384,"cell_head_chars":4096},"cells_cut":0,"cells_raw":0,"read":"whole","date_system":"1900"}

{"sheet":"Home","index":0,"n_rows":0,"n_cols":0,"rows_kept":0,"cut":false,"hidden":false,"merged":[]}

{"sheet":"RawData","index":1,"n_rows":1,"n_cols":12,"rows_kept":1,"cut":false,"hidden":false,"merged":[]}
["ID","Date","Site","DrivBelt","Distance","Parent","Age","Tall","Seat","Restraint","Seat Present Not In Use","Notes"]

{"sheet":"Calculations","index":2,"n_rows":984,"n_cols":23,"rows_kept":984,"cut":false,"hidden":true,"merged":[]}
[{"$f":"RawData!A1","v":"ID"},{"$f":"RawData!B1","v":"Date"},{"$f":"RawData!C1","v":"Site"},{"$f":"RawData!D1","v":"DrivBelt"},{"$f":"RawData!E1","v":"Distance"},{"$f":"RawData!F1","v":"Parent"},{"$f":"RawData!G1","v":"Age"},{"$f":"RawData!H1","v":"Tall"},{"$f":"RawData!I1","v":"Seat"},{"$f":"RawData!J1","v":"Restraint"},"Under3","Age1up","Age1to7","Age4up","Age8up","BabyRear","Under3Rear","FFHarness1to7","Booster4up","ASB8up","ASBtall","MeetRecs","Inadequate"]
[{"$f":"IF(RawData!A2<>\"\", RawData!A2,\"\")","v":""},{"$f":"IF(RawData!B2<>\"\", RawData!B2,\"\")","v":""},{"$f":"IF(RawData!C2<>\"\", RawData!C2,\"\")","v":""},{"$f":"IF(RawData!D2<>\"\", RawData!D2,\"\")","v":""},{"$f":"IF(RawData!E2<>\"\", RawData!E2,\"\")","v":""},{"$f":"IF(RawData!F2<>\"\", RawData!F2,\"\")","v":""},{"$f":"IF(RawData!G2<>\"\", RawData!G2,\"\")","v":""},{"$f":"IF(RawData!H2<>\"\", RawData!H2,\"\")","v":""},{"$f":"IF(RawData!I2<>\"\", RawData!I2,\"\")","v":""},{"$f":"IF(RawData!J2<>\"\", RawData!J2,\"\")","v":""},{"$f":"IF(G2<>\"\",IF(G2<3, 1, 0),\"\")","v":""},{"$f":"IF(G2<>\"\",IF(G2>=1, 1, 0),\"\")","v":""},{"$f":"IF(G2<>\"\",IF(AND(G2>=1,G2<=7), 1, 0),\"\")","v":""},{"$f":"IF(G2<>\"\",IF(G2>=4, 1, 0),\"\")","v":""},{"$f":"IF(G2<>\"\",IF(G2>=8, 1, 0),\"\")","v":""},{"$f":"IF(L2<>\"\", IF(J2<>\"\",IF(L2=0,IF(J2=1, 1, 0),\"\")))","v":false},{"$f":"IF(K2<>\"\",IF(J2<>\"\",IF(K2=1,IF(J2=1, 1, 0),\"\")))","v":false},{"$f":"IF(M2<>\"\",IF(J2<>\"\",IF(M2=1,IF(J2=2, 1, 0),\"\")))","v":false},{"$f":"IF(N2<>\"\",IF(J2<>\"\",IF(N2=1,IF(J2=3, 1, 0),\"\")))","v":false},{"$f":"IF(O2<>\"\",IF(J2<>\"\",IF(O2=1,IF(J2=4, 1, 0),\"\")))","v":false},{"$f":"IF(H2<>\"\",IF(H2=1,IF(J2=4, 1, 0),\"\"),\"\")","v":""},{"$f":"IF(J2<>\"\",IF(OR(P2=1,Q2=1,R2=1,S2=1, T2=1, U2=1),1,0),\"\")","v":""},{"$f":"IF(J2<>\"\",IF(AND(J2<>0,V2=0),1,0),\"\")","v":""}]
[{"$f":"IF(RawData!A3<>\"\", RawData!A3,\"\")","v":""},{"$f":"IF(RawData!B3<>\"\", RawData!B3,\"\")","v":""},{"$f":"IF(RawData!C3<>\"\", RawData!C3,\"\")","v":""},{"$f":"IF(RawData!D3<>\"\", RawData!D3,\"\")","v":""},{"$f":"IF(RawData!E3<>\"\", RawData!E3,\"\")","v":""},{"$f":"IF(RawData!F3<>\"\", RawData!F3,\"\")","v":""},{"$f":"IF(RawData!G3<>\"\", RawData!G3,\"\")","v":""},{"$f":"IF(RawData!H3<>\"\", RawData!H3,\"\")","v":""},{"$f":"IF(RawData!I3<>\"\", RawData!I3,\"\")","v":""},{"$f":"IF(RawData!J3<>\"\", RawData!J3,\"\")","v":""},"","","","","",{"$f":"IF(L3<>\"\", IF(J3<>\"\",IF(L3=0,IF(J3=1, 1, 0),\"\")))","v":false},{"$f":"IF(K3<>\"\",IF(J3<>\"\",IF(K3=1,IF(J3=1, 1, 0),\"\")))","v":false},{"$f":"IF(M3<>\"\",IF(J3<>\"\",IF(M3=1,IF(J3=2, 1, 0),\"\")))","v":false},{"$f":"IF(N3<>\"\",IF(J3<>\"\",IF(N3=1,IF(J3=3, 1, 0),\"\")))","v":false},{"$f":"IF(O3<>\"\",IF(J3<>\"\",IF(O3=1,IF(J3=4, 1, 0),\"\")))","v":false},"",{"$f":"IF(J3<>\"\",IF(OR(P3=1,Q3=1,R3=1,S3=1, T3=1, U3=1),1,0),\"\")","v":""},{"$f":"IF(J3<>\"\",IF(AND(J3<>0,V3=0),1,0),\"\")","v":""}]
[{"$f":"IF(RawData!A4<>\"\", RawData!A4,\"\")","v":""},{"$f":"IF(RawData!B4<>\"\", RawData!B4,\"\")","v":""},{"$f":"IF(RawData!C4<>\"\", RawData!C4,\"\")","v":""},{"$f":"IF(RawData!D4<>\"\", RawData!D4,\"\")","v":""},{"$f":"IF(RawData!E4<>\"\", RawData!E4,\"\")","v":""},{"$f":"IF(RawData!F4<>\"\", RawData!F4,\"\")","v":""},{"$f":"IF(RawData!G4<>\"\", RawData!G4,\"\")","v":""},{"$f":"IF(RawData!H4<>\"\", RawData!H4,\"\")","v":""},{"$f":"IF(RawData!I4<>\"\", RawData!I4,\"\")","v":""},{"$f":"IF(RawData!J4<>\"\", RawData!J4,\"\")","v":""},"","","","","",false,false,false,false,false,"","",""]
[{"$f":"IF(RawData!A5<>\"\", RawData!A5,\"\")","v":""},{"$f":"IF(RawData!B5<>\"\", RawData!B5,\"\")","v":""},{"$f":"IF(RawData!C5<>\"\", RawData!C5,\"\")","v":""},{"$f":"IF(RawData!D5<>\"\", RawData!D5,\"\")","v":""},{"$f":"IF(RawData!E5<>\"\", RawData!E5,\"\")","v":""},{"$f":"IF(RawData!F5<>\"\", RawData!F5,\"\")","v":""},{"$f":"IF(RawData!G5<>\"\", RawData!G5,\"\")","v":""},{"$f":"IF(RawData!H5<>\"\", RawData!H5,\"\")","v":""},{"$f":"IF(RawData!I5<>\"\", RawData!I5,\"\")","v":""},{"$f":"IF(RawData!J5<>\"\", RawData!J5,\"\")","v":""},"","","","","",false,false,false,false,false,"","",""]
[{"$f":"IF(RawData!A6<>\"\", RawData!A6,\"\")","v":""},{"$f":"IF(RawData!B6<>\"\", RawData!B6,\"\")","v":""},{"$f":"IF(RawData!C6<>\"\", RawData!C6,\"\")","v":""},{"$f":"IF(RawData!D6<>\"\", RawData!D6,\"\")","v":""},{"$f":"IF(RawData!E6<>\"\", RawData!E6,\"\")","v":""},{"$f":"IF(RawData!F6<>\"\", RawData!F6,\"\")","v":""},{"$f":"IF(RawData!G6<>\"\", RawData!G6,\"\")","v":""},{"$f":"IF(RawData!H6<>\"\", RawData!H6,\"\")","v":""},{"$f":"IF(RawData!I6<>\"\", RawData!I6,\"\")","v":""},{"$f":"IF(RawData!J6<>\"\", RawData!J6,\"\")","v":""},"","","","","",false,false,false,false,false,"","",""]
[{"$f":"IF(RawData!A7<>\"\", RawData!A7,\"\")","v":""},{"$f":"IF(RawData!B7<>\"\", RawData!B7,\"\")","v":""},{"$f":"IF(RawData!C7<>\"\", RawData!C7,\"\")","v":""},{"$f":"IF(RawData!D7<>\"\", RawData!D7,\"\")","v":""},{"$f":"IF(RawData!E7<>\"\", RawData!E7,\"\")","v":""},{"$f":"IF(RawData!F7<>\"\", RawData!F7,\"\")","v":""},{"$f":"IF(RawData!G7<>\"\", RawData!G7,\"\")","v":""},{"$f":"IF(RawData!H7<>\"\", RawData!H7,\"\")","v":""},{"$f":"IF(RawData!I7<>\"\", RawData!I7,\"\")","v":""},{"$f":"IF(RawData!J7<>\"\", RawData!J7,\"\")","v":""},"","","","","",false,false,false,false,false,"","",""]
[{"$f":"IF(RawData!A8<>\"\", RawData!A8,\"\")","v":""},{"$f":"IF(RawData!B8<>\"\", RawData!B8,\"\")","v":""},{"$f":"IF(RawData!C8<>\"\", RawData!C8,\"\")","v":""},{"$f":"IF(RawData!D8<>\"\", RawData!D8,\"\")","v":""},{"$f":"IF(RawData!E8<>\"\", RawData!E8,\"\")","v":""},{"$f":"IF(RawData!F8<>\"\", RawData!F8,\"\")","v":""},{"$f":"IF(RawData!G8<>\"\", RawData!G8,\"\")","v":""},{"$f":"IF(RawData!H8<>\"\", RawData!H8,\"\")","v":""},{"$f":"IF(RawData!I8<>\"\", RawData!I8,\"\")","v":""},{"$f":"IF(RawData!J8<>\"\", RawData!J8,\"\")","v":""},"","","","","",false,false,false,false,false,"","",""]
[{"$f":"IF(RawData!A9<>\"\", RawData!A9,\"\")","v":""},{"$f":"IF(RawData!B9<>\"\", RawData!B9,\"\")","v":""},{"$f":"IF(RawData!C9<>\"\", RawData!C9,\"\")","v":""},{"$f":"IF(RawData!D9<>\"\", RawData!D9,\"\")","v":""},{"$f":"IF(RawData!E9<>\"\", RawData!E9,\"\")","v":""},{"$f":"IF(RawData!F9<>\"\", RawData!F9,\"\")","v":""},{"$f":"IF(RawData!G9<>\"\", RawData!G9,\"\")","v":""},{"$f":"IF(RawData!H9<>\"\", RawData!H9,\"\")","v":""},{"$f":"IF(RawData!I9<>\"\", RawData!I9,\"\")","v":""},{"$f":"IF(RawData!J9<>\"\", RawData!J9,\"\")","v":""},"","","","","",false,false,false,false,false,"","",""]
[{"$f":"IF(RawData!A10<>\"\", RawData!A10,\"\")","v":""},{"$f":"IF(RawData!B10<>\"\", RawData!B10,\"\")","v":""},{"$f":"IF(RawData!C10<>\"\", RawData!C10,\"\")","v":""},{"$f":"IF(RawData!D10<>\"\", RawData!D10,\"\")","v":""},{"$f":"IF(RawData!E10<>\"\", RawData!E10,\"\")","v":""},{"$f":"IF(RawData!F10<>\"\", RawData!F10,\"\")","v":""},{"$f":"IF(RawData!G10<>\"\", RawData!G10,\"\")","v":""},{"$f":"IF(RawData!H10<>\"\", RawData!H10,\"\")","v":""},{"$f":"IF(RawData!I10<>\"\", RawData!I10,\"\")","v":""},{"$f":"IF(RawData!J10<>\"\", RawData!J10,\"\")","v":""},"","","","","",false,false,false,false,false,"","",""]
[{"$f":"IF(RawData!A11<>\"\", RawData!A11,\"\")","v":""},{"$f":"IF(RawData!B11<>\"\", RawData!B11,\"\")","v":""},{"$f":"IF(RawData!C11<>\"\", RawData!C11,\"\")","v":""},{"$f":"IF(RawData!D11<>\"\", RawData!D11,\"\")","v":""},{"$f":"IF(RawData!E11<>\"\", RawData!E11,\"\")","v":""},{"$f":"IF(RawData!F11<>\"\", RawData!F11,\"\")","v":""},{"$f":"IF(RawData!G11<>\"\", RawData!G11,\"\")","v":""},{"$f":"IF(RawData!H11<>\"\", RawData!H11,\"\")","v":""},{"$f":"IF(RawData!I11<>\"\", RawData!I11,\"\")","v":""},{"$f":"IF(RawData!J11<>\"\", RawData!J11,\"\")","v":""},"","","","","",false,false,false,false,false,"","",""]
[{"$f":"IF(RawData!A12<>\"\", RawData!A12,\"\")","v":""},{"$f":"IF(RawData!B12<>\"\", RawData!B12,\"\")","v":""},{"$f":"IF(RawData!C12<>\"\", RawData!C12,\"\")","v":""},{"$f":"IF(RawData!D12<>\"\", RawData!D12,\"\")","v":""},{"$f":"IF(RawData!E12<>\"\", RawData!E12,\"\")","v":""},{"$f":"IF(RawData!F12<>\"\", RawData!F12,\"\")","v":""},{"$f":"IF(RawData!G12<>\"\", RawData!G12,\"\")","v":""},{"$f":"IF(RawData!H12<>\"\", RawData!H12,\"\")","v":""},{"$f":"IF(RawData!I12<>\"\", RawData!I12,\"\")","v":""},{"$f":"IF(RawData!J12<>\"\", RawData!J12,\"\")","v":""},"","","","","",false,false,false,false,false,"","",""]
[{"$f":"IF(RawData!A13<>\"\", RawData!A13,\"\")","v":""},{"$f":"IF(RawData!B13<>\"\", RawData!B13,\"\")","v":""},{"$f":"IF(RawData!C13<>\"\", RawData!C13,\"\")","v":""},{"$f":"IF(RawData!D13<>\"\", RawData!D13,\"\")","v":""},{"$f":"IF(RawData!E13<>\"\", RawData!E13,\"\")","v":""},{"$f":"IF(RawData!F13<>\"\", RawData!F13,\"\")","v":""},{"$f":"IF(RawData!G13<>\"\", RawData!G13,\"\")","v":""},{"$f":"IF(RawData!H13<>\"\", RawData!H13,\"\")","v":""},{"$f":"IF(RawData!I13<>\"\", RawData!I13,\"\")","v":""},{"$f":"IF(RawData!J13<>\"\", RawData!J13,\"\")","v":""},"","","","","",false,false,false,false,false,"","",""]
[{"$f":"IF(RawData!A14<>\"\", RawData!A14,\"\")","v":""},{"$f":"IF(RawData!B14<>\"\", RawData!B14,\"\")","v":""},{"$f":"IF(RawData!C14<>\"\", RawData!C14,\"\")","v":""},{"$f":"IF(RawData!D14<>\"\", RawData!D14,\"\")","v":""},{"$f":"IF(RawData!E14<>\"\", RawData!E14,\"\")","v":""},{"$f":"IF(RawData!F14<>\"\", RawData!F14,\"\")","v":""},{"$f":"IF(RawData!G14<>\"\", RawData!G14,\"\")","v":""},{"$f":"IF(RawData!H14<>\"\", RawData!H14,\"\")","v":""},{"$f":"IF(RawData!I14<>\"\", RawData!I14,\"\")","v":""},{"$f":"IF(RawData!J14<>\"\", RawData!J14,\"\")","v":""},"","","","","",false,false,false,false,false,"","",""]
[{"$f":"IF(RawData!A15<>\"\", RawData!A15,\"\")","v":""},{"$f":"IF(RawData!B15<>\"\", RawData!B15,\"\")","v":""},{"$f":"IF(RawData!C15<>\"\", RawData!C15,\"\")","v":""},{"$f":"IF(RawData!D15<>\"\", RawData!D15,\"\")","v":""},{"$f":"IF(RawData!E15<>\"\", RawData!E15,\"\")","v":""},{"$f":"IF(RawData!F15<>\"\", RawData!F15,\"\")","v":""},{"$f":"IF(RawData!G15<>\"\", RawData!G15,\"\")","v":""},{"$f":"IF(RawData!H15<>\"\", RawData!H15,\"\")","v":""},{"$f":"IF(RawData!I15<>\"\", RawData!I15,\"\")","v":""},{"$f":"IF(RawData!J15<>\"\", RawData!J15,\"\")","v":""},"","","",{"$f":"IF(G15<>\"\",IF(G15>=4, 1, 0),\"\")","v":""},"",false,false,false,false,false,"","",""]
[{"$f":"IF(RawData!A16<>\"\", RawData!A16,\"\")","v":""},{"$f":"IF(RawData!B16<>\"\", RawData!B16,\"\")","v":""},{"$f":"IF(RawData!C16<>\"\", RawData!C16,\"\")","v":""},{"$f":"IF(RawData!D16<>\"\", RawData!D16,\"\")","v":""},{"$f":"IF(RawData!E16<>\"\", RawData!E16,\"\")","v":""},{"$f":"IF(RawData!F16<>\"\", RawData!F16,\"\")","v":""},{"$f":"IF(RawData!G16<>\"\", RawData!G16,\"\")","v":""},{"$f":"IF(RawData!H16<>\"\", RawData!H16,\"\")","v":""},{"$f":"IF(RawData!I16<>\"\", RawData!I16,\"\")","v":""},{"$f":"IF(RawData!J16<>\"\", RawData!J16,\"\")","v":""},"","","","","",false,false,false,false,false,"","",""]
[{"$f":"IF(RawData!A17<>\"\", RawData!A17,\"\")","v":""},{"$f":"IF(RawData!B17<>\"\", RawData!B17,\"\")","v":""},{"$f":"IF(RawData!C17<>\"\", RawData!C17,\"\")","v":""},{"$f":"IF(RawData!D17<>\"\", RawData!D17,\"\")","v":""},{"$f":"IF(RawData!E17<>\"\", RawData!E17,\"\")","v":""},{"$f":"IF(RawData!F17<>\"\", RawData!F17,\"\")","v":""},{"$f":"IF(RawData!G17<>\"\", RawData!G17,\"\")","v":""},{"$f":"IF(RawData!H17<>\"\", RawData!H17,\"\")","v":""},{"$f":"IF(RawData!I17<>\"\", RawData!I17,\"\")","v":""},{"$f":"IF(RawData!J17<>\"\", RawData!J17,\"\")","v":""},"","","","","",false,false,false,false,false,"","",""]
[{"$f":"IF(RawData!A18<>\"\", RawData!A18,\"\")","v":""},{"$f":"IF(RawData!B18<>\"\", RawData!B18,\"\")","v":""},{"$f":"IF(RawData!C18<>\"\", RawData!C18,\"\")","v":""},{"$f":"IF(RawData!D18<>\"\", RawData!D18,\"\")","v":""},{"$f":"IF(RawData!E18<>\"\", RawData!E18,\"\")","v":""},{"$f":"IF(RawData!F18<>\"\", RawData!F18,\"\")","v":""},{"$f":"IF(RawData!G18<>\"\", RawData!G18,\"\")","v":""},{"$f":"IF(RawData!H18<>\"\", RawData!H18,\"\")","v":""},{"$f":"IF(RawData!I18<>\"\", RawData!I18,\"\")","v":""},{"$f":"IF(RawData!J18<>\"\", RawData!J18,\"\")","v":""},"","","","","",false,false,false,false,false,"","",""]
[{"$f":"IF(RawData!A19<>\"\", RawData!A19,\"\")","v":""},{"$f":"IF(RawData!B19<>\"\", RawData!B19,\"\")","v":""},{"$f":"IF(RawData!C19<>\"\", RawData!C19,\"\")","v":""},{"$f":"IF(RawData!D19<>\"\", RawData!D19,\"\")","v":""},{"$f":"IF(RawData!E19<>\"\", RawData!E19,\"\")","v":""},{"$f":"IF(RawData!F19<>\"\", RawData!F19,\"\")","v":""},{"$f":"IF(RawData!G19<>\"\", RawData!G19,\"\")","v":""},{"$f":"IF(RawData!H19<>\"\", RawData!H19,\"\")","v":""},{"$f":"IF(RawData!I19<>\"\", RawData!I19,\"\")","v":""},{"$f":"IF(RawData!J19<>\"\", RawData!J19,\"\")","v":""},"","","","","",false,false,false,false,false,"","",""]
[{"$f":"IF(RawData!A20<>\"\", RawData!A20,\"\")","v":""},{"$f":"IF(RawData!B20<>\"\", RawData!B20,\"\")","v":""},{"$f":"IF(RawData!C20<>\"\", RawData!C20,\"\")","v":""},{"$f":"IF(RawData!D20<>\"\", RawData!D20,\"\")","v":""},{"$f":"IF(RawData!E20<>\"\", RawData!E20,\"\")","v":""},{"$f":"IF(RawData!F20<>\"\", RawData!F20,\"\")","v":""},{"$f":"IF(RawData!G20<>\"\", RawData!G20,\"\")","v":""},{"$f":"IF(RawData!H20<>\"\", RawData!H20,\"\")","v":""},{"$f":"IF(RawData!I20<>\"\", RawData!I20,\"\")","v":""},{"$f":"IF(RawData!J20<>\"\", RawData!J20,\"\")","v":""},"","","","","",false,false,false,false,false,"","",""]
[{"$f":"IF(RawData!A21<>\"\", RawData!A21,\"\")","v":""},{"$f":"IF(RawData!B21<>\"\", RawData!B21,\"\")","v":""},{"$f":"IF(RawData!C21<>\"\", RawData!C21,\"\")","v":""},{"$f":"IF(RawData!D21<>\"\", RawData!D21,\"\")","v":""},{"$f":"IF(RawData!E21<>\"\", RawData!E21,\"\")","v":""},{"$f":"IF(RawData!F21<>\"\", RawData!F21,\"\")","v":""},{"$f":"IF(RawData!G21<>\"\", RawData!G21,\"\")","v":""},{"$f":"IF(RawData!H21<>\"\", RawData!H21,\"\")","v":""},{"$f":"IF(RawData!I21<>\"\", RawData!I21,\"\")","v":""},{"$f":"IF(RawData!J21<>\"\", RawData!J21,\"\")","v":""},"","","","","",false,false,false,false,false,"","",""]
[{"$f":"IF(RawData!A22<>\"\", RawData!A22,\"\")","v":""},{"$f":"IF(RawData!B22<>\"\", RawData!B22,\"\")","v":""},{"$f":"IF(RawData!C22<>\"\", RawData!C22,\"\")","v":""},{"$f":"IF(RawData!D22<>\"\", RawData!D22,\"\")","v":""},{"$f":"IF(RawData!E22<>\"\", RawData!E22,\"\")","v":""},{"$f":"IF(RawData!F22<>\"\", RawData!F22,\"\")","v":""},{"$f":"IF(RawData!G22<>\"\", RawData!G22,\"\")","v":""},{"$f":"IF(RawData!H22<>\"\", RawData!H22,\"\")","v":""},{"$f":"IF(RawData!I22<>\"\", RawData!I22,\"\")","v":""},{"$f":"IF(RawData!J22<>\"\", RawData!J22,\"\")","v":""},"","","","","",false,false,false,false,false,"","",""]
[{"$f":"IF(RawData!A23<>\"\", RawData!A23,\"\")","v":""},{"$f":"IF(RawData!B23<>\"\", RawData!B23,\"\")","v":""},{"$f":"IF(RawData!C23<>\"\", RawData!C23,\"\")","v":""},{"$f":"IF(RawData!D23<>\"\", RawData!D23,\"\")","v":""},{"$f":"IF(RawData!E23<>\"\", RawData!E23,\"\")","v":""},{"$f":"IF(RawData!F23<>\"\", RawData!F23,\"\")","v":""},{"$f":"IF(RawData!G23<>\"\", RawData!G23,\"\")","v":""},{"$f":"IF(RawData!H23<>\"\", RawData!H23,\"\")","v":""},{"$f":"IF(RawData!I23<>\"\", RawData!I23,\"\")","v":""},{"$f":"IF(RawData!J23<>\"\", RawData!J23,\"\")","v":""},"","","","","",false,false,false,false,false,"","",""]
[{"$f":"IF(RawData!A24<>\"\", RawData!A24,\"\")","v":""},{"$f":"IF(RawData!B24<>\"\", RawData!B24,\"\")","v":""},{"$f":"IF(RawData!C24<>\"\", RawData!C24,\"\")","v":""},{"$f":"IF(RawData!D24<>\"\", RawData!D24,\"\")","v":""},{"$f":"IF(RawData!E24<>\"\", RawData!E24,\"\")","v":""},{"$f":"IF(RawData!F24<>\"\", RawData!F24,\"\")","v":""},{"$f":"IF(RawData!G24<>\"\", RawData!G24,\"\")","v":""},{"$f":"IF(RawData!H24<>\"\", RawData!H24,\"\")","v":""},{"$f":"IF(RawData!I24<>\"\", RawData!I24,\"\")","v":""},{"$f":"IF(RawData!J24<>\"\", RawData!J24,\"\")","v":""},"","","","","",false,false,false,false,false,"","",""]
[{"$f":"IF(RawData!A25<>\"\", RawData!A25,\"\")","v":""},{"$f":"IF(RawData!B25<>\"\", RawData!B25,\"\")","v":""},{"$f":"IF(RawData!C25<>\"\", RawData!C25,\"\")","v":""},{"$f":"IF(RawData!D25<>\"\", RawData!D25,\"\")","v":""},{"$f":"IF(RawData!E25<>\"\", RawData!E25,\"\")","v":""},{"$f":"IF(RawData!F25<>\"\", RawData!F25,\"\")","v":""},{"$f":"IF(RawData!G25<>\"\", RawData!G25,\"\")","v":""},{"$f":"IF(RawData!H25<>\"\", RawData!H25,\"\")","v":""},{"$f":"IF(RawData!I25<>\"\", RawData!I25,\"\")","v":""},{"$f":"IF(RawData!J25<>\"\", RawData!J25,\"\")","v":""},"","","","","",false,false,false,false,false,"","",""]
[{"$f":"IF(RawData!A26<>\"\", RawData!A26,\"\")","v":""},{"$f":"IF(RawData!B26<>\"\", RawData!B26,\"\")","v":""},{"$f":"IF(RawData!C26<>\"\", RawData!C26,\"\")","v":""},{"$f":"IF(RawData!D26<>\"\", RawData!D26,\"\")","v":""},{"$f":"IF(RawData!E26<>\"\", RawData!E26,\"\")","v":""},{"$f":"IF(RawData!F26<>\"\", RawData!F26,\"\")","v":""},{"$f":"IF(RawData!G26<>\"\", RawData!G26,\"\")","v":""},{"$f":"IF(RawData!H26<>\"\", RawData!H26,\"\")","v":""},{"$f":"IF(RawData!I26<>\"\", RawData!I26,\"\")","v":""},{"$f":"IF(RawData!J26<>\"\", RawData!J26,\"\")","v":""},"","","","","",false,false,false,false,false,"","",""]
[{"$f":"IF(RawData!A27<>\"\", RawData!A27,\"\")","v":""},{"$f":"IF(RawData!B27<>\"\", RawData!B27,\"\")","v":""},{"$f":"IF(RawData!C27<>\"\", RawData!C27,\"\")","v":""},{"$f":"IF(RawData!D27<>\"\", RawData!D27,\"\")","v":""},{"$f":"IF(RawData!E27<>\"\", RawData!E27,\"\")","v":""},{"$f":"IF(RawData!F27<>\"\", RawData!F27,\"\")","v":""},{"$f":"IF(RawData!G27<>\"\", RawData!G27,\"\")","v":""},{"$f":"IF(RawData!H27<>\"\", RawData!H27,\"\")","v":""},{"$f":"IF(RawData!I27<>\"\", RawData!I27,\"\")","v":""},{"$f":"IF(RawData!J27<>\"\", RawData!J27,\"\")","v":""},"","","","","",false,false,false,false,false,"","",""]
[{"$f":"IF(RawData!A28<>\"\", RawData!A28,\"\")","v":""},{"$f":"IF(RawData!B28<>\"\", RawData!B28,\"\")","v":""},{"$f":"IF(RawData!C28<>\"\", RawData!C28,\"\")","v":""},{"$f":"IF(RawData!D28<>\"\", RawData!D28,\"\")","v":""},{"$f":"IF(RawData!E28<>\"\", RawData!E28,\"\")","v":""},{"$f":"IF(RawData!F28<>\"\", RawData!F28,\"\")","v":""},{"$f":"IF(RawData!G28<>\"\", RawData!G28,\"\")","v":""},{"$f":"IF(RawData!H28<>\"\", RawData!H28,\"\")","v":""},{"$f":"IF(RawData!I28<>\"\", RawData!I28,\"\")","v":""},{"$f":"IF(RawData!J28<>\"\", RawData!J28,\"\")","v":""},"","","","","",false,false,false,false,false,"","",""]
[{"$f":"IF(RawData!A29<>\"\", RawData!A29,\"\")","v":""},{"$f":"IF(RawData!B29<>\"\", RawData!B29,\"\")","v":""},{"$f":"IF(RawData!C29<>\"\", RawData!C29,\"\")","v":""},{"$f":"IF(RawData!D29<>\"\", RawData!D29,\"\")","v":""},{"$f":"IF(RawData!E29<>\"\", RawData!E29,\"\")","v":""},{"$f":"IF(RawData!F29<>\"\", RawData!F29,\"\")","v":""},{"$f":"IF(RawData!G29<>\"\", RawData!G29,\"\")","v":""},{"$f":"IF(RawData!H29<>\"\", RawData!H29,\"\")","v":""},{"$f":"IF(RawData!I29<>\"\", RawData!I29,\"\")","v":""},{"$f":"IF(RawData!J29<>\"\", RawData!J29,\"\")","v":""},"","","","","",false,false,false,false,false,"","",""]
[{"$f":"IF(RawData!A30<>\"\", RawData!A30,\"\")","v":""},{"$f":"IF(RawData!B30<>\"\", RawData!B30,\"\")","v":""},{"$f":"IF(RawData!C30<>\"\", RawData!C30,\"\")","v":""},{"$f":"IF(RawData!D30<>\"\", RawData!D30,\"\")","v":""},{"$f":"IF(RawData!E30<>\"\", RawData!E30,\"\")","v":""},{"$f":"IF(RawData!F30<>\"\", RawData!F30,\"\")","v":""},{"$f":"IF(RawData!G30<>\"\", RawData!G30,\"\")","v":""},{"$f":"IF(RawData!H30<>\"\", RawData!H30,\"\")","v":""},{"$f":"IF(RawData!I30<>\"\", RawData!I30,\"\")","v":""},{"$f":"IF(RawData!J30<>\"\", RawData!J30,\"\")","v":""},"","","","","",false,false,false,false,false,"","",""]
[{"$f":"IF(RawData!A31<>\"\", RawData!A31,\"\")","v":""},{"$f":"IF(RawData!B31<>\"\", RawData!B31,\"\")","v":""},{"$f":"IF(RawData!C31<>\"\", RawData!C31,\"\")","v":""},{"$f":"IF(RawData!D31<>\"\", RawData!D31,\"\")","v":""},{"$f":"IF(RawData!E31<>\"\", RawData!E31,\"\")","v":""},{"$f":"IF(RawData!F31<>\"\", RawData!F31,\"\")","v":""},{"$f":"IF(RawData!G31<>\"\", RawData!G31,\"\")","v":""},{"$f":"IF(RawData!H31<>\"\", RawData!H31,\"\")","v":""},{"$f":"IF(RawData!I31<>\"\", RawData!I31,\"\")","v":""},{"$f":"IF(RawData!J31<>\"\", RawData!J31,\"\")","v":""},"","","","","",false,false,false,false,false,"","",""]
[{"$f":"IF(RawData!A32<>\"\", RawData!A32,\"\")","v":""},{"$f":"IF(RawData!B32<>\"\", RawData!B32,\"\")","v":""},{"$f":"IF(RawData!C32<>\"\", RawData!C32,\"\")","v":""},{"$f":"IF(RawData!D32<>\"\", RawData!D32,\"\")","v":""},{"$f":"IF(RawData!E32<>\"\", RawData!E32,\"\")","v":""},{"$f":"IF(RawData!F32<>\"\", RawData!F32,\"\")","v":""},{"$f":"IF(RawData!G32<>\"\", RawData!G32,\"\")","v":""},{"$f":"IF(RawData!H32<>\"\", RawData!H32,\"\")","v":""},{"$f":"IF(RawData!I32<>\"\", RawData!I32,\"\")","v":""},{"$f":"IF(RawData!J32<>\"\", RawData!J32,\"\")","v":""},"","","","","",false,false,false,false,false,"","",""]
[{"$f":"IF(RawData!A33<>\"\", RawData!A33,\"\")","v":""},{"$f":"IF(RawData!B33<>\"\", RawData!B33,\"\")","v":""},{"$f":"IF(RawData!C33<>\"\", RawData!C33,\"\")","v":""},{"$f":"IF(RawData!D33<>\"\", RawData!D33,\"\")","v":""},{"$f":"IF(RawData!E33<>\"\", RawData!E33,\"\")","v":""},{"$f":"IF(RawData!F33<>\"\", RawData!F33,\"\")","v":""},{"$f":"IF(RawData!G33<>\"\", RawData!G33,\"\")","v":""},{"$f":"IF(RawData!H33<>\"\", RawData!H33,\"\")","v":""},{"$f":"IF(RawData!I33<>\"\", RawData!I33,\"\")","v":""},{"$f":"IF(RawData!J33<>\"\", RawData!J33,\"\")","v":""},"","","","","",false,false,false,false,false,"","",""]
[{"$f":"IF(RawData!A34<>\"\", RawData!A34,\"\")","v":""},{"$f":"IF(RawData!B34<>\"\", RawData!B34,\"\")","v":""},{"$f":"IF(RawData!C34<>\"\", RawData!C34,\"\")","v":""},{"$f":"IF(RawData!D34<>\"\", RawData!D34,\"\")","v":""},{"$f":"IF(RawData!E34<>\"\", RawData!E34,\"\")","v":""},{"$f":"IF(RawData!F34<>\"\", RawData!F34,\"\")","v":""},{"$f":"IF(RawData!G34<>\"\", RawData!G34,\"\")","v":""},{"$f":"IF(RawData!H34<>\"\", RawData!H34,\"\")","v":""},{"$f":"IF(RawData!I34<>\"\", RawData!I34,\"\")","v":""},{"$f":"IF(RawData!J34<>\"\", RawData!J34,\"\")","v":""},"","","","","",false,false,false,false,false,"","",""]
[{"$f":"IF(RawData!A35<>\"\", RawData!A35,\"\")","v":""},{"$f":"IF(RawData!B35<>\"\", RawData!B35,\"\")","v":""},{"$f":"IF(RawData!C35<>\"\", RawData!C35,\"\")","v":""},{"$f":"IF(RawData!D35<>\"\", RawData!D35,\"\")","v":""},{"$f":"IF(RawData!E35<>\"\", RawData!E35,\"\")","v":""},{"$f":"IF(RawData!F35<>\"\", RawData!F35,\"\")","v":""},{"$f":"IF(RawData!G35<>\"\", RawData!G35,\"\")","v":""},{"$f":"IF(RawData!H35<>\"\", RawData!H35,\"\")","v":""},{"$f":"IF(RawData!I35<>\"\", RawData!I35,\"\")","v":""},{"$f":"IF(RawData!J35<>\"\", RawData!J35,\"\")","v":""},"","","","","",false,false,false,false,false,"","",""]
[{"$f":"IF(RawData!A36<>\"\", RawData!A36,\"\")","v":""},{"$f":"IF(RawData!B36<>\"\", RawData!B36,\"\")","v":""},{"$f":"IF(RawData!C36<>\"\", RawData!C36,\"\")","v":""},{"$f":"IF(RawData!D36<>\"\", RawData!D36,\"\")","v":""},{"$f":"IF(RawData!E36<>\"\", RawData!E36,\"\")","v":""},{"$f":"IF(RawData!F36<>\"\", RawData!F36,\"\")","v":""},{"$f":"IF(RawData!G36<>\"\", RawData!G36,\"\")","v":""},{"$f":"IF(RawData!H36<>\"\", RawData!H36,\"\")","v":""},{"$f":"IF(RawData!I36<>\"\", RawData!I36,\"\")","v":""},{"$f":"IF(RawData!J36<>\"\", RawData!J36,\"\")","v":""},"","","","","",false,false,false,false,false,"","",""]
[{"$f":"IF(RawData!A37<>\"\", RawData!A37,\"\")","v":""},{"$f":"IF(RawData!B37<>\"\", RawData!B37,\"\")","v":""},{"$f":"IF(RawData!C37<>\"\", RawData!C37,\"\")","v":""},{"$f":"IF(RawData!D37<>\"\", RawData!D37,\"\")","v":""},{"$f":"IF(RawData!E37<>\"\", RawData!E37,\"\")","v":""},{"$f":"IF(RawData!F37<>\"\", RawData!F37,\"\")","v":""},{"$f":"IF(RawData!G37<>\"\", RawData!G37,\"\")","v":""},{"$f":"IF(RawData!H37<>\"\", RawData!H37,\"\")","v":""},{"$f":"IF(RawData!I37<>\"\", RawData!I37,\"\")","v":""},{"$f":"IF(RawData!J37<>\"\", RawData!J37,\"\")","v":""},"","","","","",false,false,false,false,false,"","",""]
[{"$f":"IF(RawData!A38<>\"\", RawData!A38,\"\")","v":""},{"$f":"IF(RawData!B38<>\"\", RawData!B38,\"\")","v":""},{"$f":"IF(RawData!C38<>\"\", RawData!C38,\"\")","v":""},{"$f":"IF(RawData!D38<>\"\", RawData!D38,\"\")","v":""},{"$f":"IF(RawData!E38<>\"\", RawData!E38,\"\")","v":""},{"$f":"IF(RawData!F38<>\"\", RawData!F38,\"\")","v":""},{"$f":"IF(RawData!G38<>\"\", RawData!G38,\"\")","v":""},{"$f":"IF(RawData!H38<>\"\", RawData!H38,\"\")","v":""},{"$f":"IF(RawData!I38<>\"\", RawData!I38,\"\")","v":""},{"$f":"IF(RawData!J38<>\"\", RawData!J38,\"\")","v":""},"","","","","",false,false,false,false,false,"","",""]
[{"$f":"IF(RawData!A39<>\"\", RawData!A39,\"\")","v":""},{"$f":"IF(RawData!B39<>\"\", RawData!B39,\"\")","v":""},{"$f":"IF(RawData!C39<>\"\", RawData!C39,\"\")","v":""},{"$f":"IF(RawData!D39<>\"\", RawData!D39,\"\")","v":""},{"$f":"IF(RawData!E39<>\"\", RawData!E39,\"\")","v":""},{"$f":"IF(RawData!F39<>\"\", RawData!F39,\"\")","v":""},{"$f":"IF(RawData!G39<>\"\", RawData!G39,\"\")","v":""},{"$f":"IF(RawData!H39<>\"\", RawData!H39,\"\")","v":""},{"$f":"IF(RawData!I39<>\"\", RawData!I39,\"\")","v":""},{"$f":"IF(RawData!J39<>\"\", RawData!J39,\"\")","v":""},"","","","","",false,false,false,false,false,"","",""]
[{"$f":"IF(RawData!A40<>\"\", RawData!A40,\"\")","v":""},{"$f":"IF(RawData!B40<>\"\", RawData!B40,\"\")","v":""},{"$f":"IF(RawData!C40<>\"\", RawData!C40,\"\")","v":""},{"$f":"IF(RawData!D40<>\"\", RawData!D40,\"\")","v":""},{"$f":"IF(RawData!E40<>\"\", RawData!E40,\"\")","v":""},{"$f":"IF(RawData!F40<>\"\", RawData!F40,\"\")","v":""},{"$f":"IF(RawData!G40<>\"\", RawData!G40,\"\")","v":""},{"$f":"IF(RawData!H40<>\"\", RawData!H40,\"\")","v":""},{"$f":"IF(RawData!I40<>\"\", RawData!I40,\"\")","v":""},{"$f":"IF(RawData!J40<>\"\", RawData!J40,\"\")","v":""},"","","","","",false,false,false,false,false,"","",""]
[{"$f":"IF(RawData!A41<>\"\", RawData!A41,\"\")","v":""},{"$f":"IF(RawData!B41<>\"\", RawData!B41,\"\")","v":""},{"$f":"IF(RawData!C41<>\"\", RawData!C41,\"\")","v":""},{"$f":"IF(RawData!D41<>\"\", RawData!D41,\"\")","v":""},{"$f":"IF(RawData!E41<>\"\", RawData!E41,\"\")","v":""},{"$f":"IF(RawData!F41<>\"\", RawData!F41,\"\")","v":""},{"$f":"IF(RawData!G41<>\"\", RawData!G41,\"\")","v":""},{"$f":"IF(RawData!H41<>\"\", RawData!H41,\"\")","v":""},{"$f":"IF(RawData!I41<>\"\", RawData!I41,\"\")","v":""},{"$f":"IF(RawData!J41<>\"\", RawData!J41,\"\")","v":""},"","","","","",false,false,false,false,false,"","",""]
[{"$f":"IF(RawData!A42<>\"\", RawData!A42,\"\")","v":""},{"$f":"IF(RawData!B42<>\"\", RawData!B42,\"\")","v":""},{"$f":"IF(RawData!C42<>\"\", RawData!C42,\"\")","v":""},{"$f":"IF(RawData!D42<>\"\", RawData!D42,\"\")","v":""},{"$f":"IF(RawData!E42<>\"\", RawData!E42,\"\")","v":""},{"$f":"IF(RawData!F42<>\"\", RawData!F42,\"\")","v":""},{"$f":"IF(RawData!G42<>\"\", RawData!G42,\"\")","v":""},{"$f":"IF(RawData!H42<>\"\", RawData!H42,\"\")","v":""},{"$f":"IF(RawData!I42<>\"\", RawData!I42,\"\")","v":""},{"$f":"IF(RawData!J42<>\"\", RawData!J42,\"\")","v":""},"","","","","",false,false,false,false,false,"","",""]
[{"$f":"IF(RawData!A43<>\"\", RawData!A43,\"\")","v":""},{"$f":"IF(RawData!B43<>\"\", RawData!B43,\"\")","v":""},{"$f":"IF(RawData!C43<>\"\", RawData!C43,\"\")","v":""},{"$f":"IF(RawData!D43<>\"\", RawData!D43,\"\")","v":""},{"$f":"IF(RawData!E43<>\"\", RawData!E43,\"\")","v":""},{"$f":"IF(RawData!F43<>\"\", RawData!F43,\"\")","v":""},{"$f":"IF(RawData!G43<>\"\", RawData!G43,\"\")","v":""},{"$f":"IF(RawData!H43<>\"\", RawData!H43,\"\")","v":""},{"$f":"IF(RawData!I43<>\"\", RawData!I43,\"\")","v":""},{"$f":"IF(RawData!J43<>\"\", RawData!J43,\"\")","v":""},"","","","","",false,false,false,false,false,"","",""]
[{"$f":"IF(RawData!A44<>\"\", RawData!A44,\"\")","v":""},{"$f":"IF(RawData!B44<>\"\", RawData!B44,\"\")","v":""},{"$f":"IF(RawData!C44<>\"\", RawData!C44,\"\")","v":""},{"$f":"IF(RawData!D44<>\"\", RawData!D44,\"\")","v":""},{"$f":"IF(RawData!E44<>\"\", RawData!E44,\"\")","v":""},{"$f":"IF(RawData!F44<>\"\", RawData!F44,\"\")","v":""},{"$f":"IF(RawData!G44<>\"\", RawData!G44,\"\")","v":""},{"$f":"IF(RawData!H44<>\"\", RawData!H44,\"\")","v":""},{"$f":"IF(RawData!I44<>\"\", RawData!I44,\"\")","v":""},{"$f":"IF(RawData!J44<>\"\", RawData!J44,\"\")","v":""},"","","","","",false,false,false,false,false,"","",""]
[{"$f":"IF(RawData!A45<>\"\", RawData!A45,\"\")","v":""},{"$f":"IF(RawData!B45<>\"\", RawData!B45,\"\")","v":""},{"$f":"IF(RawData!C45<>\"\", RawData!C45,\"\")","v":""},{"$f":"IF(RawData!D45<>\"\", RawData!D45,\"\")","v":""},{"$f":"IF(RawData!E45<>\"\", RawData!E45,\"\")","v":""},{"$f":"IF(RawData!F45<>\"\", RawData!F45,\"\")","v":""},{"$f":"IF(RawData!G45<>\"\", RawData!G45,\"\")","v":""},{"$f":"IF(RawData!H45<>\"\", RawData!H45,\"\")","v":""},{"$f":"IF(RawData!I45<>\"\", RawData!I45,\"\")","v":""},{"$f":"IF(RawData!J45<>\"\", RawData!J45,\"\")","v":""},"","","","","",false,false,false,false,false,"","",""]
[{"$f":"IF(RawData!A46<>\"\", RawData!A46,\"\")","v":""},{"$f":"IF(RawData!B46<>\"\", RawData!B46,\"\")","v":""},{"$f":"IF(RawData!C46<>\"\", RawData!C46,\"\")","v":""},{"$f":"IF(RawData!D46<>\"\", RawData!D46,\"\")","v":""},{"$f":"IF(RawData!E46<>\"\", RawData!E46,\"\")","v":""},{"$f":"IF(RawData!F46<>\"\", RawData!F46,\"\")","v":""},{"$f":"IF(RawData!G46<>\"\", RawData!G46,\"\")","v":""},{"$f":"IF(RawData!H46<>\"\", RawData!H46,\"\")","v":""},{"$f":"IF(RawData!I46<>\"\", RawData!I46,\"\")","v":""},{"$f":"IF(RawData!J46<>\"\", RawData!J46,\"\")","v":""},"","","","","",false,false,false,false,false,"","",""]
[{"$f":"IF(RawData!A47<>\"\", RawData!A47,\"\")","v":""},{"$f":"IF(RawData!B47<>\"\", RawData!B47,\"\")","v":""},{"$f":"IF(RawData!C47<>\"\", RawData!C47,\"\")","v":""},{"$f":"IF(RawData!D47<>\"\", RawData!D47,\"\")","v":""},{"$f":"IF(RawData!E47<>\"\", RawData!E47,\"\")","v":""},{"$f":"IF(RawData!F47<>\"\", RawData!F47,\"\")","v":""},{"$f":"IF(RawData!G47<>\"\", RawData!G47,\"\")","v":""},{"$f":"IF(RawData!H47<>\"\", RawData!H47,\"\")","v":""},{"$f":"IF(RawData!I47<>\"\", RawData!I47,\"\")","v":""},{"$f":"IF(RawData!J47<>\"\", RawData!J47,\"\")","v":""},"","","","","",false,false,false,false,false,"","",""]
[{"$f":"IF(RawData!A48<>\"\", RawData!A48,\"\")","v":""},{"$f":"IF(RawData!B48<>\"\", RawData!B48,\"\")","v":""},{"$f":"IF(RawData!C48<>\"\", RawData!C48,\"\")","v":""},{"$f":"IF(RawData!D48<>\"\", RawData!D48,\"\")","v":""},{"$f":"IF(RawData!E48<>\"\", RawData!E48,\"\")","v":""},{"$f":"IF(RawData!F48<>\"\", RawData!F48,\"\")","v":""},{"$f":"IF(RawData!G48<>\"\", RawData!G48,\"\")","v":""},{"$f":"IF(RawData!H48<>\"\", RawData!H48,\"\")","v":""},{"$f":"IF(RawData!I48<>\"\", RawData!I48,\"\")","v":""},{"$f":"IF(RawData!J48<>\"\", RawData!J48,\"\")","v":""},"","","","","",false,false,false,false,false,"","",""]
[{"$f":"IF(RawData!A49<>\"\", RawData!A49,\"\")","v":""},{"$f":"IF(RawData!B49<>\"\", RawData!B49,\"\")","v":""},{"$f":"IF(RawData!C49<>\"\", RawData!C49,\"\")","v":""},{"$f":"IF(RawData!D49<>\"\", RawData!D49,\"\")","v":""},{"$f":"IF(RawData!E49<>\"\", RawData!E49,\"\")","v":""},{"$f":"IF(RawData!F49<>\"\", RawData!F49,\"\")","v":""},{"$f":"IF(RawData!G49<>\"\", RawData!G49,\"\")","v":""},{"$f":"IF(RawData!H49<>\"\", RawData!H49,\"\")","v":""},{"$f":"IF(RawData!I49<>\"\", RawData!I49,\"\")","v":""},{"$f":"IF(RawData!J49<>\"\", RawData!J49,\"\")","v":""},"","","","","",false,false,false,false,false,"","",""]
[{"$f":"IF(RawData!A50<>\"\", RawData!A50,\"\")","v":""},{"$f":"IF(RawData!B50<>\"\", RawData!B50,\"\")","v":""},{"$f":"IF(RawData!C50<>\"\", RawData!C50,\"\")","v":""},{"$f":"IF(RawData!D50<>\"\", RawData!D50,\"\")","v":""},{"$f":"IF(RawData!E50<>\"\", RawData!E50,\"\")","v":""},{"$f":"IF(RawData!F50<>\"\", RawData!F50,\"\")","v":""},{"$f":"IF(RawData!G50<>\"\", RawData!G50,\"\")","v":""},{"$f":"IF(RawData!H50<>\"\", RawData!H50,\"\")","v":""},{"$f":"IF(RawData!I50<>\"\", RawData!I50,\"\")","v":""},{"$f":"IF(RawData!J50<>\"\", RawData!J50,\"\")","v":""},{"$f":"IF(G50<>\"\",IF(G50<3, 1, 0),\"\")","v":""},{"$f":"IF(G50<>\"\",IF(G50>=1, 1, 0),\"\")","v":""},{"$f":"IF(G50<>\"\",IF(AND(G50>=1,G50<=7), 1, 0),\"\")","v":""},"",{"$f":"IF(G50<>\"\",IF(G50>=8, 1, 0),\"\")","v":""},false,false,false,false,false,{"$f":"IF(H50<>\"\",IF(H50=1,IF(J50=4, 1, 0),\"\"),\"\")","v":""},"",""]
[{"$f":"IF(RawData!A51<>\"\", RawData!A51,\"\")","v":""},{"$f":"IF(RawData!B51<>\"\", RawData!B51,\"\")","v":""},{"$f":"IF(RawData!C51<>\"\", RawData!C51,\"\")","v":""},{"$f":"IF(RawData!D51<>\"\", RawData!D51,\"\")","v":""},{"$f":"IF(RawData!E51<>\"\", RawData!E51,\"\")","v":""},{"$f":"IF(RawData!F51<>\"\", RawData!F51,\"\")","v":""},{"$f":"IF(RawData!G51<>\"\", RawData!G51,\"\")","v":""},{"$f":"IF(RawData!H51<>\"\", RawData!H51,\"\")","v":""},{"$f":"IF(RawData!I51<>\"\", RawData!I51,\"\")","v":""},{"$f":"IF(RawData!J51<>\"\", RawData!J51,\"\")","v":""},"","","","","",{"$f":"IF(L51<>\"\", IF(J51<>\"\",IF(L51=0,IF(J51=1, 1, 0),\"\")))","v":false},{"$f":"IF(K51<>\"\",IF(J51<>\"\",IF(K51=1,IF(J51=1, 1, 0),\"\")))","v":false},{"$f":"IF(M51<>\"\",IF(J51<>\"\",IF(M51=1,IF(J51=2, 1, 0),\"\")))","v":false},{"$f":"IF(N51<>\"\",IF(J51<>\"\",IF(N51=1,IF(J51=3, 1, 0),\"\")))","v":false},{"$f":"IF(O51<>\"\",IF(J51<>\"\",IF(O51=1,IF(J51=4, 1, 0),\"\")))","v":false},"",{"$f":"IF(J51<>\"\",IF(OR(P51=1,Q51=1,R51=1,S51=1, T51=1, U51=1),1,0),\"\")","v":""},{"$f":"IF(J51<>\"\",IF(AND(J51<>0,V51=0),1,0),\"\")","v":""}]
[{"$f":"IF(RawData!A52<>\"\", RawData!A52,\"\")","v":""},{"$f":"IF(RawData!B52<>\"\", RawData!B52,\"\")","v":""},{"$f":"IF(RawData!C52<>\"\", RawData!C52,\"\")","v":""},{"$f":"IF(RawData!D52<>\"\", RawData!D52,\"\")","v":""},{"$f":"IF(RawData!E52<>\"\", RawData!E52,\"\")","v":""},{"$f":"IF(RawData!F52<>\"\", RawData!F52,\"\")","v":""},{"$f":"IF(RawData!G52<>\"\", RawData!G52,\"\")","v":""},{"$f":"IF(RawData!H52<>\"\", RawData!H52,\"\")","v":""},{"$f":"IF(RawData!I52<>\"\", RawData!I52,\"\")","v":""},{"$f":"IF(RawData!J52<>\"\", RawData!J52,\"\")","v":""},"","","","","",false,false,false,false,false,"","",""]
[{"$f":"IF(RawData!A53<>\"\", RawData!A53,\"\")","v":""},{"$f":"IF(RawData!B53<>\"\", RawData!B53,\"\")","v":""},{"$f":"IF(RawData!C53<>\"\", RawData!C53,\"\")","v":""},{"$f":"IF(RawData!D53<>\"\", RawData!D53,\"\")","v":""},{"$f":"IF(RawData!E53<>\"\", RawData!E53,\"\")","v":""},{"$f":"IF(RawData!F53<>\"\", RawData!F53,\"\")","v":""},{"$f":"IF(RawData!G53<>\"\", RawData!G53,\"\")","v":""},{"$f":"IF(RawData!H53<>\"\", RawData!H53,\"\")","v":""},{"$f":"IF(RawData!I53<>\"\", RawData!I53,\"\")","v":""},{"$f":"IF(RawData!J53<>\"\", RawData!J53,\"\")","v":""},"","","","","",false,false,false,false,false,"","",""]
[{"$f":"IF(RawData!A54<>\"\", RawData!A54,\"\")","v":""},{"$f":"IF(RawData!B54<>\"\", RawData!B54,\"\")","v":""},{"$f":"IF(RawData!C54<>\"\", RawData!C54,\"\")","v":""},{"$f":"IF(RawData!D54<>\"\", RawData!D54,\"\")","v":""},{"$f":"IF(RawData!E54<>\"\", RawData!E54,\"\")","v":""},{"$f":"IF(RawData!F54<>\"\", RawData!F54,\"\")","v":""},{"$f":"IF(RawData!G54<>\"\", RawData!G54,\"\")","v":""},{"$f":"IF(RawData!H54<>\"\", RawData!H54,\"\")","v":""},{"$f":"IF(RawData!I54<>\"\", RawData!I54,\"\")","v":""},{"$f":"IF(RawData!J54<>\"\", RawData!J54,\"\")","v":""},"","","","","",false,false,false,false,false,"","",""]
[{"$f":"IF(RawData!A55<>\"\", RawData!A55,\"\")","v":""},{"$f":"IF(RawData!B55<>\"\", RawData!B55,\"\")","v":""},{"$f":"IF(RawData!C55<>\"\", RawData!C55,\"\")","v":""},{"$f":"IF(RawData!D55<>\"\", RawData!D55,\"\")","v":""},{"$f":"IF(RawData!E55<>\"\", RawData!E55,\"\")","v":""},{"$f":"IF(RawData!F55<>\"\", RawData!F55,\"\")","v":""},{"$f":"IF(RawData!G55<>\"\", RawData!G55,\"\")","v":""},{"$f":"IF(RawData!H55<>\"\", RawData!H55,\"\")","v":""},{"$f":"IF(RawData!I55<>\"\", RawData!I55,\"\")","v":""},{"$f":"IF(RawData!J55<>\"\", RawData!J55,\"\")","v":""},"","","","","",false,false,false,false,false,"","",""]
[{"$f":"IF(RawData!A56<>\"\", RawData!A56,\"\")","v":""},{"$f":"IF(RawData!B56<>\"\", RawData!B56,\"\")","v":""},{"$f":"IF(RawData!C56<>\"\", RawData!C56,\"\")","v":""},{"$f":"IF(RawData!D56<>\"\", RawData!D56,\"\")","v":""},{"$f":"IF(RawData!E56<>\"\", RawData!E56,\"\")","v":""},{"$f":"IF(RawData!F56<>\"\", RawData!F56,\"\")","v":""},{"$f":"IF(RawData!G56<>\"\", RawData!G56,\"\")","v":""},{"$f":"IF(RawData!H56<>\"\", RawData!H56,\"\")","v":""},{"$f":"IF(RawData!I56<>\"\", RawData!I56,\"\")","v":""},{"$f":"IF(RawData!J56<>\"\", RawData!J56,\"\")","v":""},"","","","","",false,false,false,false,false,"","",""]
[{"$f":"IF(RawData!A57<>\"\", RawData!A57,\"\")","v":""},{"$f":"IF(RawData!B57<>\"\", RawData!B57,\"\")","v":""},{"$f":"IF(RawData!C57<>\"\", RawData!C57,\"\")","v":""},{"$f":"IF(RawData!D57<>\"\", RawData!D57,\"\")","v":""},{"$f":"IF(RawData!E57<>\"\", RawData!E57,\"\")","v":""},{"$f":"IF(RawData!F57<>\"\", RawData!F57,\"\")","v":""},{"$f":"IF(RawData!G57<>\"\", RawData!G57,\"\")","v":""},{"$f":"IF(RawData!H57<>\"\", RawData!H57,\"\")","v":""},{"$f":"IF(RawData!I57<>\"\", RawData!I57,\"\")","v":""},{"$f":"IF(RawData!J57<>\"\", RawData!J57,\"\")","v":""},"","","","","",false,false,false,false,false,"","",""]
[{"$f":"IF(RawData!A58<>\"\", RawData!A58,\"\")","v":""},{"$f":"IF(RawData!B58<>\"\", RawData!B58,\"\")","v":""},{"$f":"IF(RawData!C58<>\"\", RawData!C58,\"\")","v":""},{"$f":"IF(RawData!D58<>\"\", RawData!D58,\"\")","v":""},{"$f":"IF(RawData!E58<>\"\", RawData!E58,\"\")","v":""},{"$f":"IF(RawData!F58<>\"\", RawData!F58,\"\")","v":""},{"$f":"IF(RawData!G58<>\"\", RawData!G58,\"\")","v":""},{"$f":"IF(RawData!H58<>\"\", RawData!H58,\"\")","v":""},{"$f":"IF(RawData!I58<>\"\", RawData!I58,\"\")","v":""},{"$f":"IF(RawData!J58<>\"\", RawData!J58,\"\")","v":""},"","","","","",false,false,false,false,false,"","",""]
[{"$f":"IF(RawData!A59<>\"\", RawData!A59,\"\")","v":""},{"$f":"IF(RawData!B59<>\"\", RawData!B59,\"\")","v":""},{"$f":"IF(RawData!C59<>\"\", RawData!C59,\"\")","v":""},{"$f":"IF(RawData!D59<>\"\", RawData!D59,\"\")","v":""},{"$f":"IF(RawData!E59<>\"\", RawData!E59,\"\")","v":""},{"$f":"IF(RawData!F59<>\"\", RawData!F59,\"\")","v":""},{"$f":"IF(RawData!G59<>\"\", RawData!G59,\"\")","v":""},{"$f":"IF(RawData!H59<>\"\", RawData!H59,\"\")","v":""},{"$f":"IF(RawData!I59<>\"\", RawData!I59,\"\")","v":""},{"$f":"IF(RawData!J59<>\"\", RawData!J59,\"\")","v":""},"","","","","",false,false,false,false,false,"","",""]
[{"$f":"IF(RawData!A60<>\"\", RawData!A60,\"\")","v":""},{"$f":"IF(RawData!B60<>\"\", RawData!B60,\"\")","v":""},{"$f":"IF(RawData!C60<>\"\", RawData!C60,\"\")","v":""},{"$f":"IF(RawData!D60<>\"\", RawData!D60,\"\")","v":""},{"$f":"IF(RawData!E60<>\"\", RawData!E60,\"\")","v":""},{"$f":"IF(RawData!F60<>\"\", RawData!F60,\"\")","v":""},{"$f":"IF(RawData!G60<>\"\", RawData!G60,\"\")","v":""},{"$f":"IF(RawData!H60<>\"\", RawData!H60,\"\")","v":""},{"$f":"IF(RawData!I60<>\"\", RawData!I60,\"\")","v":""},{"$f":"IF(RawData!J60<>\"\", RawData!J60,\"\")","v":""},"","","","","",false,false,false,false,false,"","",""]
[{"$f":"IF(RawData!A61<>\"\", RawData!A61,\"\")","v":""},{"$f":"IF(RawData!B61<>\"\", RawData!B61,\"\")","v":""},{"$f":"IF(RawData!C61<>\"\", RawData!C61,\"\")","v":""},{"$f":"IF(RawData!D61<>\"\", RawData!D61,\"\")","v":""},{"$f":"IF(RawData!E61<>\"\", RawData!E61,\"\")","v":""},{"$f":"IF(RawData!F61<>\"\", RawData!F61,\"\")","v":""},{"$f":"IF(RawData!G61<>\"\", RawData!G61,\"\")","v":""},{"$f":"IF(RawData!H61<>\"\", RawData!H61,\"\")","v":""},{"$f":"IF(RawData!I61<>\"\", RawData!I61,\"\")","v":""},{"$f":"IF(RawData!J61<>\"\", RawData!J61,\"\")","v":""},"","","","","",false,false,false,false,false,"","",""]
[{"$f":"IF(RawData!A62<>\"\", RawData!A62,\"\")","v":""},{"$f":"IF(RawData!B62<>\"\", RawData!B62,\"\")","v":""},{"$f":"IF(RawData!C62<>\"\", RawData!C62,\"\")","v":""},{"$f":"IF(RawData!D62<>\"\", RawData!D62,\"\")","v":""},{"$f":"IF(RawData!E62<>\"\", RawData!E62,\"\")","v":""},{"$f":"IF(RawData!F62<>\"\", RawData!F62,\"\")","v":""},{"$f":"IF(RawData!G62<>\"\", RawData!G62,\"\")","v":""},{"$f":"IF(RawData!H62<>\"\", RawData!H62,\"\")","v":""},{"$f":"IF(RawData!I62<>\"\", RawData!I62,\"\")","v":""},{"$f":"IF(RawData!J62<>\"\", RawData!J62,\"\")","v":""},"","","","","",false,false,false,false,false,"","",""]
[{"$f":"IF(RawData!A63<>\"\", RawData!A63,\"\")","v":""},{"$f":"IF(RawData!B63<>\"\", RawData!B63,\"\")","v":""},{"$f":"IF(RawData!C63<>\"\", RawData!C63,\"\")","v":""},{"$f":"IF(RawData!D63<>\"\", RawData!D63,\"\")","v":""},{"$f":"IF(RawData!E63<>\"\", RawData!E63,\"\")","v":""},{"$f":"IF(RawData!F63<>\"\", RawData!F63,\"\")","v":""},{"$f":"IF(RawData!G63<>\"\", RawData!G63,\"\")","v":""},{"$f":"IF(RawData!H63<>\"\", RawData!H63,\"\")","v":""},{"$f":"IF(RawData!I63<>\"\", RawData!I63,\"\")","v":""},{"$f":"IF(RawData!J63<>\"\", RawData!J63,\"\")","v":""},"","","","","",false,false,false,false,false,"","",""]
[{"$f":"IF(RawData!A64<>\"\", RawData!A64,\"\")","v":""},{"$f":"IF(RawData!B64<>\"\", RawData!B64,\"\")","v":""},{"$f":"IF(RawData!C64<>\"\", RawData!C64,\"\")","v":""},{"$f":"IF(RawData!D64<>\"\", RawData!D64,\"\")","v":""},{"$f":"IF(RawData!E64<>\"\", RawData!E64,\"\")","v":""},{"$f":"IF(RawData!F64<>\"\", RawData!F64,\"\")","v":""},{"$f":"IF(RawData!G64<>\"\", RawData!G64,\"\")","v":""},{"$f":"IF(RawData!H64<>\"\", RawData!H64,\"\")","v":""},{"$f":"IF(RawData!I64<>\"\", RawData!I64,\"\")","v":""},{"$f":"IF(RawData!J64<>\"\", RawData!J64,\"\")","v":""},"","","","","",false,false,false,false,false,"","",""]
[{"$f":"IF(RawData!A65<>\"\", RawData!A65,\"\")","v":""},{"$f":"IF(RawData!B65<>\"\", RawData!B65,\"\")","v":""},{"$f":"IF(RawData!C65<>\"\", RawData!C65,\"\")","v":""},{"$f":"IF(RawData!D65<>\"\", RawData!D65,\"\")","v":""},{"$f":"IF(RawData!E65<>\"\", RawData!E65,\"\")","v":""},{"$f":"IF(RawData!F65<>\"\", RawData!F65,\"\")","v":""},{"$f":"IF(RawData!G65<>\"\", RawData!G65,\"\")","v":""},{"$f":"IF(RawData!H65<>\"\", RawData!H65,\"\")","v":""},{"$f":"IF(RawData!I65<>\"\", RawData!I65,\"\")","v":""},{"$f":"IF(RawData!J65<>\"\", RawData!J65,\"\")","v":""},"","","","","",false,false,false,false,false,"","",""]
[{"$f":"IF(RawData!A66<>\"\", RawData!A66,\"\")","v":""},{"$f":"IF(RawData!B66<>\"\", RawData!B66,\"\")","v":""},{"$f":"IF(RawData!C66<>\"\", RawData!C66,\"\")","v":""},{"$f":"IF(RawData!D66<>\"\", RawData!D66,\"\")","v":""},{"$f":"IF(RawData!E66<>\"\", RawData!E66,\"\")","v":""},{"$f":"IF(RawData!F66<>\"\", RawData!F66,\"\")","v":""},{"$f":"IF(RawData!G66<>\"\", RawData!G66,\"\")","v":""},{"$f":"IF(RawData!H66<>\"\", RawData!H66,\"\")","v":""},{"$f":"IF(RawData!I66<>\"\", RawData!I66,\"\")","v":""},{"$f":"IF(RawData!J66<>\"\", RawData!J66,\"\")","v":""},"","","","","",false,false,false,false,false,"","",""]
[{"$f":"IF(RawData!A67<>\"\", RawData!A67,\"\")","v":""},{"$f":"IF(RawData!B67<>\"\", RawData!B67,\"\")","v":""},{"$f":"IF(RawData!C67<>\"\", RawData!C67,\"\")","v":""},{"$f":"IF(RawData!D67<>\"\", RawData!D67,\"\")","v":""},{"$f":"IF(RawData!E67<>\"\", RawData!E67,\"\")","v":""},{"$f":"IF(RawData!F67<>\"\", RawData!F67,\"\")","v":""},{"$f":"IF(RawData!G67<>\"\", RawData!G67,\"\")","v":""},{"$f":"IF(RawData!H67<>\"\", RawData!H67,\"\")","v":""},{"$f":"IF(RawData!I67<>\"\", RawData!I67,\"\")","v":""},{"$f":"IF(RawData!J67<>\"\", RawData!J67,\"\")","v":""},"","","","","",false,false,false,false,false,"","",""]
[{"$f":"IF(RawData!A68<>\"\", RawData!A68,\"\")","v":""},{"$f":"IF(RawData!B68<>\"\", RawData!B68,\"\")","v":""},{"$f":"IF(RawData!C68<>\"\", RawData!C68,\"\")","v":""},{"$f":"IF(RawData!D68<>\"\", RawData!D68,\"\")","v":""},{"$f":"IF(RawData!E68<>\"\", RawData!E68,\"\")","v":""},{"$f":"IF(RawData!F68<>\"\", RawData!F68,\"\")","v":""},{"$f":"IF(RawData!G68<>\"\", RawData!G68,\"\")","v":""},{"$f":"IF(RawData!H68<>\"\", RawData!H68,\"\")","v":""},{"$f":"IF(RawData!I68<>\"\", RawData!I68,\"\")","v":""},{"$f":"IF(RawData!J68<>\"\", RawData!J68,\"\")","v":""},"","","","","",false,false,false,false,false,"","",""]
[{"$f":"IF(RawData!A69<>\"\", RawData!A69,\"\")","v":""},{"$f":"IF(RawData!B69<>\"\", RawData!B69,\"\")","v":""},{"$f":"IF(RawData!C69<>\"\", RawData!C69,\"\")","v":""},{"$f":"IF(RawData!D69<>\"\", RawData!D69,\"\")","v":""},{"$f":"IF(RawData!E69<>\"\", RawData!E69,\"\")","v":""},{"$f":"IF(RawData!F69<>\"\", RawData!F69,\"\")","v":""},{"$f":"IF(RawData!G69<>\"\", RawData!G69,\"\")","v":""},{"$f":"IF(RawData!H69<>\"\", RawData!H69,\"\")","v":""},{"$f":"IF(RawData!I69<>\"\", RawData!I69,\"\")","v":""},{"$f":"IF(RawData!J69<>\"\", RawData!J69,\"\")","v":""},"","","","","",false,false,false,false,false,"","",""]
[{"$f":"IF(RawData!A70<>\"\", RawData!A70,\"\")","v":""},{"$f":"IF(RawData!B70<>\"\", RawData!B70,\"\")","v":""},{"$f":"IF(RawData!C70<>\"\", RawData!C70,\"\")","v":""},{"$f":"IF(RawData!D70<>\"\", RawData!D70,\"\")","v":""},{"$f":"IF(RawData!E70<>\"\", RawData!E70,\"\")","v":""},{"$f":"IF(RawData!F70<>\"\", RawData!F70,\"\")","v":""},{"$f":"IF(RawData!G70<>\"\", RawData!G70,\"\")","v":""},{"$f":"IF(RawData!H70<>\"\", RawData!H70,\"\")","v":""},{"$f":"IF(RawData!I70<>\"\", RawData!I70,\"\")","v":""},{"$f":"IF(RawData!J70<>\"\", RawData!J70,\"\")","v":""},"","","","","",false,false,false,false,false,"","",""]
[{"$f":"IF(RawData!A71<>\"\", RawData!A71,\"\")","v":""},{"$f":"IF(RawData!B71<>\"\", RawData!B71,\"\")","v":""},{"$f":"IF(RawData!C71<>\"\", RawData!C71,\"\")","v":""},{"$f":"IF(RawData!D71<>\"\", RawData!D71,\"\")","v":""},{"$f":"IF(RawData!E71<>\"\", RawData!E71,\"\")","v":""},{"$f":"IF(RawData!F71<>\"\", RawData!F71,\"\")","v":""},{"$f":"IF(RawData!G71<>\"\", RawData!G71,\"\")","v":""},{"$f":"IF(RawData!H71<>\"\", RawData!H71,\"\")","v":""},{"$f":"IF(RawData!I71<>\"\", RawData!I71,\"\")","v":""},{"$f":"IF(RawData!J71<>\"\", RawData!J71,\"\")","v":""},"","","",{"$f":"IF(G71<>\"\",IF(G71>=4, 1, 0),\"\")","v":""},"",false,false,false,false,false,"","",""]
[{"$f":"IF(RawData!A72<>\"\", RawData!A72,\"\")","v":""},{"$f":"IF(RawData!B72<>\"\", RawData!B72,\"\")","v":""},{"$f":"IF(RawData!C72<>\"\", RawData!C72,\"\")","v":""},{"$f":"IF(RawData!D72<>\"\", RawData!D72,\"\")","v":""},{"$f":"IF(RawData!E72<>\"\", RawData!E72,\"\")","v":""},{"$f":"IF(RawData!F72<>\"\", RawData!F72,\"\")","v":""},{"$f":"IF(RawData!G72<>\"\", RawData!G72,\"\")","v":""},{"$f":"IF(RawData!H72<>\"\", RawData!H72,\"\")","v":""},{"$f":"IF(RawData!I72<>\"\", RawData!I72,\"\")","v":""},{"$f":"IF(RawData!J72<>\"\", RawData!J72,\"\")","v":""},"","","","","",false,false,false,false,false,"","",""]
[{"$f":"IF(RawData!A73<>\"\", RawData!A73,\"\")","v":""},{"$f":"IF(RawData!B73<>\"\", RawData!B73,\"\")","v":""},{"$f":"IF(RawData!C73<>\"\", RawData!C73,\"\")","v":""},{"$f":"IF(RawData!D73<>\"\", RawData!D73,\"\")","v":""},{"$f":"IF(RawData!E73<>\"\", RawData!E73,\"\")","v":""},{"$f":"IF(RawData!F73<>\"\", RawData!F73,\"\")","v":""},{"$f":"IF(RawData!G73<>\"\", RawData!G73,\"\")","v":""},{"$f":"IF(RawData!H73<>\"\", RawData!H73,\"\")","v":""},{"$f":"IF(RawData!I73<>\"\", RawData!I73,\"\")","v":""},{"$f":"IF(RawData!J73<>\"\", RawData!J73,\"\")","v":""},"","","","","",false,false,false,false,false,"","",""]
[{"$f":"IF(RawData!A74<>\"\", RawData!A74,\"\")","v":""},{"$f":"IF(RawData!B74<>\"\", RawData!B74,\"\")","v":""},{"$f":"IF(RawData!C74<>\"\", RawData!C74,\"\")","v":""},{"$f":"IF(RawData!D74<>\"\", RawData!D74,\"\")","v":""},{"$f":"IF(RawData!E74<>\"\", RawData!E74,\"\")","v":""},{"$f":"IF(RawData!F74<>\"\", RawData!F74,\"\")","v":""},{"$f":"IF(RawData!G74<>\"\", RawData!G74,\"\")","v":""},{"$f":"IF(RawData!H74<>\"\", RawData!H74,\"\")","v":""},{"$f":"IF(RawData!I74<>\"\", RawData!I74,\"\")","v":""},{"$f":"IF(RawData!J74<>\"\", RawData!J74,\"\")","v":""},"","","","","",false,false,false,false,false,"","",""]
[{"$f":"IF(RawData!A75<>\"\", RawData!A75,\"\")","v":""},{"$f":"IF(RawData!B75<>\"\", RawData!B75,\"\")","v":""},{"$f":"IF(RawData!C75<>\"\", RawData!C75,\"\")","v":""},{"$f":"IF(RawData!D75<>\"\", RawData!D75,\"\")","v":""},{"$f":"IF(RawData!E75<>\"\", RawData!E75,\"\")","v":""},{"$f":"IF(RawData!F75<>\"\", RawData!F75,\"\")","v":""},{"$f":"IF(RawData!G75<>\"\", RawData!G75,\"\")","v":""},{"$f":"IF(RawData!H75<>\"\", RawData!H75,\"\")","v":""},{"$f":"IF(RawData!I75<>\"\", RawData!I75,\"\")","v":""},{"$f":"IF(RawData!J75<>\"\", RawData!J75,\"\")","v":""},"","","","","",false,false,false,false,false,"","",""]
[{"$f":"IF(RawData!A76<>\"\", RawData!A76,\"\")","v":""},{"$f":"IF(RawData!B76<>\"\", RawData!B76,\"\")","v":""},{"$f":"IF(RawData!C76<>\"\", RawData!C76,\"\")","v":""},{"$f":"IF(RawData!D76<>\"\", RawData!D76,\"\")","v":""},{"$f":"IF(RawData!E76<>\"\", RawData!E76,\"\")","v":""},{"$f":"IF(RawData!F76<>\"\", RawData!F76,\"\")","v":""},{"$f":"IF(RawData!G76<>\"\", RawData!G76,\"\")","v":""},{"$f":"IF(RawData!H76<>\"\", RawData!H76,\"\")","v":""},{"$f":"IF(RawData!I76<>\"\", RawData!I76,\"\")","v":""},{"$f":"IF(RawData!J76<>\"\", RawData!J76,\"\")","v":""},"","","","","",false,false,false,false,false,"","",""]
[{"$f":"IF(RawData!A77<>\"\", RawData!A77,\"\")","v":""},{"$f":"IF(RawData!B77<>\"\", RawData!B77,\"\")","v":""},{"$f":"IF(RawData!C77<>\"\", RawData!C77,\"\")","v":""},{"$f":"IF(RawData!D77<>\"\", RawData!D77,\"\")","v":""},{"$f":"IF(RawData!E77<>\"\", RawData!E77,\"\")","v":""},{"$f":"IF(RawData!F77<>\"\", RawData!F77,\"\")","v":""},{"$f":"IF(RawData!G77<>\"\", RawData!G77,\"\")","v":""},{"$f":"IF(RawData!H77<>\"\", RawData!H77,\"\")","v":""},{"$f":"IF(RawData!I77<>\"\", RawData!I77,\"\")","v":""},{"$f":"IF(RawData!J77<>\"\", RawData!J77,\"\")","v":""},"","","","","",false,false,false,false,false,"","",""]
[{"$f":"IF(RawData!A78<>\"\", RawData!A78,\"\")","v":""},{"$f":"IF(RawData!B78<>\"\", RawData!B78,\"\")","v":""},{"$f":"IF(RawData!C78<>\"\", RawData!C78,\"\")","v":""},{"$f":"IF(RawData!D78<>\"\", RawData!D78,\"\")","v":""},{"$f":"IF(RawData!E78<>\"\", RawData!E78,\"\")","v":""},{"$f":"IF(RawData!F78<>\"\", RawData!F78,\"\")","v":""},{"$f":"IF(RawData!G78<>\"\", RawData!G78,\"\")","v":""},{"$f":"IF(RawData!H78<>\"\", RawData!H78,\"\")","v":""},{"$f":"IF(RawData!I78<>\"\", RawData!I78,\"\")","v":""},{"$f":"IF(RawData!J78<>\"\", RawData!J78,\"\")","v":""},"","","","","",false,false,false,false,false,"","",""]
[{"$f":"IF(RawData!A79<>\"\", RawData!A79,\"\")","v":""},{"$f":"IF(RawData!B79<>\"\", RawData!B79,\"\")","v":""},{"$f":"IF(RawData!C79<>\"\", RawData!C79,\"\")","v":""},{"$f":"IF(RawData!D79<>\"\", RawData!D79,\"\")","v":""},{"$f":"IF(RawData!E79<>\"\", RawData!E79,\"\")","v":""},{"$f":"IF(RawData!F79<>\"\", RawData!F79,\"\")","v":""},{"$f":"IF(RawData!G79<>\"\", RawData!G79,\"\")","v":""},{"$f":"IF(RawData!H79<>\"\", RawData!H79,\"\")","v":""},{"$f":"IF(RawData!I79<>\"\", RawData!I79,\"\")","v":""},{"$f":"IF(RawData!J79<>\"\", RawData!J79,\"\")","v":""},"","","","","",false,false,false,false,false,"","",""]
[{"$f":"IF(RawData!A80<>\"\", RawData!A80,\"\")","v":""},{"$f":"IF(RawData!B80<>\"\", RawData!B80,\"\")","v":""},{"$f":"IF(RawData!C80<>\"\", RawData!C80,\"\")","v":""},{"$f":"IF(RawData!D80<>\"\", RawData!D80,\"\")","v":""},{"$f":"IF(RawData!E80<>\"\", RawData!E80,\"\")","v":""},{"$f":"IF(RawData!F80<>\"\", RawData!F80,\"\")","v":""},{"$f":"IF(RawData!G80<>\"\", RawData!G80,\"\")","v":""},{"$f":"IF(RawData!H80<>\"\", RawData!H80,\"\")","v":""},{"$f":"IF(RawData!I80<>\"\", RawData!I80,\"\")","v":""},{"$f":"IF(RawData!J80<>\"\", RawData!J80,\"\")","v":""},"","","","","",false,false,false,false,false,"","",""]
[{"$f":"IF(RawData!A81<>\"\", RawData!A81,\"\")","v":""},{"$f":"IF(RawData!B81<>\"\", RawData!B81,\"\")","v":""},{"$f":"IF(RawData!C81<>\"\", RawData!C81,\"\")","v":""},{"$f":"IF(RawData!D81<>\"\", RawData!D81,\"\")","v":""},{"$f":"IF(RawData!E81<>\"\", RawData!E81,\"\")","v":""},{"$f":"IF(RawData!F81<>\"\", RawData!F81,\"\")","v":""},{"$f":"IF(RawData!G81<>\"\", RawData!G81,\"\")","v":""},{"$f":"IF(RawData!H81<>\"\", RawData!H81,\"\")","v":""},{"$f":"IF(RawData!I81<>\"\", RawData!I81,\"\")","v":""},{"$f":"IF(RawData!J81<>\"\", RawData!J81,\"\")","v":""},"","","","","",false,false,false,false,false,"","",""]
[{"$f":"IF(RawData!A82<>\"\", RawData!A82,\"\")","v":""},{"$f":"IF(RawData!B82<>\"\", RawData!B82,\"\")","v":""},{"$f":"IF(RawData!C82<>\"\", RawData!C82,\"\")","v":""},{"$f":"IF(RawData!D82<>\"\", RawData!D82,\"\")","v":""},{"$f":"IF(RawData!E82<>\"\", RawData!E82,\"\")","v":""},{"$f":"IF(RawData!F82<>\"\", RawData!F82,\"\")","v":""},{"$f":"IF(RawData!G82<>\"\", RawData!G82,\"\")","v":""},{"$f":"IF(RawData!H82<>\"\", RawData!H82,\"\")","v":""},{"$f":"IF(RawData!I82<>\"\", RawData!I82,\"\")","v":""},{"$f":"IF(RawData!J82<>\"\", RawData!J82,\"\")","v":""},"","","","","",false,false,false,false,false,"","",""]
[{"$f":"IF(RawData!A83<>\"\", RawData!A83,\"\")","v":""},{"$f":"IF(RawData!B83<>\"\", RawData!B83,\"\")","v":""},{"$f":"IF(RawData!C83<>\"\", RawData!C83,\"\")","v":""},{"$f":"IF(RawData!D83<>\"\", RawData!D83,\"\")","v":""},{"$f":"IF(RawData!E83<>\"\", RawData!E83,\"\")","v":""},{"$f":"IF(RawData!F83<>\"\", RawData!F83,\"\")","v":""},{"$f":"IF(RawData!G83<>\"\", RawData!G83,\"\")","v":""},{"$f":"IF(RawData!H83<>\"\", RawData!H83,\"\")","v":""},{"$f":"IF(RawData!I83<>\"\", RawData!I83,\"\")","v":""},{"$f":"IF(RawData!J83<>\"\", RawData!J83,\"\")","v":""},"","","","","",false,false,false,false,false,"","",""]
[{"$f":"IF(RawData!A84<>\"\", RawData!A84,\"\")","v":""},{"$f":"IF(RawData!B84<>\"\", RawData!B84,\"\")","v":""},{"$f":"IF(RawData!C84<>\"\", RawData!C84,\"\")","v":""},{"$f":"IF(RawData!D84<>\"\", RawData!D84,\"\")","v":""},{"$f":"IF(RawData!E84<>\"\", RawData!E84,\"\")","v":""},{"$f":"IF(RawData!F84<>\"\", RawData!F84,\"\")","v":""},{"$f":"IF(RawData!G84<>\"\", RawData!G84,\"\")","v":""},{"$f":"IF(RawData!H84<>\"\", RawData!H84,\"\")","v":""},{"$f":"IF(RawData!I84<>\"\", RawData!I84,\"\")","v":""},{"$f":"IF(RawData!J84<>\"\", RawData!J84,\"\")","v":""},"","","","","",false,false,false,false,false,"","",""]
[{"$f":"IF(RawData!A85<>\"\", RawData!A85,\"\")","v":""},{"$f":"IF(RawData!B85<>\"\", RawData!B85,\"\")","v":""},{"$f":"IF(RawData!C85<>\"\", RawData!C85,\"\")","v":""},{"$f":"IF(RawData!D85<>\"\", RawData!D85,\"\")","v":""},{"$f":"IF(RawData!E85<>\"\", RawData!E85,\"\")","v":""},{"$f":"IF(RawData!F85<>\"\", RawData!F85,\"\")","v":""},{"$f":"IF(RawData!G85<>\"\", RawData!G85,\"\")","v":""},{"$f":"IF(RawData!H85<>\"\", RawData!H85,\"\")","v":""},{"$f":"IF(RawData!I85<>\"\", RawData!I85,\"\")","v":""},{"$f":"IF(RawData!J85<>\"\", RawData!J85,\"\")","v":""},"","","","","",false,false,false,false,false,"","",""]
[{"$f":"IF(RawData!A86<>\"\", RawData!A86,\"\")","v":""},{"$f":"IF(RawData!B86<>\"\", RawData!B86,\"\")","v":""},{"$f":"IF(RawData!C86<>\"\", RawData!C86,\"\")","v":""},{"$f":"IF(RawData!D86<>\"\", RawData!D86,\"\")","v":""},{"$f":"IF(RawData!E86<>\"\", RawData!E86,\"\")","v":""},{"$f":"IF(RawData!F86<>\"\", RawData!F86,\"\")","v":""},{"$f":"IF(RawData!G86<>\"\", RawData!G86,\"\")","v":""},{"$f":"IF(RawData!H86<>\"\", RawData!H86,\"\")","v":""},{"$f":"IF(RawData!I86<>\"\", RawData!I86,\"\")","v":""},{"$f":"IF(RawData!J86<>\"\", RawData!J86,\"\")","v":""},"","","","","",false,false,false,false,false,"","",""]
[{"$f":"IF(RawData!A87<>\"\", RawData!A87,\"\")","v":""},{"$f":"IF(RawData!B87<>\"\", RawData!B87,\"\")","v":""},{"$f":"IF(RawData!C87<>\"\", RawData!C87,\"\")","v":""},{"$f":"IF(RawData!D87<>\"\", RawData!D87,\"\")","v":""},{"$f":"IF(RawData!E87<>\"\", RawData!E87,\"\")","v":""},{"$f":"IF(RawData!F87<>\"\", RawData!F87,\"\")","v":""},{"$f":"IF(RawData!G87<>\"\", RawData!G87,\"\")","v":""},{"$f":"IF(RawData!H87<>\"\", RawData!H87,\"\")","v":""},{"$f":"IF(RawData!I87<>\"\", RawData!I87,\"\")","v":""},{"$f":"IF(RawData!J87<>\"\", RawData!J87,\"\")","v":""},"","","","","",false,false,false,false,false,"","",""]
[{"$f":"IF(RawData!A88<>\"\", RawData!A88,\"\")","v":""},{"$f":"IF(RawData!B88<>\"\", RawData!B88,\"\")","v":""},{"$f":"IF(RawData!C88<>\"\", RawData!C88,\"\")","v":""},{"$f":"IF(RawData!D88<>\"\", RawData!D88,\"\")","v":""},{"$f":"IF(RawData!E88<>\"\", RawData!E88,\"\")","v":""},{"$f":"IF(RawData!F88<>\"\", RawData!F88,\"\")","v":""},{"$f":"IF(RawData!G88<>\"\", RawData!G88,\"\")","v":""},{"$f":"IF(RawData!H88<>\"\", RawData!H88,\"\")","v":""},{"$f":"IF(RawData!I88<>\"\", RawData!I88,\"\")","v":""},{"$f":"IF(RawData!J88<>\"\", RawData!J88,\"\")","v":""},"","","","","",false,false,false,false,false,"","",""]
[{"$f":"IF(RawData!A89<>\"\", RawData!A89,\"\")","v":""},{"$f":"IF(RawData!B89<>\"\", RawData!B89,\"\")","v":""},{"$f":"IF(RawData!C89<>\"\", RawData!C89,\"\")","v":""},{"$f":"IF(RawData!D89<>\"\", RawData!D89,\"\")","v":""},{"$f":"IF(RawData!E89<>\"\", RawData!E89,\"\")","v":""},{"$f":"IF(RawData!F89<>\"\", RawData!F89,\"\")","v":""},{"$f":"IF(RawData!G89<>\"\", RawData!G89,\"\")","v":""},{"$f":"IF(RawData!H89<>\"\", RawData!H89,\"\")","v":""},{"$f":"IF(RawData!I89<>\"\", RawData!I89,\"\")","v":""},{"$f":"IF(RawData!J89<>\"\", RawData!J89,\"\")","v":""},"","","","","",false,false,false,false,false,"","",""]
[{"$f":"IF(RawData!A90<>\"\", RawData!A90,\"\")","v":""},{"$f":"IF(RawData!B90<>\"\", RawData!B90,\"\")","v":""},{"$f":"IF(RawData!C90<>\"\", RawData!C90,\"\")","v":""},{"$f":"IF(RawData!D90<>\"\", RawData!D90,\"\")","v":""},{"$f":"IF(RawData!E90<>\"\", RawData!E90,\"\")","v":""},{"$f":"IF(RawData!F90<>\"\", RawData!F90,\"\")","v":""},{"$f":"IF(RawData!G90<>\"\", RawData!G90,\"\")","v":""},{"$f":"IF(RawData!H90<>\"\", RawData!H90,\"\")","v":""},{"$f":"IF(RawData!I90<>\"\", RawData!I90,\"\")","v":""},{"$f":"IF(RawData!J90<>\"\", RawData!J90,\"\")","v":""},"","","","","",false,false,false,false,false,"","",""]
[{"$f":"IF(RawData!A91<>\"\", RawData!A91,\"\")","v":""},{"$f":"IF(RawData!B91<>\"\", RawData!B91,\"\")","v":""},{"$f":"IF(RawData!C91<>\"\", RawData!C91,\"\")","v":""},{"$f":"IF(RawData!D91<>\"\", RawData!D91,\"\")","v":""},{"$f":"IF(RawData!E91<>\"\", RawData!E91,\"\")","v":""},{"$f":"IF(RawData!F91<>\"\", RawData!F91,\"\")","v":""},{"$f":"IF(RawData!G91<>\"\", RawData!G91,\"\")","v":""},{"$f":"IF(RawData!H91<>\"\", RawData!H91,\"\")","v":""},{"$f":"IF(RawData!I91<>\"\", RawData!I91,\"\")","v":""},{"$f":"IF(RawData!J91<>\"\", RawData!J91,\"\")","v":""},"","","","","",false,false,false,false,false,"","",""]
[{"$f":"IF(RawData!A92<>\"\", RawData!A92,\"\")","v":""},{"$f":"IF(RawData!B92<>\"\", RawData!B92,\"\")","v":""},{"$f":"IF(RawData!C92<>\"\", RawData!C92,\"\")","v":""},{"$f":"IF(RawData!D92<>\"\", RawData!D92,\"\")","v":""},{"$f":"IF(RawData!E92<>\"\", RawData!E92,\"\")","v":""},{"$f":"IF(RawData!F92<>\"\", RawData!F92,\"\")","v":""},{"$f":"IF(RawData!G92<>\"\", RawData!G92,\"\")","v":""},{"$f":"IF(RawData!H92<>\"\", RawData!H92,\"\")","v":""},{"$f":"IF(RawData!I92<>\"\", RawData!I92,\"\")","v":""},{"$f":"IF(RawData!J92<>\"\", RawData!J92,\"\")","v":""},"","","","","",false,false,false,false,false,"","",""]
[{"$f":"IF(RawData!A93<>\"\", RawData!A93,\"\")","v":""},{"$f":"IF(RawData!B93<>\"\", RawData!B93,\"\")","v":""},{"$f":"IF(RawData!C93<>\"\", RawData!C93,\"\")","v":""},{"$f":"IF(RawData!D93<>\"\", RawData!D93,\"\")","v":""},{"$f":"IF(RawData!E93<>\"\", RawData!E93,\"\")","v":""},{"$f":"IF(RawData!F93<>\"\", RawData!F93,\"\")","v":""},{"$f":"IF(RawData!G93<>\"\", RawData!G93,\"\")","v":""},{"$f":"IF(RawData!H93<>\"\", RawData!H93,\"\")","v":""},{"$f":"IF(RawData!I93<>\"\", RawData!I93,\"\")","v":""},{"$f":"IF(RawData!J93<>\"\", RawData!J93,\"\")","v":""},"","","","","",false,false,false,false,false,"","",""]
[{"$f":"IF(RawData!A94<>\"\", RawData!A94,\"\")","v":""},{"$f":"IF(RawData!B94<>\"\", RawData!B94,\"\")","v":""},{"$f":"IF(RawData!C94<>\"\", RawData!C94,\"\")","v":""},{"$f":"IF(RawData!D94<>\"\", RawData!D94,\"\")","v":""},{"$f":"IF(RawData!E94<>\"\", RawData!E94,\"\")","v":""},{"$f":"IF(RawData!F94<>\"\", RawData!F94,\"\")","v":""},{"$f":"IF(RawData!G94<>\"\", RawData!G94,\"\")","v":""},{"$f":"IF(RawData!H94<>\"\", RawData!H94,\"\")","v":""},{"$f":"IF(RawData!I94<>\"\", RawData!I94,\"\")","v":""},{"$f":"IF(RawData!J94<>\"\", RawData!J94,\"\")","v":""},"","","","","",false,false,false,false,false,"","",""]
[{"$f":"IF(RawData!A95<>\"\", RawData!A95,\"\")","v":""},{"$f":"IF(RawData!B95<>\"\", RawData!B95,\"\")","v":""},{"$f":"IF(RawData!C95<>\"\", RawData!C95,\"\")","v":""},{"$f":"IF(RawData!D95<>\"\", RawData!D95,\"\")","v":""},{"$f":"IF(RawData!E95<>\"\", RawData!E95,\"\")","v":""},{"$f":"IF(RawData!F95<>\"\", RawData!F95,\"\")","v":""},{"$f":"IF(RawData!G95<>\"\", RawData!G95,\"\")","v":""},{"$f":"IF(RawData!H95<>\"\", RawData!H95,\"\")","v":""},{"$f":"IF(RawData!I95<>\"\", RawData!I95,\"\")","v":""},{"$f":"IF(RawData!J95<>\"\", RawData!J95,\"\")","v":""},"","","","","",false,false,false,false,false,"","",""]
[{"$f":"IF(RawData!A96<>\"\", RawData!A96,\"\")","v":""},{"$f":"IF(RawData!B96<>\"\", RawData!B96,\"\")","v":""},{"$f":"IF(RawData!C96<>\"\", RawData!C96,\"\")","v":""},{"$f":"IF(RawData!D96<>\"\", RawData!D96,\"\")","v":""},{"$f":"IF(RawData!E96<>\"\", RawData!E96,\"\")","v":""},{"$f":"IF(RawData!F96<>\"\", RawData!F96,\"\")","v":""},{"$f":"IF(RawData!G96<>\"\", RawData!G96,\"\")","v":""},{"$f":"IF(RawData!H96<>\"\", RawData!H96,\"\")","v":""},{"$f":"IF(RawData!I96<>\"\", RawData!I96,\"\")","v":""},{"$f":"IF(RawData!J96<>\"\", RawData!J96,\"\")","v":""},"","","","","",false,false,false,false,false,"","",""]
[{"$f":"IF(RawData!A97<>\"\", RawData!A97,\"\")","v":""},{"$f":"IF(RawData!B97<>\"\", RawData!B97,\"\")","v":""},{"$f":"IF(RawData!C97<>\"\", RawData!C97,\"\")","v":""},{"$f":"IF(RawData!D97<>\"\", RawData!D97,\"\")","v":""},{"$f":"IF(RawData!E97<>\"\", RawData!E97,\"\")","v":""},{"$f":"IF(RawData!F97<>\"\", RawData!F97,\"\")","v":""},{"$f":"IF(RawData!G97<>\"\", RawData!G97,\"\")","v":""},{"$f":"IF(RawData!H97<>\"\", RawData!H97,\"\")","v":""},{"$f":"IF(RawData!I97<>\"\", RawData!I97,\"\")","v":""},{"$f":"IF(RawData!J97<>\"\", RawData!J97,\"\")","v":""},"","","","","",false,false,false,false,false,"","",""]
[{"$f":"IF(RawData!A98<>\"\", RawData!A98,\"\")","v":""},{"$f":"IF(RawData!B98<>\"\", RawData!B98,\"\")","v":""},{"$f":"IF(RawData!C98<>\"\", RawData!C98,\"\")","v":""},{"$f":"IF(RawData!D98<>\"\", RawData!D98,\"\")","v":""},{"$f":"IF(RawData!E98<>\"\", RawData!E98,\"\")","v":""},{"$f":"IF(RawData!F98<>\"\", RawData!F98,\"\")","v":""},{"$f":"IF(RawData!G98<>\"\", RawData!G98,\"\")","v":""},{"$f":"IF(RawData!H98<>\"\", RawData!H98,\"\")","v":""},{"$f":"IF(RawData!I98<>\"\", RawData!I98,\"\")","v":""},{"$f":"IF(RawData!J98<>\"\", RawData!J98,\"\")","v":""},"","","","","",false,false,false,false,false,"","",""]
[{"$f":"IF(RawData!A99<>\"\", RawData!A99,\"\")","v":""},{"$f":"IF(RawData!B99<>\"\", RawData!B99,\"\")","v":""},{"$f":"IF(RawData!C99<>\"\", RawData!C99,\"\")","v":""},{"$f":"IF(RawData!D99<>\"\", RawData!D99,\"\")","v":""},{"$f":"IF(RawData!E99<>\"\", RawData!E99,\"\")","v":""},{"$f":"IF(RawData!F99<>\"\", RawData!F99,\"\")","v":""},{"$f":"IF(RawData!G99<>\"\", RawData!G99,\"\")","v":""},{"$f":"IF(RawData!H99<>\"\", RawData!H99,\"\")","v":""},{"$f":"IF(RawData!I99<>\"\", RawData!I99,\"\")","v":""},{"$f":"IF(RawData!J99<>\"\", RawData!J99,\"\")","v":""},"","","","","",false,false,false,false,false,"","",""]
[{"$f":"IF(RawData!A100<>\"\", RawData!A100,\"\")","v":""},{"$f":"IF(RawData!B100<>\"\", RawData!B100,\"\")","v":""},{"$f":"IF(RawData!C100<>\"\", RawData!C100,\"\")","v":""},{"$f":"IF(RawData!D100<>\"\", RawData!D100,\"\")","v":""},{"$f":"IF(RawData!E100<>\"\", RawData!E100,\"\")","v":""},{"$f":"IF(RawData!F100<>\"\", RawData!F100,\"\")","v":""},{"$f":"IF(RawData!G100<>\"\", RawData!G100,\"\")","v":""},{"$f":"IF(RawData!H100<>\"\", RawData!H100,\"\")","v":""},{"$f":"IF(RawData!I100<>\"\", RawData!I100,\"\")","v":""},{"$f":"IF(RawData!J100<>\"\", RawData!J100,\"\")","v":""},"","","","","",false,false,false,false,false,"","",""]
[{"$f":"IF(RawData!A101<>\"\", RawData!A101,\"\")","v":""},{"$f":"IF(RawData!B101<>\"\", RawData!B101,\"\")","v":""},{"$f":"IF(RawData!C101<>\"\", RawData!C101,\"\")","v":""},{"$f":"IF(RawData!D101<>\"\", RawData!D101,\"\")","v":""},{"$f":"IF(RawData!E101<>\"\", RawData!E101,\"\")","v":""},{"$f":"IF(RawData!F101<>\"\", RawData!F101,\"\")","v":""},{"$f":"IF(RawData!G101<>\"\", RawData!G101,\"\")","v":""},{"$f":"IF(RawData!H101<>\"\", RawData!H101,\"\")","v":""},{"$f":"IF(RawData!I101<>\"\", RawData!I101,\"\")","v":""},{"$f":"IF(RawData!J101<>\"\", RawData!J101,\"\")","v":""},"","","","","",false,false,false,false,false,"","",""]
[{"$f":"IF(RawData!A102<>\"\", RawData!A102,\"\")","v":""},{"$f":"IF(RawData!B102<>\"\", RawData!B102,\"\")","v":""},{"$f":"IF(RawData!C102<>\"\", RawData!C102,\"\")","v":""},{"$f":"IF(RawData!D102<>\"\", RawData!D102,\"\")","v":""},{"$f":"IF(RawData!E102<>\"\", RawData!E102,\"\")","v":""},{"$f":"IF(RawData!F102<>\"\", RawData!F102,\"\")","v":""},{"$f":"IF(RawData!G102<>\"\", RawData!G102,\"\")","v":""},{"$f":"IF(RawData!H102<>\"\", RawData!H102,\"\")","v":""},{"$f":"IF(RawData!I102<>\"\", RawData!I102,\"\")","v":""},{"$f":"IF(RawData!J102<>\"\", RawData!J102,\"\")","v":""},"","","","","",false,false,false,false,false,"","",""]
[{"$f":"IF(RawData!A103<>\"\", RawData!A103,\"\")","v":""},{"$f":"IF(RawData!B103<>\"\", RawData!B103,\"\")","v":""},{"$f":"IF(RawData!C103<>\"\", RawData!C103,\"\")","v":""},{"$f":"IF(RawData!D103<>\"\", RawData!D103,\"\")","v":""},{"$f":"IF(RawData!E103<>\"\", RawData!E103,\"\")","v":""},{"$f":"IF(RawData!F103<>\"\", RawData!F103,\"\")","v":""},{"$f":"IF(RawData!G103<>\"\", RawData!G103,\"\")","v":""},{"$f":"IF(RawData!H103<>\"\", RawData!H103,\"\")","v":""},{"$f":"IF(RawData!I103<>\"\", RawData!I103,\"\")","v":""},{"$f":"IF(RawData!J103<>\"\", RawData!J103,\"\")","v":""},"","","","","",false,false,false,false,false,"","",""]
[{"$f":"IF(RawData!A104<>\"\", RawData!A104,\"\")","v":""},{"$f":"IF(RawData!B104<>\"\", RawData!B104,\"\")","v":""},{"$f":"IF(RawData!C104<>\"\", RawData!C104,\"\")","v":""},{"$f":"IF(RawData!D104<>\"\", RawData!D104,\"\")","v":""},{"$f":"IF(RawData!E104<>\"\", RawData!E104,\"\")","v":""},{"$f":"IF(RawData!F104<>\"\", RawData!F104,\"\")","v":""},{"$f":"IF(RawData!G104<>\"\", RawData!G104,\"\")","v":""},{"$f":"IF(RawData!H104<>\"\", RawData!H104,\"\")","v":""},{"$f":"IF(RawData!I104<>\"\", RawData!I104,\"\")","v":""},{"$f":"IF(RawData!J104<>\"\", RawData!J104,\"\")","v":""},"","","","","",false,false,false,false,false,"","",""]
[{"$f":"IF(RawData!A105<>\"\", RawData!A105,\"\")","v":""},{"$f":"IF(RawData!B105<>\"\", RawData!B105,\"\")","v":""},{"$f":"IF(RawData!C105<>\"\", RawData!C105,\"\")","v":""},{"$f":"IF(RawData!D105<>\"\", RawData!D105,\"\")","v":""},{"$f":"IF(RawData!E105<>\"\", RawData!E105,\"\")","v":""},{"$f":"IF(RawData!F105<>\"\", RawData!F105,\"\")","v":""},{"$f":"IF(RawData!G105<>\"\", RawData!G105,\"\")","v":""},{"$f":"IF(RawData!H105<>\"\", RawData!H105,\"\")","v":""},{"$f":"IF(RawData!I105<>\"\", RawData!I105,\"\")","v":""},{"$f":"IF(RawData!J105<>\"\", RawData!J105,\"\")","v":""},"","","","","",false,false,false,false,false,"","",""]
[{"$f":"IF(RawData!A106<>\"\", RawData!A106,\"\")","v":""},{"$f":"IF(RawData!B106<>\"\", RawData!B106,\"\")","v":""},{"$f":"IF(RawData!C106<>\"\", RawData!C106,\"\")","v":""},{"$f":"IF(RawData!D106<>\"\", RawData!D106,\"\")","v":""},{"$f":"IF(RawData!E106<>\"\", RawData!E106,\"\")","v":""},{"$f":"IF(RawData!F106<>\"\", RawData!F106,\"\")","v":""},{"$f":"IF(RawData!G106<>\"\", RawData!G106,\"\")","v":""},{"$f":"IF(RawData!H106<>\"\", RawData!H106,\"\")","v":""},{"$f":"IF(RawData!I106<>\"\", RawData!I106,\"\")","v":""},{"$f":"IF(RawData!J106<>\"\", RawData!J106,\"\")","v":""},"","","","","",false,false,false,false,false,"","",""]
[{"$f":"IF(RawData!A107<>\"\", RawData!A107,\"\")","v":""},{"$f":"IF(RawData!B107<>\"\", RawData!B107,\"\")","v":""},{"$f":"IF(RawData!C107<>\"\", RawData!C107,\"\")","v":""},{"$f":"IF(RawData!D107<>\"\", RawData!D107,\"\")","v":""},{"$f":"IF(RawData!E107<>\"\", RawData!E107,\"\")","v":""},{"$f":"IF(RawData!F107<>\"\", RawData!F107,\"\")","v":""},{"$f":"IF(RawData!G107<>\"\", RawData!G107,\"\")","v":""},{"$f":"IF(RawData!H107<>\"\", RawData!H107,\"\")","v":""},{"$f":"IF(RawData!I107<>\"\", RawData!I107,\"\")","v":""},{"$f":"IF(RawData!J107<>\"\", RawData!J107,\"\")","v":""},"","","","","",false,false,false,false,false,"","",""]
[{"$f":"IF(RawData!A108<>\"\", RawData!A108,\"\")","v":""},{"$f":"IF(RawData!B108<>\"\", RawData!B108,\"\")","v":""},{"$f":"IF(RawData!C108<>\"\", RawData!C108,\"\")","v":""},{"$f":"IF(RawData!D108<>\"\", RawData!D108,\"\")","v":""},{"$f":"IF(RawData!E108<>\"\", RawData!E108,\"\")","v":""},{"$f":"IF(RawData!F108<>\"\", RawData!F108,\"\")","v":""},{"$f":"IF(RawData!G108<>\"\", RawData!G108,\"\")","v":""},{"$f":"IF(RawData!H108<>\"\", RawData!H108,\"\")","v":""},{"$f":"IF(RawData!I108<>\"\", RawData!I108,\"\")","v":""},{"$f":"IF(RawData!J108<>\"\", RawData!J108,\"\")","v":""},"","","","","",false,false,false,false,false,"","",""]
[{"$f":"IF(RawData!A109<>\"\", RawData!A109,\"\")","v":""},{"$f":"IF(RawData!B109<>\"\", RawData!B109,\"\")","v":""},{"$f":"IF(RawData!C109<>\"\", RawData!C109,\"\")","v":""},{"$f":"IF(RawData!D109<>\"\", RawData!D109,\"\")","v":""},{"$f":"IF(RawData!E109<>\"\", RawData!E109,\"\")","v":""},{"$f":"IF(RawData!F109<>\"\", RawData!F109,\"\")","v":""},{"$f":"IF(RawData!G109<>\"\", RawData!G109,\"\")","v":""},{"$f":"IF(RawData!H109<>\"\", RawData!H109,\"\")","v":""},{"$f":"IF(RawData!I109<>\"\", RawData!I109,\"\")","v":""},{"$f":"IF(RawData!J109<>\"\", RawData!J109,\"\")","v":""},"","","","","",false,false,false,false,false,"","",""]
[{"$f":"IF(RawData!A110<>\"\", RawData!A110,\"\")","v":""},{"$f":"IF(RawData!B110<>\"\", RawData!B110,\"\")","v":""},{"$f":"IF(RawData!C110<>\"\", RawData!C110,\"\")","v":""},{"$f":"IF(RawData!D110<>\"\", RawData!D110,\"\")","v":""},{"$f":"IF(RawData!E110<>\"\", RawData!E110,\"\")","v":""},{"$f":"IF(RawData!F110<>\"\", RawData!F110,\"\")","v":""},{"$f":"IF(RawData!G110<>\"\", RawData!G110,\"\")","v":""},{"$f":"IF(RawData!H110<>\"\", RawData!H110,\"\")","v":""},{"$f":"IF(RawData!I110<>\"\", RawData!I110,\"\")","v":""},{"$f":"IF(RawData!J110<>\"\", RawData!J110,\"\")","v":""},"","","","","",false,false,false,false,false,"","",""]
[{"$f":"IF(RawData!A111<>\"\", RawData!A111,\"\")","v":""},{"$f":"IF(RawData!B111<>\"\", RawData!B111,\"\")","v":""},{"$f":"IF(RawData!C111<>\"\", RawData!C111,\"\")","v":""},{"$f":"IF(RawData!D111<>\"\", RawData!D111,\"\")","v":""},{"$f":"IF(RawData!E111<>\"\", RawData!E111,\"\")","v":""},{"$f":"IF(RawData!F111<>\"\", RawData!F111,\"\")","v":""},{"$f":"IF(RawData!G111<>\"\", RawData!G111,\"\")","v":""},{"$f":"IF(RawData!H111<>\"\", RawData!H111,\"\")","v":""},{"$f":"IF(RawData!I111<>\"\", RawData!I111,\"\")","v":""},{"$f":"IF(RawData!J111<>\"\", RawData!J111,\"\")","v":""},"","","","","",false,false,false,false,false,"","",""]
[{"$f":"IF(RawData!A112<>\"\", RawData!A112,\"\")","v":""},{"$f":"IF(RawData!B112<>\"\", RawData!B112,\"\")","v":""},{"$f":"IF(RawData!C112<>\"\", RawData!C112,\"\")","v":""},{"$f":"IF(RawData!D112<>\"\", RawData!D112,\"\")","v":""},{"$f":"IF(RawData!E112<>\"\", RawData!E112,\"\")","v":""},{"$f":"IF(RawData!F112<>\"\", RawData!F112,\"\")","v":""},{"$f":"IF(RawData!G112<>\"\", RawData!G112,\"\")","v":""},{"$f":"IF(RawData!H112<>\"\", RawData!H112,\"\")","v":""},{"$f":"IF(RawData!I112<>\"\", RawData!I112,\"\")","v":""},{"$f":"IF(RawData!J112<>\"\", RawData!J112,\"\")","v":""},"","","","","",false,false,false,false,false,"","",""]
[{"$f":"IF(RawData!A113<>\"\", RawData!A113,\"\")","v":""},{"$f":"IF(RawData!B113<>\"\", RawData!B113,\"\")","v":""},{"$f":"IF(RawData!C113<>\"\", RawData!C113,\"\")","v":""},{"$f":"IF(RawData!D113<>\"\", RawData!D113,\"\")","v":""},{"$f":"IF(RawData!E113<>\"\", RawData!E113,\"\")","v":""},{"$f":"IF(RawData!F113<>\"\", RawData!F113,\"\")","v":""},{"$f":"IF(RawData!G113<>\"\", RawData!G113,\"\")","v":""},{"$f":"IF(RawData!H113<>\"\", RawData!H113,\"\")","v":""},{"$f":"IF(RawData!I113<>\"\", RawData!I113,\"\")","v":""},{"$f":"IF(RawData!J113<>\"\", RawData!J113,\"\")","v":""},"","","","","",false,false,false,false,false,"","",""]
[{"$f":"IF(RawData!A114<>\"\", RawData!A114,\"\")","v":""},{"$f":"IF(RawData!B114<>\"\", RawData!B114,\"\")","v":""},{"$f":"IF(RawData!C114<>\"\", RawData!C114,\"\")","v":""},{"$f":"IF(RawData!D114<>\"\", RawData!D114,\"\")","v":""},{"$f":"IF(RawData!E114<>\"\", RawData!E114,\"\")","v":""},{"$f":"IF(RawData!F114<>\"\", RawData!F114,\"\")","v":""},{"$f":"IF(RawData!G114<>\"\", RawData!G114,\"\")","v":""},{"$f":"IF(RawData!H114<>\"\", RawData!H114,\"\")","v":""},{"$f":"IF(RawData!I114<>\"\", RawData!I114,\"\")","v":""},{"$f":"IF(RawData!J114<>\"\", RawData!J114,\"\")","v":""},{"$f":"IF(G114<>\"\",IF(G114<3, 1, 0),\"\")","v":""},{"$f":"IF(G114<>\"\",IF(G114>=1, 1, 0),\"\")","v":""},{"$f":"IF(G114<>\"\",IF(AND(G114>=1,G114<=7), 1, 0),\"\")","v":""},"",{"$f":"IF(G114<>\"\",IF(G114>=8, 1, 0),\"\")","v":""},false,false,false,false,false,{"$f":"IF(H114<>\"\",IF(H114=1,IF(J114=4, 1, 0),\"\"),\"\")","v":""},"",""]
[{"$f":"IF(RawData!A115<>\"\", RawData!A115,\"\")","v":""},{"$f":"IF(RawData!B115<>\"\", RawData!B115,\"\")","v":""},{"$f":"IF(RawData!C115<>\"\", RawData!C115,\"\")","v":""},{"$f":"IF(RawData!D115<>\"\", RawData!D115,\"\")","v":""},{"$f":"IF(RawData!E115<>\"\", RawData!E115,\"\")","v":""},{"$f":"IF(RawData!F115<>\"\", RawData!F115,\"\")","v":""},{"$f":"IF(RawData!G115<>\"\", RawData!G115,\"\")","v":""},{"$f":"IF(RawData!H115<>\"\", RawData!H115,\"\")","v":""},{"$f":"IF(RawData!I115<>\"\", RawData!I115,\"\")","v":""},{"$f":"IF(RawData!J115<>\"\", RawData!J115,\"\")","v":""},"","","","","",{"$f":"IF(L115<>\"\", IF(J115<>\"\",IF(L115=0,IF(J115=1, 1, 0),\"\")))","v":false},{"$f":"IF(K115<>\"\",IF(J115<>\"\",IF(K115=1,IF(J115=1, 1, 0),\"\")))","v":false},{"$f":"IF(M115<>\"\",IF(J115<>\"\",IF(M115=1,IF(J115=2, 1, 0),\"\")))","v":false},{"$f":"IF(N115<>\"\",IF(J115<>\"\",IF(N115=1,IF(J115=3, 1, 0),\"\")))","v":false},{"$f":"IF(O115<>\"\",IF(J115<>\"\",IF(O115=1,IF(J115=4, 1, 0),\"\")))","v":false},"",{"$f":"IF(J115<>\"\",IF(OR(P115=1,Q115=1,R115=1,S115=1, T115=1, U115=1),1,0),\"\")","v":""},{"$f":"IF(J115<>\"\",IF(AND(J115<>0,V115=0),1,0),\"\")","v":""}]
[{"$f":"IF(RawData!A116<>\"\", RawData!A116,\"\")","v":""},{"$f":"IF(RawData!B116<>\"\", RawData!B116,\"\")","v":""},{"$f":"IF(RawData!C116<>\"\", RawData!C116,\"\")","v":""},{"$f":"IF(RawData!D116<>\"\", RawData!D116,\"\")","v":""},{"$f":"IF(RawData!E116<>\"\", RawData!E116,\"\")","v":""},{"$f":"IF(RawData!F116<>\"\", RawData!F116,\"\")","v":""},{"$f":"IF(RawData!G116<>\"\", RawData!G116,\"\")","v":""},{"$f":"IF(RawData!H116<>\"\", RawData!H116,\"\")","v":""},{"$f":"IF(RawData!I116<>\"\", RawData!I116,\"\")","v":""},{"$f":"IF(RawData!J116<>\"\", RawData!J116,\"\")","v":""},"","","","","",false,false,false,false,false,"","",""]
[{"$f":"IF(RawData!A117<>\"\", RawData!A117,\"\")","v":""},{"$f":"IF(RawData!B117<>\"\", RawData!B117,\"\")","v":""},{"$f":"IF(RawData!C117<>\"\", RawData!C117,\"\")","v":""},{"$f":"IF(RawData!D117<>\"\", RawData!D117,\"\")","v":""},{"$f":"IF(RawData!E117<>\"\", RawData!E117,\"\")","v":""},{"$f":"IF(RawData!F117<>\"\", RawData!F117,\"\")","v":""},{"$f":"IF(RawData!G117<>\"\", RawData!G117,\"\")","v":""},{"$f":"IF(RawData!H117<>\"\", RawData!H117,\"\")","v":""},{"$f":"IF(RawData!I117<>\"\", RawData!I117,\"\")","v":""},{"$f":"IF(RawData!J117<>\"\", RawData!J117,\"\")","v":""},"","","","","",false,false,false,false,false,"","",""]
[{"$f":"IF(RawData!A118<>\"\", RawData!A118,\"\")","v":""},{"$f":"IF(RawData!B118<>\"\", RawData!B118,\"\")","v":""},{"$f":"IF(RawData!C118<>\"\", RawData!C118,\"\")","v":""},{"$f":"IF(RawData!D118<>\"\", RawData!D118,\"\")","v":""},{"$f":"IF(RawData!E118<>\"\", RawData!E118,\"\")","v":""},{"$f":"IF(RawData!F118<>\"\", RawData!F118,\"\")","v":""},{"$f":"IF(RawData!G118<>\"\", RawData!G118,\"\")","v":""},{"$f":"IF(RawData!H118<>\"\", RawData!H118,\"\")","v":""},{"$f":"IF(RawData!I118<>\"\", RawData!I118,\"\")","v":""},{"$f":"IF(RawData!J118<>\"\", RawData!J118,\"\")","v":""},"","","","","",false,false,false,false,false,"","",""]
[{"$f":"IF(RawData!A119<>\"\", RawData!A119,\"\")","v":""},{"$f":"IF(RawData!B119<>\"\", RawData!B119,\"\")","v":""},{"$f":"IF(RawData!C119<>\"\", RawData!C119,\"\")","v":""},{"$f":"IF(RawData!D119<>\"\", RawData!D119,\"\")","v":""},{"$f":"IF(RawData!E119<>\"\", RawData!E119,\"\")","v":""},{"$f":"IF(RawData!F119<>\"\", RawData!F119,\"\")","v":""},{"$f":"IF(RawData!G119<>\"\", RawData!G119,\"\")","v":""},{"$f":"IF(RawData!H119<>\"\", RawData!H119,\"\")","v":""},{"$f":"IF(RawData!I119<>\"\", RawData!I119,\"\")","v":""},{"$f":"IF(RawData!J119<>\"\", RawData!J119,\"\")","v":""},"","","","","",false,false,false,false,false,"","",""]
[{"$f":"IF(RawData!A120<>\"\", RawData!A120,\"\")","v":""},{"$f":"IF(RawData!B120<>\"\", RawData!B120,\"\")","v":""},{"$f":"IF(RawData!C120<>\"\", RawData!C120,\"\")","v":""},{"$f":"IF(RawData!D120<>\"\", RawData!D120,\"\")","v":""},{"$f":"IF(RawData!E120<>\"\", RawData!E120,\"\")","v":""},{"$f":"IF(RawData!F120<>\"\", RawData!F120,\"\")","v":""},{"$f":"IF(RawData!G120<>\"\", RawData!G120,\"\")","v":""},{"$f":"IF(RawData!H120<>\"\", RawData!H120,\"\")","v":""},{"$f":"IF(RawData!I120<>\"\", RawData!I120,\"\")","v":""},{"$f":"IF(RawData!J120<>\"\", RawData!J120,\"\")","v":""},"","","","","",false,false,false,false,false,"","",""]
[{"$f":"IF(RawData!A121<>\"\", RawData!A121,\"\")","v":""},{"$f":"IF(RawData!B121<>\"\", RawData!B121,\"\")","v":""},{"$f":"IF(RawData!C121<>\"\", RawData!C121,\"\")","v":""},{"$f":"IF(RawData!D121<>\"\", RawData!D121,\"\")","v":""},{"$f":"IF(RawData!E121<>\"\", RawData!E121,\"\")","v":""},{"$f":"IF(RawData!F121<>\"\", RawData!F121,\"\")","v":""},{"$f":"IF(RawData!G121<>\"\", RawData!G121,\"\")","v":""},{"$f":"IF(RawData!H121<>\"\", RawData!H121,\"\")","v":""},{"$f":"IF(RawData!I121<>\"\", RawData!I121,\"\")","v":""},{"$f":"IF(RawData!J121<>\"\", RawData!J121,\"\")","v":""},"","","","","",false,false,false,false,false,"","",""]
[{"$f":"IF(RawData!A122<>\"\", RawData!A122,\"\")","v":""},{"$f":"IF(RawData!B122<>\"\", RawData!B122,\"\")","v":""},{"$f":"IF(RawData!C122<>\"\", RawData!C122,\"\")","v":""},{"$f":"IF(RawData!D122<>\"\", RawData!D122,\"\")","v":""},{"$f":"IF(RawData!E122<>\"\", RawData!E122,\"\")","v":""},{"$f":"IF(RawData!F122<>\"\", RawData!F122,\"\")","v":""},{"$f":"IF(RawData!G122<>\"\", RawData!G122,\"\")","v":""},{"$f":"IF(RawData!H122<>\"\", RawData!H122,\"\")","v":""},{"$f":"IF(RawData!I122<>\"\", RawData!I122,\"\")","v":""},{"$f":"IF(RawData!J122<>\"\", RawData!J122,\"\")","v":""},"","","","","",false,false,false,false,false,"","",""]
[{"$f":"IF(RawData!A123<>\"\", RawData!A123,\"\")","v":""},{"$f":"IF(RawData!B123<>\"\", RawData!B123,\"\")","v":""},{"$f":"IF(RawData!C123<>\"\", RawData!C123,\"\")","v":""},{"$f":"IF(RawData!D123<>\"\", RawData!D123,\"\")","v":""},{"$f":"IF(RawData!E123<>\"\", RawData!E123,\"\")","v":""},{"$f":"IF(RawData!F123<>\"\", RawData!F123,\"\")","v":""},{"$f":"IF(RawData!G123<>\"\", RawData!G123,\"\")","v":""},{"$f":"IF(RawData!H123<>\"\", RawData!H123,\"\")","v":""},{"$f":"IF(RawData!I123<>\"\", RawData!I123,\"\")","v":""},{"$f":"IF(RawData!J123<>\"\", RawData!J123,\"\")","v":""},"","","","","",false,false,false,false,false,"","",""]
[{"$f":"IF(RawData!A124<>\"\", RawData!A124,\"\")","v":""},{"$f":"IF(RawData!B124<>\"\", RawData!B124,\"\")","v":""},{"$f":"IF(RawData!C124<>\"\", RawData!C124,\"\")","v":""},{"$f":"IF(RawData!D124<>\"\", RawData!D124,\"\")","v":""},{"$f":"IF(RawData!E124<>\"\", RawData!E124,\"\")","v":""},{"$f":"IF(RawData!F124<>\"\", RawData!F124,\"\")","v":""},{"$f":"IF(RawData!G124<>\"\", RawData!G124,\"\")","v":""},{"$f":"IF(RawData!H124<>\"\", RawData!H124,\"\")","v":""},{"$f":"IF(RawData!I124<>\"\", RawData!I124,\"\")","v":""},{"$f":"IF(RawData!J124<>\"\", RawData!J124,\"\")","v":""},"","","","","",false,false,false,false,false,"","",""]
[{"$f":"IF(RawData!A125<>\"\", RawData!A125,\"\")","v":""},{"$f":"IF(RawData!B125<>\"\", RawData!B125,\"\")","v":""},{"$f":"IF(RawData!C125<>\"\", RawData!C125,\"\")","v":""},{"$f":"IF(RawData!D125<>\"\", RawData!D125,\"\")","v":""},{"$f":"IF(RawData!E125<>\"\", RawData!E125,\"\")","v":""},{"$f":"IF(RawData!F125<>\"\", RawData!F125,\"\")","v":""},{"$f":"IF(RawData!G125<>\"\", RawData!G125,\"\")","v":""},{"$f":"IF(RawData!H125<>\"\", RawData!H125,\"\")","v":""},{"$f":"IF(RawData!I125<>\"\", RawData!I125,\"\")","v":""},{"$f":"IF(RawData!J125<>\"\", RawData!J125,\"\")","v":""},"","","","","",false,false,false,false,false,"","",""]
[{"$f":"IF(RawData!A126<>\"\", RawData!A126,\"\")","v":""},{"$f":"IF(RawData!B126<>\"\", RawData!B126,\"\")","v":""},{"$f":"IF(RawData!C126<>\"\", RawData!C126,\"\")","v":""},{"$f":"IF(RawData!D126<>\"\", RawData!D126,\"\")","v":""},{"$f":"IF(RawData!E126<>\"\", RawData!E126,\"\")","v":""},{"$f":"IF(RawData!F126<>\"\", RawData!F126,\"\")","v":""},{"$f":"IF(RawData!G126<>\"\", RawData!G126,\"\")","v":""},{"$f":"IF(RawData!H126<>\"\", RawData!H126,\"\")","v":""},{"$f":"IF(RawData!I126<>\"\", RawData!I126,\"\")","v":""},{"$f":"IF(RawData!J126<>\"\", RawData!J126,\"\")","v":""},"","","","","",false,false,false,false,false,"","",""]
[{"$f":"IF(RawData!A127<>\"\", RawData!A127,\"\")","v":""},{"$f":"IF(RawData!B127<>\"\", RawData!B127,\"\")","v":""},{"$f":"IF(RawData!C127<>\"\", RawData!C127,\"\")","v":""},{"$f":"IF(RawData!D127<>\"\", RawData!D127,\"\")","v":""},{"$f":"IF(RawData!E127<>\"\", RawData!E127,\"\")","v":""},{"$f":"IF(RawData!F127<>\"\", RawData!F127,\"\")","v":""},{"$f":"IF(RawData!G127<>\"\", RawData!G127,\"\")","v":""},{"$f":"IF(RawData!H127<>\"\", RawData!H127,\"\")","v":""},{"$f":"IF(RawData!I127<>\"\", RawData!I127,\"\")","v":""},{"$f":"IF(RawData!J127<>\"\", RawData!J127,\"\")","v":""},"","","","","",false,false,false,false,false,"","",""]
[{"$f":"IF(RawData!A128<>\"\", RawData!A128,\"\")","v":""},{"$f":"IF(RawData!B128<>\"\", RawData!B128,\"\")","v":""},{"$f":"IF(RawData!C128<>\"\", RawData!C128,\"\")","v":""},{"$f":"IF(RawData!D128<>\"\", RawData!D128,\"\")","v":""},{"$f":"IF(RawData!E128<>\"\", RawData!E128,\"\")","v":""},{"$f":"IF(RawData!F128<>\"\", RawData!F128,\"\")","v":""},{"$f":"IF(RawData!G128<>\"\", RawData!G128,\"\")","v":""},{"$f":"IF(RawData!H128<>\"\", RawData!H128,\"\")","v":""},{"$f":"IF(RawData!I128<>\"\", RawData!I128,\"\")","v":""},{"$f":"IF(RawData!J128<>\"\", RawData!J128,\"\")","v":""},"","","","","",false,false,false,false,false,"","",""]
[{"$f":"IF(RawData!A129<>\"\", RawData!A129,\"\")","v":""},{"$f":"IF(RawData!B129<>\"\", RawData!B129,\"\")","v":""},{"$f":"IF(RawData!C129<>\"\", RawData!C129,\"\")","v":""},{"$f":"IF(RawData!D129<>\"\", RawData!D129,\"\")","v":""},{"$f":"IF(RawData!E129<>\"\", RawData!E129,\"\")","v":""},{"$f":"IF(RawData!F129<>\"\", RawData!F129,\"\")","v":""},{"$f":"IF(RawData!G129<>\"\", RawData!G129,\"\")","v":""},{"$f":"IF(RawData!H129<>\"\", RawData!H129,\"\")","v":""},{"$f":"IF(RawData!I129<>\"\", RawData!I129,\"\")","v":""},{"$f":"IF(RawData!J129<>\"\", RawData!J129,\"\")","v":""},"","","","","",false,false,false,false,false,"","",""]
[{"$f":"IF(RawData!A130<>\"\", RawData!A130,\"\")","v":""},{"$f":"IF(RawData!B130<>\"\", RawData!B130,\"\")","v":""},{"$f":"IF(RawData!C130<>\"\", RawData!C130,\"\")","v":""},{"$f":"IF(RawData!D130<>\"\", RawData!D130,\"\")","v":""},{"$f":"IF(RawData!E130<>\"\", RawData!E130,\"\")","v":""},{"$f":"IF(RawData!F130<>\"\", RawData!F130,\"\")","v":""},{"$f":"IF(RawData!G130<>\"\", RawData!G130,\"\")","v":""},{"$f":"IF(RawData!H130<>\"\", RawData!H130,\"\")","v":""},{"$f":"IF(RawData!I130<>\"\", RawData!I130,\"\")","v":""},{"$f":"IF(RawData!J130<>\"\", RawData!J130,\"\")","v":""},"","","","","",false,false,false,false,false,"","",""]
[{"$f":"IF(RawData!A131<>\"\", RawData!A131,\"\")","v":""},{"$f":"IF(RawData!B131<>\"\", RawData!B131,\"\")","v":""},{"$f":"IF(RawData!C131<>\"\", RawData!C131,\"\")","v":""},{"$f":"IF(RawData!D131<>\"\", RawData!D131,\"\")","v":""},{"$f":"IF(RawData!E131<>\"\", RawData!E131,\"\")","v":""},{"$f":"IF(RawData!F131<>\"\", RawData!F131,\"\")","v":""},{"$f":"IF(RawData!G131<>\"\", RawData!G131,\"\")","v":""},{"$f":"IF(RawData!H131<>\"\", RawData!H131,\"\")","v":""},{"$f":"IF(RawData!I131<>\"\", RawData!I131,\"\")","v":""},{"$f":"IF(RawData!J131<>\"\", RawData!J131,\"\")","v":""},"","","","","",false,false,false,false,false,"","",""]
[{"$f":"IF(RawData!A132<>\"\", RawData!A132,\"\")","v":""},{"$f":"IF(RawData!B132<>\"\", RawData!B132,\"\")","v":""},{"$f":"IF(RawData!C132<>\"\", RawData!C132,\"\")","v":""},{"$f":"IF(RawData!D132<>\"\", RawData!D132,\"\")","v":""},{"$f":"IF(RawData!E132<>\"\", RawData!E132,\"\")","v":""},{"$f":"IF(RawData!F132<>\"\", RawData!F132,\"\")","v":""},{"$f":"IF(RawData!G132<>\"\", RawData!G132,\"\")","v":""},{"$f":"IF(RawData!H132<>\"\", RawData!H132,\"\")","v":""},{"$f":"IF(RawData!I132<>\"\", RawData!I132,\"\")","v":""},{"$f":"IF(RawData!J132<>\"\", RawData!J132,\"\")","v":""},"","","","","",false,false,false,false,false,"","",""]
[{"$f":"IF(RawData!A133<>\"\", RawData!A133,\"\")","v":""},{"$f":"IF(RawData!B133<>\"\", RawData!B133,\"\")","v":""},{"$f":"IF(RawData!C133<>\"\", RawData!C133,\"\")","v":""},{"$f":"IF(RawData!D133<>\"\", RawData!D133,\"\")","v":""},{"$f":"IF(RawData!E133<>\"\", RawData!E133,\"\")","v":""},{"$f":"IF(RawData!F133<>\"\", RawData!F133,\"\")","v":""},{"$f":"IF(RawData!G133<>\"\", RawData!G133,\"\")","v":""},{"$f":"IF(RawData!H133<>\"\", RawData!H133,\"\")","v":""},{"$f":"IF(RawData!I133<>\"\", RawData!I133,\"\")","v":""},{"$f":"IF(RawData!J133<>\"\", RawData!J133,\"\")","v":""},"","","","","",false,false,false,false,false,"","",""]
[{"$f":"IF(RawData!A134<>\"\", RawData!A134,\"\")","v":""},{"$f":"IF(RawData!B134<>\"\", RawData!B134,\"\")","v":""},{"$f":"IF(RawData!C134<>\"\", RawData!C134,\"\")","v":""},{"$f":"IF(RawData!D134<>\"\", RawData!D134,\"\")","v":""},{"$f":"IF(RawData!E134<>\"\", RawData!E134,\"\")","v":""},{"$f":"IF(RawData!F134<>\"\", RawData!F134,\"\")","v":""},{"$f":"IF(RawData!G134<>\"\", RawData!G134,\"\")","v":""},{"$f":"IF(RawData!H134<>\"\", RawData!H134,\"\")","v":""},{"$f":"IF(RawData!I134<>\"\", RawData!I134,\"\")","v":""},{"$f":"IF(RawData!J134<>\"\", RawData!J134,\"\")","v":""},"","","","","",false,false,false,false,false,"","",""]
[{"$f":"IF(RawData!A135<>\"\", RawData!A135,\"\")","v":""},{"$f":"IF(RawData!B135<>\"\", RawData!B135,\"\")","v":""},{"$f":"IF(RawData!C135<>\"\", RawData!C135,\"\")","v":""},{"$f":"IF(RawData!D135<>\"\", RawData!D135,\"\")","v":""},{"$f":"IF(RawData!E135<>\"\", RawData!E135,\"\")","v":""},{"$f":"IF(RawData!F135<>\"\", RawData!F135,\"\")","v":""},{"$f":"IF(RawData!G135<>\"\", RawData!G135,\"\")","v":""},{"$f":"IF(RawData!H135<>\"\", RawData!H135,\"\")","v":""},{"$f":"IF(RawData!I135<>\"\", RawData!I135,\"\")","v":""},{"$f":"IF(RawData!J135<>\"\", RawData!J135,\"\")","v":""},"","","",{"$f":"IF(G135<>\"\",IF(G135>=4, 1, 0),\"\")","v":""},"",false,false,false,false,false,"","",""]
[{"$f":"IF(RawData!A136<>\"\", RawData!A136,\"\")","v":""},{"$f":"IF(RawData!B136<>\"\", RawData!B136,\"\")","v":""},{"$f":"IF(RawData!C136<>\"\", RawData!C136,\"\")","v":""},{"$f":"IF(RawData!D136<>\"\", RawData!D136,\"\")","v":""},{"$f":"IF(RawData!E136<>\"\", RawData!E136,\"\")","v":""},{"$f":"IF(RawData!F136<>\"\", RawData!F136,\"\")","v":""},{"$f":"IF(RawData!G136<>\"\", RawData!G136,\"\")","v":""},{"$f":"IF(RawData!H136<>\"\", RawData!H136,\"\")","v":""},{"$f":"IF(RawData!I136<>\"\", RawData!I136,\"\")","v":""},{"$f":"IF(RawData!J136<>\"\", RawData!J136,\"\")","v":""},"","","","","",false,false,false,false,false,"","",""]
[{"$f":"IF(RawData!A137<>\"\", RawData!A137,\"\")","v":""},{"$f":"IF(RawData!B137<>\"\", RawData!B137,\"\")","v":""},{"$f":"IF(RawData!C137<>\"\", RawData!C137,\"\")","v":""},{"$f":"IF(RawData!D137<>\"\", RawData!D137,\"\")","v":""},{"$f":"IF(RawData!E137<>\"\", RawData!E137,\"\")","v":""},{"$f":"IF(RawData!F137<>\"\", RawData!F137,\"\")","v":""},{"$f":"IF(RawData!G137<>\"\", RawData!G137,\"\")","v":""},{"$f":"IF(RawData!H137<>\"\", RawData!H137,\"\")","v":""},{"$f":"IF(RawData!I137<>\"\", RawData!I137,\"\")","v":""},{"$f":"IF(RawData!J137<>\"\", RawData!J137,\"\")","v":""},"","","","","",false,false,false,false,false,"","",""]
[{"$f":"IF(RawData!A138<>\"\", RawData!A138,\"\")","v":""},{"$f":"IF(RawData!B138<>\"\", RawData!B138,\"\")","v":""},{"$f":"IF(RawData!C138<>\"\", RawData!C138,\"\")","v":""},{"$f":"IF(RawData!D138<>\"\", RawData!D138,\"\")","v":""},{"$f":"IF(RawData!E138<>\"\", RawData!E138,\"\")","v":""},{"$f":"IF(RawData!F138<>\"\", RawData!F138,\"\")","v":""},{"$f":"IF(RawData!G138<>\"\", RawData!G138,\"\")","v":""},{"$f":"IF(RawData!H138<>\"\", RawData!H138,\"\")","v":""},{"$f":"IF(RawData!I138<>\"\", RawData!I138,\"\")","v":""},{"$f":"IF(RawData!J138<>\"\", RawData!J138,\"\")","v":""},"","","","","",false,false,false,false,false,"","",""]
[{"$f":"IF(RawData!A139<>\"\", RawData!A139,\"\")","v":""},{"$f":"IF(RawData!B139<>\"\", RawData!B139,\"\")","v":""},{"$f":"IF(RawData!C139<>\"\", RawData!C139,\"\")","v":""},{"$f":"IF(RawData!D139<>\"\", RawData!D139,\"\")","v":""},{"$f":"IF(RawData!E139<>\"\", RawData!E139,\"\")","v":""},{"$f":"IF(RawData!F139<>\"\", RawData!F139,\"\")","v":""},{"$f":"IF(RawData!G139<>\"\", RawData!G139,\"\")","v":""},{"$f":"IF(RawData!H139<>\"\", RawData!H139,\"\")","v":""},{"$f":"IF(RawData!I139<>\"\", RawData!I139,\"\")","v":""},{"$f":"IF(RawData!J139<>\"\", RawData!J139,\"\")","v":""},"","","","","",false,false,false,false,false,"","",""]
[{"$f":"IF(RawData!A140<>\"\", RawData!A140,\"\")","v":""},{"$f":"IF(RawData!B140<>\"\", RawData!B140,\"\")","v":""},{"$f":"IF(RawData!C140<>\"\", RawData!C140,\"\")","v":""},{"$f":"IF(RawData!D140<>\"\", RawData!D140,\"\")","v":""},{"$f":"IF(RawData!E140<>\"\", RawData!E140,\"\")","v":""},{"$f":"IF(RawData!F140<>\"\", RawData!F140,\"\")","v":""},{"$f":"IF(RawData!G140<>\"\", RawData!G140,\"\")","v":""},{"$f":"IF(RawData!H140<>\"\", RawData!H140,\"\")","v":""},{"$f":"IF(RawData!I140<>\"\", RawData!I140,\"\")","v":""},{"$f":"IF(RawData!J140<>\"\", RawData!J140,\"\")","v":""},"","","","","",false,false,false,false,false,"","",""]
[{"$f":"IF(RawData!A141<>\"\", RawData!A141,\"\")","v":""},{"$f":"IF(RawData!B141<>\"\", RawData!B141,\"\")","v":""},{"$f":"IF(RawData!C141<>\"\", RawData!C141,\"\")","v":""},{"$f":"IF(RawData!D141<>\"\", RawData!D141,\"\")","v":""},{"$f":"IF(RawData!E141<>\"\", RawData!E141,\"\")","v":""},{"$f":"IF(RawData!F141<>\"\", RawData!F141,\"\")","v":""},{"$f":"IF(RawData!G141<>\"\", RawData!G141,\"\")","v":""},{"$f":"IF(RawData!H141<>\"\", RawData!H141,\"\")","v":""},{"$f":"IF(RawData!I141<>\"\", RawData!I141,\"\")","v":""},{"$f":"IF(RawData!J141<>\"\", RawData!J141,\"\")","v":""},"","","","","",false,false,false,false,false,"","",""]
[{"$f":"IF(RawData!A142<>\"\", RawData!A142,\"\")","v":""},{"$f":"IF(RawData!B142<>\"\", RawData!B142,\"\")","v":""},{"$f":"IF(RawData!C142<>\"\", RawData!C142,\"\")","v":""},{"$f":"IF(RawData!D142<>\"\", RawData!D142,\"\")","v":""},{"$f":"IF(RawData!E142<>\"\", RawData!E142,\"\")","v":""},{"$f":"IF(RawData!F142<>\"\", RawData!F142,\"\")","v":""},{"$f":"IF(RawData!G142<>\"\", RawData!G142,\"\")","v":""},{"$f":"IF(RawData!H142<>\"\", RawData!H142,\"\")","v":""},{"$f":"IF(RawData!I142<>\"\", RawData!I142,\"\")","v":""},{"$f":"IF(RawData!J142<>\"\", RawData!J142,\"\")","v":""},"","","","","",false,false,false,false,false,"","",""]
[{"$f":"IF(RawData!A143<>\"\", RawData!A143,\"\")","v":""},{"$f":"IF(RawData!B143<>\"\", RawData!B143,\"\")","v":""},{"$f":"IF(RawData!C143<>\"\", RawData!C143,\"\")","v":""},{"$f":"IF(RawData!D143<>\"\", RawData!D143,\"\")","v":""},{"$f":"IF(RawData!E143<>\"\", RawData!E143,\"\")","v":""},{"$f":"IF(RawData!F143<>\"\", RawData!F143,\"\")","v":""},{"$f":"IF(RawData!G143<>\"\", RawData!G143,\"\")","v":""},{"$f":"IF(RawData!H143<>\"\", RawData!H143,\"\")","v":""},{"$f":"IF(RawData!I143<>\"\", RawData!I143,\"\")","v":""},{"$f":"IF(RawData!J143<>\"\", RawData!J143,\"\")","v":""},"","","","","",false,false,false,false,false,"","",""]
[{"$f":"IF(RawData!A144<>\"\", RawData!A144,\"\")","v":""},{"$f":"IF(RawData!B144<>\"\", RawData!B144,\"\")","v":""},{"$f":"IF(RawData!C144<>\"\", RawData!C144,\"\")","v":""},{"$f":"IF(RawData!D144<>\"\", RawData!D144,\"\")","v":""},{"$f":"IF(RawData!E144<>\"\", RawData!E144,\"\")","v":""},{"$f":"IF(RawData!F144<>\"\", RawData!F144,\"\")","v":""},{"$f":"IF(RawData!G144<>\"\", RawData!G144,\"\")","v":""},{"$f":"IF(RawData!H144<>\"\", RawData!H144,\"\")","v":""},{"$f":"IF(RawData!I144<>\"\", RawData!I144,\"\")","v":""},{"$f":"IF(RawData!J144<>\"\", RawData!J144,\"\")","v":""},"","","","","",false,false,false,false,false,"","",""]
[{"$f":"IF(RawData!A145<>\"\", RawData!A145,\"\")","v":""},{"$f":"IF(RawData!B145<>\"\", RawData!B145,\"\")","v":""},{"$f":"IF(RawData!C145<>\"\", RawData!C145,\"\")","v":""},{"$f":"IF(RawData!D145<>\"\", RawData!D145,\"\")","v":""},{"$f":"IF(RawData!E145<>\"\", RawData!E145,\"\")","v":""},{"$f":"IF(RawData!F145<>\"\", RawData!F145,\"\")","v":""},{"$f":"IF(RawData!G145<>\"\", RawData!G145,\"\")","v":""},{"$f":"IF(RawData!H145<>\"\", RawData!H145,\"\")","v":""},{"$f":"IF(RawData!I145<>\"\", RawData!I145,\"\")","v":""},{"$f":"IF(RawData!J145<>\"\", RawData!J145,\"\")","v":""},"","","","","",false,false,false,false,false,"","",""]
[{"$f":"IF(RawData!A146<>\"\", RawData!A146,\"\")","v":""},{"$f":"IF(RawData!B146<>\"\", RawData!B146,\"\")","v":""},{"$f":"IF(RawData!C146<>\"\", RawData!C146,\"\")","v":""},{"$f":"IF(RawData!D146<>\"\", RawData!D146,\"\")","v":""},{"$f":"IF(RawData!E146<>\"\", RawData!E146,\"\")","v":""},{"$f":"IF(RawData!F146<>\"\", RawData!F146,\"\")","v":""},{"$f":"IF(RawData!G146<>\"\", RawData!G146,\"\")","v":""},{"$f":"IF(RawData!H146<>\"\", RawData!H146,\"\")","v":""},{"$f":"IF(RawData!I146<>\"\", RawData!I146,\"\")","v":""},{"$f":"IF(RawData!J146<>\"\", RawData!J146,\"\")","v":""},"","","","","",false,false,false,false,false,"","",""]
[{"$f":"IF(RawData!A147<>\"\", RawData!A147,\"\")","v":""},{"$f":"IF(RawData!B147<>\"\", RawData!B147,\"\")","v":""},{"$f":"IF(RawData!C147<>\"\", RawData!C147,\"\")","v":""},{"$f":"IF(RawData!D147<>\"\", RawData!D147,\"\")","v":""},{"$f":"IF(RawData!E147<>\"\", RawData!E147,\"\")","v":""},{"$f":"IF(RawData!F147<>\"\", RawData!F147,\"\")","v":""},{"$f":"IF(RawData!G147<>\"\", RawData!G147,\"\")","v":""},{"$f":"IF(RawData!H147<>\"\", RawData!H147,\"\")","v":""},{"$f":"IF(RawData!I147<>\"\", RawData!I147,\"\")","v":""},{"$f":"IF(RawData!J147<>\"\", RawData!J147,\"\")","v":""},"","","","","",false,false,false,false,false,"","",""]
[{"$f":"IF(RawData!A148<>\"\", RawData!A148,\"\")","v":""},{"$f":"IF(RawData!B148<>\"\", RawData!B148,\"\")","v":""},{"$f":"IF(RawData!C148<>\"\", RawData!C148,\"\")","v":""},{"$f":"IF(RawData!D148<>\"\", RawData!D148,\"\")","v":""},{"$f":"IF(RawData!E148<>\"\", RawData!E148,\"\")","v":""},{"$f":"IF(RawData!F148<>\"\", RawData!F148,\"\")","v":""},{"$f":"IF(RawData!G148<>\"\", RawData!G148,\"\")","v":""},{"$f":"IF(RawData!H148<>\"\", RawData!H148,\"\")","v":""},{"$f":"IF(RawData!I148<>\"\", RawData!I148,\"\")","v":""},{"$f":"IF(RawData!J148<>\"\", RawData!J148,\"\")","v":""},"","","","","",false,false,false,false,false,"","",""]
[{"$f":"IF(RawData!A149<>\"\", RawData!A149,\"\")","v":""},{"$f":"IF(RawData!B149<>\"\", RawData!B149,\"\")","v":""},{"$f":"IF(RawData!C149<>\"\", RawData!C149,\"\")","v":""},{"$f":"IF(RawData!D149<>\"\", RawData!D149,\"\")","v":""},{"$f":"IF(RawData!E149<>\"\", RawData!E149,\"\")","v":""},{"$f":"IF(RawData!F149<>\"\", RawData!F149,\"\")","v":""},{"$f":"IF(RawData!G149<>\"\", RawData!G149,\"\")","v":""},{"$f":"IF(RawData!H149<>\"\", RawData!H149,\"\")","v":""},{"$f":"IF(RawData!I149<>\"\", RawData!I149,\"\")","v":""},{"$f":"IF(RawData!J149<>\"\", RawData!J149,\"\")","v":""},"","","","","",false,false,false,false,false,"","",""]
[{"$f":"IF(RawData!A150<>\"\", RawData!A150,\"\")","v":""},{"$f":"IF(RawData!B150<>\"\", RawData!B150,\"\")","v":""},{"$f":"IF(RawData!C150<>\"\", RawData!C150,\"\")","v":""},{"$f":"IF(RawData!D150<>\"\", RawData!D150,\"\")","v":""},{"$f":"IF(RawData!E150<>\"\", RawData!E150,\"\")","v":""},{"$f":"IF(RawData!F150<>\"\", RawData!F150,\"\")","v":""},{"$f":"IF(RawData!G150<>\"\", RawData!G150,\"\")","v":""},{"$f":"IF(RawData!H150<>\"\", RawData!H150,\"\")","v":""},{"$f":"IF(RawData!I150<>\"\", RawData!I150,\"\")","v":""},{"$f":"IF(RawData!J150<>\"\", RawData!J150,\"\")","v":""},"","","","","",false,false,false,false,false,"","",""]
[{"$f":"IF(RawData!A151<>\"\", RawData!A151,\"\")","v":""},{"$f":"IF(RawData!B151<>\"\", RawData!B151,\"\")","v":""},{"$f":"IF(RawData!C151<>\"\", RawData!C151,\"\")","v":""},{"$f":"IF(RawData!D151<>\"\", RawData!D151,\"\")","v":""},{"$f":"IF(RawData!E151<>\"\", RawData!E151,\"\")","v":""},{"$f":"IF(RawData!F151<>\"\", RawData!F151,\"\")","v":""},{"$f":"IF(RawData!G151<>\"\", RawData!G151,\"\")","v":""},{"$f":"IF(RawData!H151<>\"\", RawData!H151,\"\")","v":""},{"$f":"IF(RawData!I151<>\"\", RawData!I151,\"\")","v":""},{"$f":"IF(RawData!J151<>\"\", RawData!J151,\"\")","v":""},"","","","","",false,false,false,false,false,"","",""]
[{"$f":"IF(RawData!A152<>\"\", RawData!A152,\"\")","v":""},{"$f":"IF(RawData!B152<>\"\", RawData!B152,\"\")","v":""},{"$f":"IF(RawData!C152<>\"\", RawData!C152,\"\")","v":""},{"$f":"IF(RawData!D152<>\"\", RawData!D152,\"\")","v":""},{"$f":"IF(RawData!E152<>\"\", RawData!E152,\"\")","v":""},{"$f":"IF(RawData!F152<>\"\", RawData!F152,\"\")","v":""},{"$f":"IF(RawData!G152<>\"\", RawData!G152,\"\")","v":""},{"$f":"IF(RawData!H152<>\"\", RawData!H152,\"\")","v":""},{"$f":"IF(RawData!I152<>\"\", RawData!I152,\"\")","v":""},{"$f":"IF(RawData!J152<>\"\", RawData!J152,\"\")","v":""},"","","","","",false,false,false,false,false,"","",""]
[{"$f":"IF(RawData!A153<>\"\", RawData!A153,\"\")","v":""},{"$f":"IF(RawData!B153<>\"\", RawData!B153,\"\")","v":""},{"$f":"IF(RawData!C153<>\"\", RawData!C153,\"\")","v":""},{"$f":"IF(RawData!D153<>\"\", RawData!D153,\"\")","v":""},{"$f":"IF(RawData!E153<>\"\", RawData!E153,\"\")","v":""},{"$f":"IF(RawData!F153<>\"\", RawData!F153,\"\")","v":""},{"$f":"IF(RawData!G153<>\"\", RawData!G153,\"\")","v":""},{"$f":"IF(RawData!H153<>\"\", RawData!H153,\"\")","v":""},{"$f":"IF(RawData!I153<>\"\", RawData!I153,\"\")","v":""},{"$f":"IF(RawData!J153<>\"\", RawData!J153,\"\")","v":""},"","","","","",false,false,false,false,false,"","",""]
[{"$f":"IF(RawData!A154<>\"\", RawData!A154,\"\")","v":""},{"$f":"IF(RawData!B154<>\"\", RawData!B154,\"\")","v":""},{"$f":"IF(RawData!C154<>\"\", RawData!C154,\"\")","v":""},{"$f":"IF(RawData!D154<>\"\", RawData!D154,\"\")","v":""},{"$f":"IF(RawData!E154<>\"\", RawData!E154,\"\")","v":""},{"$f":"IF(RawData!F154<>\"\", RawData!F154,\"\")","v":""},{"$f":"IF(RawData!G154<>\"\", RawData!G154,\"\")","v":""},{"$f":"IF(RawData!H154<>\"\", RawData!H154,\"\")","v":""},{"$f":"IF(RawData!I154<>\"\", RawData!I154,\"\")","v":""},{"$f":"IF(RawData!J154<>\"\", RawData!J154,\"\")","v":""},"","","","","",false,false,false,false,false,"","",""]
[{"$f":"IF(RawData!A155<>\"\", RawData!A155,\"\")","v":""},{"$f":"IF(RawData!B155<>\"\", RawData!B155,\"\")","v":""},{"$f":"IF(RawData!C155<>\"\", RawData!C155,\"\")","v":""},{"$f":"IF(RawData!D155<>\"\", RawData!D155,\"\")","v":""},{"$f":"IF(RawData!E155<>\"\", RawData!E155,\"\")","v":""},{"$f":"IF(RawData!F155<>\"\", RawData!F155,\"\")","v":""},{"$f":"IF(RawData!G155<>\"\", RawData!G155,\"\")","v":""},{"$f":"IF(RawData!H155<>\"\", RawData!H155,\"\")","v":""},{"$f":"IF(RawData!I155<>\"\", RawData!I155,\"\")","v":""},{"$f":"IF(RawData!J155<>\"\", RawData!J155,\"\")","v":""},"","","","","",false,false,false,false,false,"","",""]
[{"$f":"IF(RawData!A156<>\"\", RawData!A156,\"\")","v":""},{"$f":"IF(RawData!B156<>\"\", RawData!B156,\"\")","v":""},{"$f":"IF(RawData!C156<>\"\", RawData!C156,\"\")","v":""},{"$f":"IF(RawData!D156<>\"\", RawData!D156,\"\")","v":""},{"$f":"IF(RawData!E156<>\"\", RawData!E156,\"\")","v":""},{"$f":"IF(RawData!F156<>\"\", RawData!F156,\"\")","v":""},{"$f":"IF(RawData!G156<>\"\", RawData!G156,\"\")","v":""},{"$f":"IF(RawData!H156<>\"\", RawData!H156,\"\")","v":""},{"$f":"IF(RawData!I156<>\"\", RawData!I156,\"\")","v":""},{"$f":"IF(RawData!J156<>\"\", RawData!J156,\"\")","v":""},"","","","","",false,false,false,false,false,"","",""]
[{"$f":"IF(RawData!A157<>\"\", RawData!A157,\"\")","v":""},{"$f":"IF(RawData!B157<>\"\", RawData!B157,\"\")","v":""},{"$f":"IF(RawData!C157<>\"\", RawData!C157,\"\")","v":""},{"$f":"IF(RawData!D157<>\"\", RawData!D157,\"\")","v":""},{"$f":"IF(RawData!E157<>\"\", RawData!E157,\"\")","v":""},{"$f":"IF(RawData!F157<>\"\", RawData!F157,\"\")","v":""},{"$f":"IF(RawData!G157<>\"\", RawData!G157,\"\")","v":""},{"$f":"IF(RawData!H157<>\"\", RawData!H157,\"\")","v":""},{"$f":"IF(RawData!I157<>\"\", RawData!I157,\"\")","v":""},{"$f":"IF(RawData!J157<>\"\", RawData!J157,\"\")","v":""},"","","","","",false,false,false,false,false,"","",""]
[{"$f":"IF(RawData!A158<>\"\", RawData!A158,\"\")","v":""},{"$f":"IF(RawData!B158<>\"\", RawData!B158,\"\")","v":""},{"$f":"IF(RawData!C158<>\"\", RawData!C158,\"\")","v":""},{"$f":"IF(RawData!D158<>\"\", RawData!D158,\"\")","v":""},{"$f":"IF(RawData!E158<>\"\", RawData!E158,\"\")","v":""},{"$f":"IF(RawData!F158<>\"\", RawData!F158,\"\")","v":""},{"$f":"IF(RawData!G158<>\"\", RawData!G158,\"\")","v":""},{"$f":"IF(RawData!H158<>\"\", RawData!H158,\"\")","v":""},{"$f":"IF(RawData!I158<>\"\", RawData!I158,\"\")","v":""},{"$f":"IF(RawData!J158<>\"\", RawData!J158,\"\")","v":""},"","","","","",false,false,false,false,false,"","",""]
[{"$f":"IF(RawData!A159<>\"\", RawData!A159,\"\")","v":""},{"$f":"IF(RawData!B159<>\"\", RawData!B159,\"\")","v":""},{"$f":"IF(RawData!C159<>\"\", RawData!C159,\"\")","v":""},{"$f":"IF(RawData!D159<>\"\", RawData!D159,\"\")","v":""},{"$f":"IF(RawData!E159<>\"\", RawData!E159,\"\")","v":""},{"$f":"IF(RawData!F159<>\"\", RawData!F159,\"\")","v":""},{"$f":"IF(RawData!G159<>\"\", RawData!G159,\"\")","v":""},{"$f":"IF(RawData!H159<>\"\", RawData!H159,\"\")","v":""},{"$f":"IF(RawData!I159<>\"\", RawData!I159,\"\")","v":""},{"$f":"IF(RawData!J159<>\"\", RawData!J159,\"\")","v":""},"","","","","",false,false,false,false,false,"","",""]
[{"$f":"IF(RawData!A160<>\"\", RawData!A160,\"\")","v":""},{"$f":"IF(RawData!B160<>\"\", RawData!B160,\"\")","v":""},{"$f":"IF(RawData!C160<>\"\", RawData!C160,\"\")","v":""},{"$f":"IF(RawData!D160<>\"\", RawData!D160,\"\")","v":""},{"$f":"IF(RawData!E160<>\"\", RawData!E160,\"\")","v":""},{"$f":"IF(RawData!F160<>\"\", RawData!F160,\"\")","v":""},{"$f":"IF(RawData!G160<>\"\", RawData!G160,\"\")","v":""},{"$f":"IF(RawData!H160<>\"\", RawData!H160,\"\")","v":""},{"$f":"IF(RawData!I160<>\"\", RawData!I160,\"\")","v":""},{"$f":"IF(RawData!J160<>\"\", RawData!J160,\"\")","v":""},"","","","","",false,false,false,false,false,"","",""]
[{"$f":"IF(RawData!A161<>\"\", RawData!A161,\"\")","v":""},{"$f":"IF(RawData!B161<>\"\", RawData!B161,\"\")","v":""},{"$f":"IF(RawData!C161<>\"\", RawData!C161,\"\")","v":""},{"$f":"IF(RawData!D161<>\"\", RawData!D161,\"\")","v":""},{"$f":"IF(RawData!E161<>\"\", RawData!E161,\"\")","v":""},{"$f":"IF(RawData!F161<>\"\", RawData!F161,\"\")","v":""},{"$f":"IF(RawData!G161<>\"\", RawData!G161,\"\")","v":""},{"$f":"IF(RawData!H161<>\"\", RawData!H161,\"\")","v":""},{"$f":"IF(RawData!I161<>\"\", RawData!I161,\"\")","v":""},{"$f":"IF(RawData!J161<>\"\", RawData!J161,\"\")","v":""},"","","","","",false,false,false,false,false,"","",""]
[{"$f":"IF(RawData!A162<>\"\", RawData!A162,\"\")","v":""},{"$f":"IF(RawData!B162<>\"\", RawData!B162,\"\")","v":""},{"$f":"IF(RawData!C162<>\"\", RawData!C162,\"\")","v":""},{"$f":"IF(RawData!D162<>\"\", RawData!D162,\"\")","v":""},{"$f":"IF(RawData!E162<>\"\", RawData!E162,\"\")","v":""},{"$f":"IF(RawData!F162<>\"\", RawData!F162,\"\")","v":""},{"$f":"IF(RawData!G162<>\"\", RawData!G162,\"\")","v":""},{"$f":"IF(RawData!H162<>\"\", RawData!H162,\"\")","v":""},{"$f":"IF(RawData!I162<>\"\", RawData!I162,\"\")","v":""},{"$f":"IF(RawData!J162<>\"\", RawData!J162,\"\")","v":""},"","","","","",false,false,false,false,false,"","",""]
[{"$f":"IF(RawData!A163<>\"\", RawData!A163,\"\")","v":""},{"$f":"IF(RawData!B163<>\"\", RawData!B163,\"\")","v":""},{"$f":"IF(RawData!C163<>\"\", RawData!C163,\"\")","v":""},{"$f":"IF(RawData!D163<>\"\", RawData!D163,\"\")","v":""},{"$f":"IF(RawData!E163<>\"\", RawData!E163,\"\")","v":""},{"$f":"IF(RawData!F163<>\"\", RawData!F163,\"\")","v":""},{"$f":"IF(RawData!G163<>\"\", RawData!G163,\"\")","v":""},{"$f":"IF(RawData!H163<>\"\", RawData!H163,\"\")","v":""},{"$f":"IF(RawData!I163<>\"\", RawData!I163,\"\")","v":""},{"$f":"IF(RawData!J163<>\"\", RawData!J163,\"\")","v":""},"","","","","",false,false,false,false,false,"","",""]
[{"$f":"IF(RawData!A164<>\"\", RawData!A164,\"\")","v":""},{"$f":"IF(RawData!B164<>\"\", RawData!B164,\"\")","v":""},{"$f":"IF(RawData!C164<>\"\", RawData!C164,\"\")","v":""},{"$f":"IF(RawData!D164<>\"\", RawData!D164,\"\")","v":""},{"$f":"IF(RawData!E164<>\"\", RawData!E164,\"\")","v":""},{"$f":"IF(RawData!F164<>\"\", RawData!F164,\"\")","v":""},{"$f":"IF(RawData!G164<>\"\", RawData!G164,\"\")","v":""},{"$f":"IF(RawData!H164<>\"\", RawData!H164,\"\")","v":""},{"$f":"IF(RawData!I164<>\"\", RawData!I164,\"\")","v":""},{"$f":"IF(RawData!J164<>\"\", RawData!J164,\"\")","v":""},"","","","","",false,false,false,false,false,"","",""]
[{"$f":"IF(RawData!A165<>\"\", RawData!A165,\"\")","v":""},{"$f":"IF(RawData!B165<>\"\", RawData!B165,\"\")","v":""},{"$f":"IF(RawData!C165<>\"\", RawData!C165,\"\")","v":""},{"$f":"IF(RawData!D165<>\"\", RawData!D165,\"\")","v":""},{"$f":"IF(RawData!E165<>\"\", RawData!E165,\"\")","v":""},{"$f":"IF(RawData!F165<>\"\", RawData!F165,\"\")","v":""},{"$f":"IF(RawData!G165<>\"\", RawData!G165,\"\")","v":""},{"$f":"IF(RawData!H165<>\"\", RawData!H165,\"\")","v":""},{"$f":"IF(RawData!I165<>\"\", RawData!I165,\"\")","v":""},{"$f":"IF(RawData!J165<>\"\", RawData!J165,\"\")","v":""},"","","","","",false,false,false,false,false,"","",""]
[{"$f":"IF(RawData!A166<>\"\", RawData!A166,\"\")","v":""},{"$f":"IF(RawData!B166<>\"\", RawData!B166,\"\")","v":""},{"$f":"IF(RawData!C166<>\"\", RawData!C166,\"\")","v":""},{"$f":"IF(RawData!D166<>\"\", RawData!D166,\"\")","v":""},{"$f":"IF(RawData!E166<>\"\", RawData!E166,\"\")","v":""},{"$f":"IF(RawData!F166<>\"\", RawData!F166,\"\")","v":""},{"$f":"IF(RawData!G166<>\"\", RawData!G166,\"\")","v":""},{"$f":"IF(RawData!H166<>\"\", RawData!H166,\"\")","v":""},{"$f":"IF(RawData!I166<>\"\", RawData!I166,\"\")","v":""},{"$f":"IF(RawData!J166<>\"\", RawData!J166,\"\")","v":""},"","","","","",false,false,false,false,false,"","",""]
[{"$f":"IF(RawData!A167<>\"\", RawData!A167,\"\")","v":""},{"$f":"IF(RawData!B167<>\"\", RawData!B167,\"\")","v":""},{"$f":"IF(RawData!C167<>\"\", RawData!C167,\"\")","v":""},{"$f":"IF(RawData!D167<>\"\", RawData!D167,\"\")","v":""},{"$f":"IF(RawData!E167<>\"\", RawData!E167,\"\")","v":""},{"$f":"IF(RawData!F167<>\"\", RawData!F167,\"\")","v":""},{"$f":"IF(RawData!G167<>\"\", RawData!G167,\"\")","v":""},{"$f":"IF(RawData!H167<>\"\", RawData!H167,\"\")","v":""},{"$f":"IF(RawData!I167<>\"\", RawData!I167,\"\")","v":""},{"$f":"IF(RawData!J167<>\"\", RawData!J167,\"\")","v":""},"","","","","",false,false,false,false,false,"","",""]
[{"$f":"IF(RawData!A168<>\"\", RawData!A168,\"\")","v":""},{"$f":"IF(RawData!B168<>\"\", RawData!B168,\"\")","v":""},{"$f":"IF(RawData!C168<>\"\", RawData!C168,\"\")","v":""},{"$f":"IF(RawData!D168<>\"\", RawData!D168,\"\")","v":""},{"$f":"IF(RawData!E168<>\"\", RawData!E168,\"\")","v":""},{"$f":"IF(RawData!F168<>\"\", RawData!F168,\"\")","v":""},{"$f":"IF(RawData!G168<>\"\", RawData!G168,\"\")","v":""},{"$f":"IF(RawData!H168<>\"\", RawData!H168,\"\")","v":""},{"$f":"IF(RawData!I168<>\"\", RawData!I168,\"\")","v":""},{"$f":"IF(RawData!J168<>\"\", RawData!J168,\"\")","v":""},"","","","","",false,false,false,false,false,"","",""]
[{"$f":"IF(RawData!A169<>\"\", RawData!A169,\"\")","v":""},{"$f":"IF(RawData!B169<>\"\", RawData!B169,\"\")","v":""},{"$f":"IF(RawData!C169<>\"\", RawData!C169,\"\")","v":""},{"$f":"IF(RawData!D169<>\"\", RawData!D169,\"\")","v":""},{"$f":"IF(RawData!E169<>\"\", RawData!E169,\"\")","v":""},{"$f":"IF(RawData!F169<>\"\", RawData!F169,\"\")","v":""},{"$f":"IF(RawData!G169<>\"\", RawData!G169,\"\")","v":""},{"$f":"IF(RawData!H169<>\"\", RawData!H169,\"\")","v":""},{"$f":"IF(RawData!I169<>\"\", RawData!I169,\"\")","v":""},{"$f":"IF(RawData!J169<>\"\", RawData!J169,\"\")","v":""},"","","","","",false,false,false,false,false,"","",""]
[{"$f":"IF(RawData!A170<>\"\", RawData!A170,\"\")","v":""},{"$f":"IF(RawData!B170<>\"\", RawData!B170,\"\")","v":""},{"$f":"IF(RawData!C170<>\"\", RawData!C170,\"\")","v":""},{"$f":"IF(RawData!D170<>\"\", RawData!D170,\"\")","v":""},{"$f":"IF(RawData!E170<>\"\", RawData!E170,\"\")","v":""},{"$f":"IF(RawData!F170<>\"\", RawData!F170,\"\")","v":""},{"$f":"IF(RawData!G170<>\"\", RawData!G170,\"\")","v":""},{"$f":"IF(RawData!H170<>\"\", RawData!H170,\"\")","v":""},{"$f":"IF(RawData!I170<>\"\", RawData!I170,\"\")","v":""},{"$f":"IF(RawData!J170<>\"\", RawData!J170,\"\")","v":""},"","","","","",false,false,false,false,false,"","",""]
[{"$f":"IF(RawData!A171<>\"\", RawData!A171,\"\")","v":""},{"$f":"IF(RawData!B171<>\"\", RawData!B171,\"\")","v":""},{"$f":"IF(RawData!C171<>\"\", RawData!C171,\"\")","v":""},{"$f":"IF(RawData!D171<>\"\", RawData!D171,\"\")","v":""},{"$f":"IF(RawData!E171<>\"\", RawData!E171,\"\")","v":""},{"$f":"IF(RawData!F171<>\"\", RawData!F171,\"\")","v":""},{"$f":"IF(RawData!G171<>\"\", RawData!G171,\"\")","v":""},{"$f":"IF(RawData!H171<>\"\", RawData!H171,\"\")","v":""},{"$f":"IF(RawData!I171<>\"\", RawData!I171,\"\")","v":""},{"$f":"IF(RawData!J171<>\"\", RawData!J171,\"\")","v":""},"","","","","",false,false,false,false,false,"","",""]
[{"$f":"IF(RawData!A172<>\"\", RawData!A172,\"\")","v":""},{"$f":"IF(RawData!B172<>\"\", RawData!B172,\"\")","v":""},{"$f":"IF(RawData!C172<>\"\", RawData!C172,\"\")","v":""},{"$f":"IF(RawData!D172<>\"\", RawData!D172,\"\")","v":""},{"$f":"IF(RawData!E172<>\"\", RawData!E172,\"\")","v":""},{"$f":"IF(RawData!F172<>\"\", RawData!F172,\"\")","v":""},{"$f":"IF(RawData!G172<>\"\", RawData!G172,\"\")","v":""},{"$f":"IF(RawData!H172<>\"\", RawData!H172,\"\")","v":""},{"$f":"IF(RawData!I172<>\"\", RawData!I172,\"\")","v":""},{"$f":"IF(RawData!J172<>\"\", RawData!J172,\"\")","v":""},"","","","","",false,false,false,false,false,"","",""]
[{"$f":"IF(RawData!A173<>\"\", RawData!A173,\"\")","v":""},{"$f":"IF(RawData!B173<>\"\", RawData!B173,\"\")","v":""},{"$f":"IF(RawData!C173<>\"\", RawData!C173,\"\")","v":""},{"$f":"IF(RawData!D173<>\"\", RawData!D173,\"\")","v":""},{"$f":"IF(RawData!E173<>\"\", RawData!E173,\"\")","v":""},{"$f":"IF(RawData!F173<>\"\", RawData!F173,\"\")","v":""},{"$f":"IF(RawData!G173<>\"\", RawData!G173,\"\")","v":""},{"$f":"IF(RawData!H173<>\"\", RawData!H173,\"\")","v":""},{"$f":"IF(RawData!I173<>\"\", RawData!I173,\"\")","v":""},{"$f":"IF(RawData!J173<>\"\", RawData!J173,\"\")","v":""},"","","","","",false,false,false,false,false,"","",""]
[{"$f":"IF(RawData!A174<>\"\", RawData!A174,\"\")","v":""},{"$f":"IF(RawData!B174<>\"\", RawData!B174,\"\")","v":""},{"$f":"IF(RawData!C174<>\"\", RawData!C174,\"\")","v":""},{"$f":"IF(RawData!D174<>\"\", RawData!D174,\"\")","v":""},{"$f":"IF(RawData!E174<>\"\", RawData!E174,\"\")","v":""},{"$f":"IF(RawData!F174<>\"\", RawData!F174,\"\")","v":""},{"$f":"IF(RawData!G174<>\"\", RawData!G174,\"\")","v":""},{"$f":"IF(RawData!H174<>\"\", RawData!H174,\"\")","v":""},{"$f":"IF(RawData!I174<>\"\", RawData!I174,\"\")","v":""},{"$f":"IF(RawData!J174<>\"\", RawData!J174,\"\")","v":""},"","","","","",false,false,false,false,false,"","",""]
[{"$f":"IF(RawData!A175<>\"\", RawData!A175,\"\")","v":""},{"$f":"IF(RawData!B175<>\"\", RawData!B175,\"\")","v":""},{"$f":"IF(RawData!C175<>\"\", RawData!C175,\"\")","v":""},{"$f":"IF(RawData!D175<>\"\", RawData!D175,\"\")","v":""},{"$f":"IF(RawData!E175<>\"\", RawData!E175,\"\")","v":""},{"$f":"IF(RawData!F175<>\"\", RawData!F175,\"\")","v":""},{"$f":"IF(RawData!G175<>\"\", RawData!G175,\"\")","v":""},{"$f":"IF(RawData!H175<>\"\", RawData!H175,\"\")","v":""},{"$f":"IF(RawData!I175<>\"\", RawData!I175,\"\")","v":""},{"$f":"IF(RawData!J175<>\"\", RawData!J175,\"\")","v":""},"","","","","",false,false,false,false,false,"","",""]
[{"$f":"IF(RawData!A176<>\"\", RawData!A176,\"\")","v":""},{"$f":"IF(RawData!B176<>\"\", RawData!B176,\"\")","v":""},{"$f":"IF(RawData!C176<>\"\", RawData!C176,\"\")","v":""},{"$f":"IF(RawData!D176<>\"\", RawData!D176,\"\")","v":""},{"$f":"IF(RawData!E176<>\"\", RawData!E176,\"\")","v":""},{"$f":"IF(RawData!F176<>\"\", RawData!F176,\"\")","v":""},{"$f":"IF(RawData!G176<>\"\", RawData!G176,\"\")","v":""},{"$f":"IF(RawData!H176<>\"\", RawData!H176,\"\")","v":""},{"$f":"IF(RawData!I176<>\"\", RawData!I176,\"\")","v":""},{"$f":"IF(RawData!J176<>\"\", RawData!J176,\"\")","v":""},"","","","","",false,false,false,false,false,"","",""]
[{"$f":"IF(RawData!A177<>\"\", RawData!A177,\"\")","v":""},{"$f":"IF(RawData!B177<>\"\", RawData!B177,\"\")","v":""},{"$f":"IF(RawData!C177<>\"\", RawData!C177,\"\")","v":""},{"$f":"IF(RawData!D177<>\"\", RawData!D177,\"\")","v":""},{"$f":"IF(RawData!E177<>\"\", RawData!E177,\"\")","v":""},{"$f":"IF(RawData!F177<>\"\", RawData!F177,\"\")","v":""},{"$f":"IF(RawData!G177<>\"\", RawData!G177,\"\")","v":""},{"$f":"IF(RawData!H177<>\"\", RawData!H177,\"\")","v":""},{"$f":"IF(RawData!I177<>\"\", RawData!I177,\"\")","v":""},{"$f":"IF(RawData!J177<>\"\", RawData!J177,\"\")","v":""},"","","","","",false,false,false,false,false,"","",""]
[{"$f":"IF(RawData!A178<>\"\", RawData!A178,\"\")","v":""},{"$f":"IF(RawData!B178<>\"\", RawData!B178,\"\")","v":""},{"$f":"IF(RawData!C178<>\"\", RawData!C178,\"\")","v":""},{"$f":"IF(RawData!D178<>\"\", RawData!D178,\"\")","v":""},{"$f":"IF(RawData!E178<>\"\", RawData!E178,\"\")","v":""},{"$f":"IF(RawData!F178<>\"\", RawData!F178,\"\")","v":""},{"$f":"IF(RawData!G178<>\"\", RawData!G178,\"\")","v":""},{"$f":"IF(RawData!H178<>\"\", RawData!H178,\"\")","v":""},{"$f":"IF(RawData!I178<>\"\", RawData!I178,\"\")","v":""},{"$f":"IF(RawData!J178<>\"\", RawData!J178,\"\")","v":""},{"$f":"IF(G178<>\"\",IF(G178<3, 1, 0),\"\")","v":""},{"$f":"IF(G178<>\"\",IF(G178>=1, 1, 0),\"\")","v":""},{"$f":"IF(G178<>\"\",IF(AND(G178>=1,G178<=7), 1, 0),\"\")","v":""},"",{"$f":"IF(G178<>\"\",IF(G178>=8, 1, 0),\"\")","v":""},false,false,false,false,false,{"$f":"IF(H178<>\"\",IF(H178=1,IF(J178=4, 1, 0),\"\"),\"\")","v":""},"",""]
[{"$f":"IF(RawData!A179<>\"\", RawData!A179,\"\")","v":""},{"$f":"IF(RawData!B179<>\"\", RawData!B179,\"\")","v":""},{"$f":"IF(RawData!C179<>\"\", RawData!C179,\"\")","v":""},{"$f":"IF(RawData!D179<>\"\", RawData!D179,\"\")","v":""},{"$f":"IF(RawData!E179<>\"\", RawData!E179,\"\")","v":""},{"$f":"IF(RawData!F179<>\"\", RawData!F179,\"\")","v":""},{"$f":"IF(RawData!G179<>\"\", RawData!G179,\"\")","v":""},{"$f":"IF(RawData!H179<>\"\", RawData!H179,\"\")","v":""},{"$f":"IF(RawData!I179<>\"\", RawData!I179,\"\")","v":""},{"$f":"IF(RawData!J179<>\"\", RawData!J179,\"\")","v":""},"","","","","",{"$f":"IF(L179<>\"\", IF(J179<>\"\",IF(L179=0,IF(J179=1, 1, 0),\"\")))","v":false},{"$f":"IF(K179<>\"\",IF(J179<>\"\",IF(K179=1,IF(J179=1, 1, 0),\"\")))","v":false},{"$f":"IF(M179<>\"\",IF(J179<>\"\",IF(M179=1,IF(J179=2, 1, 0),\"\")))","v":false},{"$f":"IF(N179<>\"\",IF(J179<>\"\",IF(N179=1,IF(J179=3, 1, 0),\"\")))","v":false},{"$f":"IF(O179<>\"\",IF(J179<>\"\",IF(O179=1,IF(J179=4, 1, 0),\"\")))","v":false},"",{"$f":"IF(J179<>\"\",IF(OR(P179=1,Q179=1,R179=1,S179=1, T179=1, U179=1),1,0),\"\")","v":""},{"$f":"IF(J179<>\"\",IF(AND(J179<>0,V179=0),1,0),\"\")","v":""}]
[{"$f":"IF(RawData!A180<>\"\", RawData!A180,\"\")","v":""},{"$f":"IF(RawData!B180<>\"\", RawData!B180,\"\")","v":""},{"$f":"IF(RawData!C180<>\"\", RawData!C180,\"\")","v":""},{"$f":"IF(RawData!D180<>\"\", RawData!D180,\"\")","v":""},{"$f":"IF(RawData!E180<>\"\", RawData!E180,\"\")","v":""},{"$f":"IF(RawData!F180<>\"\", RawData!F180,\"\")","v":""},{"$f":"IF(RawData!G180<>\"\", RawData!G180,\"\")","v":""},{"$f":"IF(RawData!H180<>\"\", RawData!H180,\"\")","v":""},{"$f":"IF(RawData!I180<>\"\", RawData!I180,\"\")","v":""},{"$f":"IF(RawData!J180<>\"\", RawData!J180,\"\")","v":""},"","","","","",false,false,false,false,false,"","",""]
[{"$f":"IF(RawData!A181<>\"\", RawData!A181,\"\")","v":""},{"$f":"IF(RawData!B181<>\"\", RawData!B181,\"\")","v":""},{"$f":"IF(RawData!C181<>\"\", RawData!C181,\"\")","v":""},{"$f":"IF(RawData!D181<>\"\", RawData!D181,\"\")","v":""},{"$f":"IF(RawData!E181<>\"\", RawData!E181,\"\")","v":""},{"$f":"IF(RawData!F181<>\"\", RawData!F181,\"\")","v":""},{"$f":"IF(RawData!G181<>\"\", RawData!G181,\"\")","v":""},{"$f":"IF(RawData!H181<>\"\", RawData!H181,\"\")","v":""},{"$f":"IF(RawData!I181<>\"\", RawData!I181,\"\")","v":""},{"$f":"IF(RawData!J181<>\"\", RawData!J181,\"\")","v":""},"","","","","",false,false,false,false,false,"","",""]
[{"$f":"IF(RawData!A182<>\"\", RawData!A182,\"\")","v":""},{"$f":"IF(RawData!B182<>\"\", RawData!B182,\"\")","v":""},{"$f":"IF(RawData!C182<>\"\", RawData!C182,\"\")","v":""},{"$f":"IF(RawData!D182<>\"\", RawData!D182,\"\")","v":""},{"$f":"IF(RawData!E182<>\"\", RawData!E182,\"\")","v":""},{"$f":"IF(RawData!F182<>\"\", RawData!F182,\"\")","v":""},{"$f":"IF(RawData!G182<>\"\", RawData!G182,\"\")","v":""},{"$f":"IF(RawData!H182<>\"\", RawData!H182,\"\")","v":""},{"$f":"IF(RawData!I182<>\"\", RawData!I182,\"\")","v":""},{"$f":"IF(RawData!J182<>\"\", RawData!J182,\"\")","v":""},"","","","","",false,false,false,false,false,"","",""]
[{"$f":"IF(RawData!A183<>\"\", RawData!A183,\"\")","v":""},{"$f":"IF(RawData!B183<>\"\", RawData!B183,\"\")","v":""},{"$f":"IF(RawData!C183<>\"\", RawData!C183,\"\")","v":""},{"$f":"IF(RawData!D183<>\"\", RawData!D183,\"\")","v":""},{"$f":"IF(RawData!E183<>\"\", RawData!E183,\"\")","v":""},{"$f":"IF(RawData!F183<>\"\", RawData!F183,\"\")","v":""},{"$f":"IF(RawData!G183<>\"\", RawData!G183,\"\")","v":""},{"$f":"IF(RawData!H183<>\"\", RawData!H183,\"\")","v":""},{"$f":"IF(RawData!I183<>\"\", RawData!I183,\"\")","v":""},{"$f":"IF(RawData!J183<>\"\", RawData!J183,\"\")","v":""},"","","","","",false,false,false,false,false,"","",""]
[{"$f":"IF(RawData!A184<>\"\", RawData!A184,\"\")","v":""},{"$f":"IF(RawData!B184<>\"\", RawData!B184,\"\")","v":""},{"$f":"IF(RawData!C184<>\"\", RawData!C184,\"\")","v":""},{"$f":"IF(RawData!D184<>\"\", RawData!D184,\"\")","v":""},{"$f":"IF(RawData!E184<>\"\", RawData!E184,\"\")","v":""},{"$f":"IF(RawData!F184<>\"\", RawData!F184,\"\")","v":""},{"$f":"IF(RawData!G184<>\"\", RawData!G184,\"\")","v":""},{"$f":"IF(RawData!H184<>\"\", RawData!H184,\"\")","v":""},{"$f":"IF(RawData!I184<>\"\", RawData!I184,\"\")","v":""},{"$f":"IF(RawData!J184<>\"\", RawData!J184,\"\")","v":""},"","","","","",false,false,false,false,false,"","",""]
[{"$f":"IF(RawData!A185<>\"\", RawData!A185,\"\")","v":""},{"$f":"IF(RawData!B185<>\"\", RawData!B185,\"\")","v":""},{"$f":"IF(RawData!C185<>\"\", RawData!C185,\"\")","v":""},{"$f":"IF(RawData!D185<>\"\", RawData!D185,\"\")","v":""},{"$f":"IF(RawData!E185<>\"\", RawData!E185,\"\")","v":""},{"$f":"IF(RawData!F185<>\"\", RawData!F185,\"\")","v":""},{"$f":"IF(RawData!G185<>\"\", RawData!G185,\"\")","v":""},{"$f":"IF(RawData!H185<>\"\", RawData!H185,\"\")","v":""},{"$f":"IF(RawData!I185<>\"\", RawData!I185,\"\")","v":""},{"$f":"IF(RawData!J185<>\"\", RawData!J185,\"\")","v":""},"","","","","",false,false,false,false,false,"","",""]
[{"$f":"IF(RawData!A186<>\"\", RawData!A186,\"\")","v":""},{"$f":"IF(RawData!B186<>\"\", RawData!B186,\"\")","v":""},{"$f":"IF(RawData!C186<>\"\", RawData!C186,\"\")","v":""},{"$f":"IF(RawData!D186<>\"\", RawData!D186,\"\")","v":""},{"$f":"IF(RawData!E186<>\"\", RawData!E186,\"\")","v":""},{"$f":"IF(RawData!F186<>\"\", RawData!F186,\"\")","v":""},{"$f":"IF(RawData!G186<>\"\", RawData!G186,\"\")","v":""},{"$f":"IF(RawData!H186<>\"\", RawData!H186,\"\")","v":""},{"$f":"IF(RawData!I186<>\"\", RawData!I186,\"\")","v":""},{"$f":"IF(RawData!J186<>\"\", RawData!J186,\"\")","v":""},"","","","","",false,false,false,false,false,"","",""]
[{"$f":"IF(RawData!A187<>\"\", RawData!A187,\"\")","v":""},{"$f":"IF(RawData!B187<>\"\", RawData!B187,\"\")","v":""},{"$f":"IF(RawData!C187<>\"\", RawData!C187,\"\")","v":""},{"$f":"IF(RawData!D187<>\"\", RawData!D187,\"\")","v":""},{"$f":"IF(RawData!E187<>\"\", RawData!E187,\"\")","v":""},{"$f":"IF(RawData!F187<>\"\", RawData!F187,\"\")","v":""},{"$f":"IF(RawData!G187<>\"\", RawData!G187,\"\")","v":""},{"$f":"IF(RawData!H187<>\"\", RawData!H187,\"\")","v":""},{"$f":"IF(RawData!I187<>\"\", RawData!I187,\"\")","v":""},{"$f":"IF(RawData!J187<>\"\", RawData!J187,\"\")","v":""},"","","","","",false,false,false,false,false,"","",""]
[{"$f":"IF(RawData!A188<>\"\", RawData!A188,\"\")","v":""},{"$f":"IF(RawData!B188<>\"\", RawData!B188,\"\")","v":""},{"$f":"IF(RawData!C188<>\"\", RawData!C188,\"\")","v":""},{"$f":"IF(RawData!D188<>\"\", RawData!D188,\"\")","v":""},{"$f":"IF(RawData!E188<>\"\", RawData!E188,\"\")","v":""},{"$f":"IF(RawData!F188<>\"\", RawData!F188,\"\")","v":""},{"$f":"IF(RawData!G188<>\"\", RawData!G188,\"\")","v":""},{"$f":"IF(RawData!H188<>\"\", RawData!H188,\"\")","v":""},{"$f":"IF(RawData!I188<>\"\", RawData!I188,\"\")","v":""},{"$f":"IF(RawData!J188<>\"\", RawData!J188,\"\")","v":""},"","","","","",false,false,false,false,false,"","",""]
[{"$f":"IF(RawData!A189<>\"\", RawData!A189,\"\")","v":""},{"$f":"IF(RawData!B189<>\"\", RawData!B189,\"\")","v":""},{"$f":"IF(RawData!C189<>\"\", RawData!C189,\"\")","v":""},{"$f":"IF(RawData!D189<>\"\", RawData!D189,\"\")","v":""},{"$f":"IF(RawData!E189<>\"\", RawData!E189,\"\")","v":""},{"$f":"IF(RawData!F189<>\"\", RawData!F189,\"\")","v":""},{"$f":"IF(RawData!G189<>\"\", RawData!G189,\"\")","v":""},{"$f":"IF(RawData!H189<>\"\", RawData!H189,\"\")","v":""},{"$f":"IF(RawData!I189<>\"\", RawData!I189,\"\")","v":""},{"$f":"IF(RawData!J189<>\"\", RawData!J189,\"\")","v":""},"","","","","",false,false,false,false,false,"","",""]
[{"$f":"IF(RawData!A190<>\"\", RawData!A190,\"\")","v":""},{"$f":"IF(RawData!B190<>\"\", RawData!B190,\"\")","v":""},{"$f":"IF(RawData!C190<>\"\", RawData!C190,\"\")","v":""},{"$f":"IF(RawData!D190<>\"\", RawData!D190,\"\")","v":""},{"$f":"IF(RawData!E190<>\"\", RawData!E190,\"\")","v":""},{"$f":"IF(RawData!F190<>\"\", RawData!F190,\"\")","v":""},{"$f":"IF(RawData!G190<>\"\", RawData!G190,\"\")","v":""},{"$f":"IF(RawData!H190<>\"\", RawData!H190,\"\")","v":""},{"$f":"IF(RawData!I190<>\"\", RawData!I190,\"\")","v":""},{"$f":"IF(RawData!J190<>\"\", RawData!J190,\"\")","v":""},"","","","","",false,false,false,false,false,"","",""]
[{"$f":"IF(RawData!A191<>\"\", RawData!A191,\"\")","v":""},{"$f":"IF(RawData!B191<>\"\", RawData!B191,\"\")","v":""},{"$f":"IF(RawData!C191<>\"\", RawData!C191,\"\")","v":""},{"$f":"IF(RawData!D191<>\"\", RawData!D191,\"\")","v":""},{"$f":"IF(RawData!E191<>\"\", RawData!E191,\"\")","v":""},{"$f":"IF(RawData!F191<>\"\", RawData!F191,\"\")","v":""},{"$f":"IF(RawData!G191<>\"\", RawData!G191,\"\")","v":""},{"$f":"IF(RawData!H191<>\"\", RawData!H191,\"\")","v":""},{"$f":"IF(RawData!I191<>\"\", RawData!I191,\"\")","v":""},{"$f":"IF(RawData!J191<>\"\", RawData!J191,\"\")","v":""},"","","","","",false,false,false,false,false,"","",""]
[{"$f":"IF(RawData!A192<>\"\", RawData!A192,\"\")","v":""},{"$f":"IF(RawData!B192<>\"\", RawData!B192,\"\")","v":""},{"$f":"IF(RawData!C192<>\"\", RawData!C192,\"\")","v":""},{"$f":"IF(RawData!D192<>\"\", RawData!D192,\"\")","v":""},{"$f":"IF(RawData!E192<>\"\", RawData!E192,\"\")","v":""},{"$f":"IF(RawData!F192<>\"\", RawData!F192,\"\")","v":""},{"$f":"IF(RawData!G192<>\"\", RawData!G192,\"\")","v":""},{"$f":"IF(RawData!H192<>\"\", RawData!H192,\"\")","v":""},{"$f":"IF(RawData!I192<>\"\", RawData!I192,\"\")","v":""},{"$f":"IF(RawData!J192<>\"\", RawData!J192,\"\")","v":""},"","","","","",false,false,false,false,false,"","",""]
[{"$f":"IF(RawData!A193<>\"\", RawData!A193,\"\")","v":""},{"$f":"IF(RawData!B193<>\"\", RawData!B193,\"\")","v":""},{"$f":"IF(RawData!C193<>\"\", RawData!C193,\"\")","v":""},{"$f":"IF(RawData!D193<>\"\", RawData!D193,\"\")","v":""},{"$f":"IF(RawData!E193<>\"\", RawData!E193,\"\")","v":""},{"$f":"IF(RawData!F193<>\"\", RawData!F193,\"\")","v":""},{"$f":"IF(RawData!G193<>\"\", RawData!G193,\"\")","v":""},{"$f":"IF(RawData!H193<>\"\", RawData!H193,\"\")","v":""},{"$f":"IF(RawData!I193<>\"\", RawData!I193,\"\")","v":""},{"$f":"IF(RawData!J193<>\"\", RawData!J193,\"\")","v":""},"","","","","",false,false,false,false,false,"","",""]
[{"$f":"IF(RawData!A194<>\"\", RawData!A194,\"\")","v":""},{"$f":"IF(RawData!B194<>\"\", RawData!B194,\"\")","v":""},{"$f":"IF(RawData!C194<>\"\", RawData!C194,\"\")","v":""},{"$f":"IF(RawData!D194<>\"\", RawData!D194,\"\")","v":""},{"$f":"IF(RawData!E194<>\"\", RawData!E194,\"\")","v":""},{"$f":"IF(RawData!F194<>\"\", RawData!F194,\"\")","v":""},{"$f":"IF(RawData!G194<>\"\", RawData!G194,\"\")","v":""},{"$f":"IF(RawData!H194<>\"\", RawData!H194,\"\")","v":""},{"$f":"IF(RawData!I194<>\"\", RawData!I194,\"\")","v":""},{"$f":"IF(RawData!J194<>\"\", RawData!J194,\"\")","v":""},"","","","","",false,false,false,false,false,"","",""]
[{"$f":"IF(RawData!A195<>\"\", RawData!A195,\"\")","v":""},{"$f":"IF(RawData!B195<>\"\", RawData!B195,\"\")","v":""},{"$f":"IF(RawData!C195<>\"\", RawData!C195,\"\")","v":""},{"$f":"IF(RawData!D195<>\"\", RawData!D195,\"\")","v":""},{"$f":"IF(RawData!E195<>\"\", RawData!E195,\"\")","v":""},{"$f":"IF(RawData!F195<>\"\", RawData!F195,\"\")","v":""},{"$f":"IF(RawData!G195<>\"\", RawData!G195,\"\")","v":""},{"$f":"IF(RawData!H195<>\"\", RawData!H195,\"\")","v":""},{"$f":"IF(RawData!I195<>\"\", RawData!I195,\"\")","v":""},{"$f":"IF(RawData!J195<>\"\", RawData!J195,\"\")","v":""},"","","","","",false,false,false,false,false,"","",""]
[{"$f":"IF(RawData!A196<>\"\", RawData!A196,\"\")","v":""},{"$f":"IF(RawData!B196<>\"\", RawData!B196,\"\")","v":""},{"$f":"IF(RawData!C196<>\"\", RawData!C196,\"\")","v":""},{"$f":"IF(RawData!D196<>\"\", RawData!D196,\"\")","v":""},{"$f":"IF(RawData!E196<>\"\", RawData!E196,\"\")","v":""},{"$f":"IF(RawData!F196<>\"\", RawData!F196,\"\")","v":""},{"$f":"IF(RawData!G196<>\"\", RawData!G196,\"\")","v":""},{"$f":"IF(RawData!H196<>\"\", RawData!H196,\"\")","v":""},{"$f":"IF(RawData!I196<>\"\", RawData!I196,\"\")","v":""},{"$f":"IF(RawData!J196<>\"\", RawData!J196,\"\")","v":""},"","","","","",false,false,false,false,false,"","",""]
[{"$f":"IF(RawData!A197<>\"\", RawData!A197,\"\")","v":""},{"$f":"IF(RawData!B197<>\"\", RawData!B197,\"\")","v":""},{"$f":"IF(RawData!C197<>\"\", RawData!C197,\"\")","v":""},{"$f":"IF(RawData!D197<>\"\", RawData!D197,\"\")","v":""},{"$f":"IF(RawData!E197<>\"\", RawData!E197,\"\")","v":""},{"$f":"IF(RawData!F197<>\"\", RawData!F197,\"\")","v":""},{"$f":"IF(RawData!G197<>\"\", RawData!G197,\"\")","v":""},{"$f":"IF(RawData!H197<>\"\", RawData!H197,\"\")","v":""},{"$f":"IF(RawData!I197<>\"\", RawData!I197,\"\")","v":""},{"$f":"IF(RawData!J197<>\"\", RawData!J197,\"\")","v":""},"","","","","",false,false,false,false,false,"","",""]
[{"$f":"IF(RawData!A198<>\"\", RawData!A198,\"\")","v":""},{"$f":"IF(RawData!B198<>\"\", RawData!B198,\"\")","v":""},{"$f":"IF(RawData!C198<>\"\", RawData!C198,\"\")","v":""},{"$f":"IF(RawData!D198<>\"\", RawData!D198,\"\")","v":""},{"$f":"IF(RawData!E198<>\"\", RawData!E198,\"\")","v":""},{"$f":"IF(RawData!F198<>\"\", RawData!F198,\"\")","v":""},{"$f":"IF(RawData!G198<>\"\", RawData!G198,\"\")","v":""},{"$f":"IF(RawData!H198<>\"\", RawData!H198,\"\")","v":""},{"$f":"IF(RawData!I198<>\"\", RawData!I198,\"\")","v":""},{"$f":"IF(RawData!J198<>\"\", RawData!J198,\"\")","v":""},"","","","","",false,false,false,false,false,"","",""]
[{"$f":"IF(RawData!A199<>\"\", RawData!A199,\"\")","v":""},{"$f":"IF(RawData!B199<>\"\", RawData!B199,\"\")","v":""},{"$f":"IF(RawData!C199<>\"\", RawData!C199,\"\")","v":""},{"$f":"IF(RawData!D199<>\"\", RawData!D199,\"\")","v":""},{"$f":"IF(RawData!E199<>\"\", RawData!E199,\"\")","v":""},{"$f":"IF(RawData!F199<>\"\", RawData!F199,\"\")","v":""},{"$f":"IF(RawData!G199<>\"\", RawData!G199,\"\")","v":""},{"$f":"IF(RawData!H199<>\"\", RawData!H199,\"\")","v":""},{"$f":"IF(RawData!I199<>\"\", RawData!I199,\"\")","v":""},{"$f":"IF(RawData!J199<>\"\", RawData!J199,\"\")","v":""},"","","",{"$f":"IF(G199<>\"\",IF(G199>=4, 1, 0),\"\")","v":""},"",false,false,false,false,false,"","",""]
[{"$f":"IF(RawData!A200<>\"\", RawData!A200,\"\")","v":""},{"$f":"IF(RawData!B200<>\"\", RawData!B200,\"\")","v":""},{"$f":"IF(RawData!C200<>\"\", RawData!C200,\"\")","v":""},{"$f":"IF(RawData!D200<>\"\", RawData!D200,\"\")","v":""},{"$f":"IF(RawData!E200<>\"\", RawData!E200,\"\")","v":""},{"$f":"IF(RawData!F200<>\"\", RawData!F200,\"\")","v":""},{"$f":"IF(RawData!G200<>\"\", RawData!G200,\"\")","v":""},{"$f":"IF(RawData!H200<>\"\", RawData!H200,\"\")","v":""},{"$f":"IF(RawData!I200<>\"\", RawData!I200,\"\")","v":""},{"$f":"IF(RawData!J200<>\"\", RawData!J200,\"\")","v":""},"","","","","",false,false,false,false,false,"","",""]
[{"$f":"IF(RawData!A201<>\"\", RawData!A201,\"\")","v":""},{"$f":"IF(RawData!B201<>\"\", RawData!B201,\"\")","v":""},{"$f":"IF(RawData!C201<>\"\", RawData!C201,\"\")","v":""},{"$f":"IF(RawData!D201<>\"\", RawData!D201,\"\")","v":""},{"$f":"IF(RawData!E201<>\"\", RawData!E201,\"\")","v":""},{"$f":"IF(RawData!F201<>\"\", RawData!F201,\"\")","v":""},{"$f":"IF(RawData!G201<>\"\", RawData!G201,\"\")","v":""},{"$f":"IF(RawData!H201<>\"\", RawData!H201,\"\")","v":""},{"$f":"IF(RawData!I201<>\"\", RawData!I201,\"\")","v":""},{"$f":"IF(RawData!J201<>\"\", RawData!J201,\"\")","v":""},"","","","","",false,false,false,false,false,"","",""]
[{"$f":"IF(RawData!A202<>\"\", RawData!A202,\"\")","v":""},{"$f":"IF(RawData!B202<>\"\", RawData!B202,\"\")","v":""},{"$f":"IF(RawData!C202<>\"\", RawData!C202,\"\")","v":""},{"$f":"IF(RawData!D202<>\"\", RawData!D202,\"\")","v":""},{"$f":"IF(RawData!E202<>\"\", RawData!E202,\"\")","v":""},{"$f":"IF(RawData!F202<>\"\", RawData!F202,\"\")","v":""},{"$f":"IF(RawData!G202<>\"\", RawData!G202,\"\")","v":""},{"$f":"IF(RawData!H202<>\"\", RawData!H202,\"\")","v":""},{"$f":"IF(RawData!I202<>\"\", RawData!I202,\"\")","v":""},{"$f":"IF(RawData!J202<>\"\", RawData!J202,\"\")","v":""},"","","","","",false,false,false,false,false,"","",""]
[{"$f":"IF(RawData!A203<>\"\", RawData!A203,\"\")","v":""},{"$f":"IF(RawData!B203<>\"\", RawData!B203,\"\")","v":""},{"$f":"IF(RawData!C203<>\"\", RawData!C203,\"\")","v":""},{"$f":"IF(RawData!D203<>\"\", RawData!D203,\"\")","v":""},{"$f":"IF(RawData!E203<>\"\", RawData!E203,\"\")","v":""},{"$f":"IF(RawData!F203<>\"\", RawData!F203,\"\")","v":""},{"$f":"IF(RawData!G203<>\"\", RawData!G203,\"\")","v":""},{"$f":"IF(RawData!H203<>\"\", RawData!H203,\"\")","v":""},{"$f":"IF(RawData!I203<>\"\", RawData!I203,\"\")","v":""},{"$f":"IF(RawData!J203<>\"\", RawData!J203,\"\")","v":""},"","","","","",false,false,false,false,false,"","",""]
[{"$f":"IF(RawData!A204<>\"\", RawData!A204,\"\")","v":""},{"$f":"IF(RawData!B204<>\"\", RawData!B204,\"\")","v":""},{"$f":"IF(RawData!C204<>\"\", RawData!C204,\"\")","v":""},{"$f":"IF(RawData!D204<>\"\", RawData!D204,\"\")","v":""},{"$f":"IF(RawData!E204<>\"\", RawData!E204,\"\")","v":""},{"$f":"IF(RawData!F204<>\"\", RawData!F204,\"\")","v":""},{"$f":"IF(RawData!G204<>\"\", RawData!G204,\"\")","v":""},{"$f":"IF(RawData!H204<>\"\", RawData!H204,\"\")","v":""},{"$f":"IF(RawData!I204<>\"\", RawData!I204,\"\")","v":""},{"$f":"IF(RawData!J204<>\"\", RawData!J204,\"\")","v":""},"","","","","",false,false,false,false,false,"","",""]
[{"$f":"IF(RawData!A205<>\"\", RawData!A205,\"\")","v":""},{"$f":"IF(RawData!B205<>\"\", RawData!B205,\"\")","v":""},{"$f":"IF(RawData!C205<>\"\", RawData!C205,\"\")","v":""},{"$f":"IF(RawData!D205<>\"\", RawData!D205,\"\")","v":""},{"$f":"IF(RawData!E205<>\"\", RawData!E205,\"\")","v":""},{"$f":"IF(RawData!F205<>\"\", RawData!F205,\"\")","v":""},{"$f":"IF(RawData!G205<>\"\", RawData!G205,\"\")","v":""},{"$f":"IF(RawData!H205<>\"\", RawData!H205,\"\")","v":""},{"$f":"IF(RawData!I205<>\"\", RawData!I205,\"\")","v":""},{"$f":"IF(RawData!J205<>\"\", RawData!J205,\"\")","v":""},"","","","","",false,false,false,false,false,"","",""]
[{"$f":"IF(RawData!A206<>\"\", RawData!A206,\"\")","v":""},{"$f":"IF(RawData!B206<>\"\", RawData!B206,\"\")","v":""},{"$f":"IF(RawData!C206<>\"\", RawData!C206,\"\")","v":""},{"$f":"IF(RawData!D206<>\"\", RawData!D206,\"\")","v":""},{"$f":"IF(RawData!E206<>\"\", RawData!E206,\"\")","v":""},{"$f":"IF(RawData!F206<>\"\", RawData!F206,\"\")","v":""},{"$f":"IF(RawData!G206<>\"\", RawData!G206,\"\")","v":""},{"$f":"IF(RawData!H206<>\"\", RawData!H206,\"\")","v":""},{"$f":"IF(RawData!I206<>\"\", RawData!I206,\"\")","v":""},{"$f":"IF(RawData!J206<>\"\", RawData!J206,\"\")","v":""},"","","","","",false,false,false,false,false,"","",""]
[{"$f":"IF(RawData!A207<>\"\", RawData!A207,\"\")","v":""},{"$f":"IF(RawData!B207<>\"\", RawData!B207,\"\")","v":""},{"$f":"IF(RawData!C207<>\"\", RawData!C207,\"\")","v":""},{"$f":"IF(RawData!D207<>\"\", RawData!D207,\"\")","v":""},{"$f":"IF(RawData!E207<>\"\", RawData!E207,\"\")","v":""},{"$f":"IF(RawData!F207<>\"\", RawData!F207,\"\")","v":""},{"$f":"IF(RawData!G207<>\"\", RawData!G207,\"\")","v":""},{"$f":"IF(RawData!H207<>\"\", RawData!H207,\"\")","v":""},{"$f":"IF(RawData!I207<>\"\", RawData!I207,\"\")","v":""},{"$f":"IF(RawData!J207<>\"\", RawData!J207,\"\")","v":""},"","","","","",false,false,false,false,false,"","",""]
[{"$f":"IF(RawData!A208<>\"\", RawData!A208,\"\")","v":""},{"$f":"IF(RawData!B208<>\"\", RawData!B208,\"\")","v":""},{"$f":"IF(RawData!C208<>\"\", RawData!C208,\"\")","v":""},{"$f":"IF(RawData!D208<>\"\", RawData!D208,\"\")","v":""},{"$f":"IF(RawData!E208<>\"\", RawData!E208,\"\")","v":""},{"$f":"IF(RawData!F208<>\"\", RawData!F208,\"\")","v":""},{"$f":"IF(RawData!G208<>\"\", RawData!G208,\"\")","v":""},{"$f":"IF(RawData!H208<>\"\", RawData!H208,\"\")","v":""},{"$f":"IF(RawData!I208<>\"\", RawData!I208,\"\")","v":""},{"$f":"IF(RawData!J208<>\"\", RawData!J208,\"\")","v":""},"","","","","",false,false,false,false,false,"","",""]
[{"$f":"IF(RawData!A209<>\"\", RawData!A209,\"\")","v":""},{"$f":"IF(RawData!B209<>\"\", RawData!B209,\"\")","v":""},{"$f":"IF(RawData!C209<>\"\", RawData!C209,\"\")","v":""},{"$f":"IF(RawData!D209<>\"\", RawData!D209,\"\")","v":""},{"$f":"IF(RawData!E209<>\"\", RawData!E209,\"\")","v":""},{"$f":"IF(RawData!F209<>\"\", RawData!F209,\"\")","v":""},{"$f":"IF(RawData!G209<>\"\", RawData!G209,\"\")","v":""},{"$f":"IF(RawData!H209<>\"\", RawData!H209,\"\")","v":""},{"$f":"IF(RawData!I209<>\"\", RawData!I209,\"\")","v":""},{"$f":"IF(RawData!J209<>\"\", RawData!J209,\"\")","v":""},"","","","","",false,false,false,false,false,"","",""]
[{"$f":"IF(RawData!A210<>\"\", RawData!A210,\"\")","v":""},{"$f":"IF(RawData!B210<>\"\", RawData!B210,\"\")","v":""},{"$f":"IF(RawData!C210<>\"\", RawData!C210,\"\")","v":""},{"$f":"IF(RawData!D210<>\"\", RawData!D210,\"\")","v":""},{"$f":"IF(RawData!E210<>\"\", RawData!E210,\"\")","v":""},{"$f":"IF(RawData!F210<>\"\", RawData!F210,\"\")","v":""},{"$f":"IF(RawData!G210<>\"\", RawData!G210,\"\")","v":""},{"$f":"IF(RawData!H210<>\"\", RawData!H210,\"\")","v":""},{"$f":"IF(RawData!I210<>\"\", RawData!I210,\"\")","v":""},{"$f":"IF(RawData!J210<>\"\", RawData!J210,\"\")","v":""},"","","","","",false,false,false,false,false,"","",""]
[{"$f":"IF(RawData!A211<>\"\", RawData!A211,\"\")","v":""},{"$f":"IF(RawData!B211<>\"\", RawData!B211,\"\")","v":""},{"$f":"IF(RawData!C211<>\"\", RawData!C211,\"\")","v":""},{"$f":"IF(RawData!D211<>\"\", RawData!D211,\"\")","v":""},{"$f":"IF(RawData!E211<>\"\", RawData!E211,\"\")","v":""},{"$f":"IF(RawData!F211<>\"\", RawData!F211,\"\")","v":""},{"$f":"IF(RawData!G211<>\"\", RawData!G211,\"\")","v":""},{"$f":"IF(RawData!H211<>\"\", RawData!H211,\"\")","v":""},{"$f":"IF(RawData!I211<>\"\", RawData!I211,\"\")","v":""},{"$f":"IF(RawData!J211<>\"\", RawData!J211,\"\")","v":""},"","","","","",false,false,false,false,false,"","",""]
[{"$f":"IF(RawData!A212<>\"\", RawData!A212,\"\")","v":""},{"$f":"IF(RawData!B212<>\"\", RawData!B212,\"\")","v":""},{"$f":"IF(RawData!C212<>\"\", RawData!C212,\"\")","v":""},{"$f":"IF(RawData!D212<>\"\", RawData!D212,\"\")","v":""},{"$f":"IF(RawData!E212<>\"\", RawData!E212,\"\")","v":""},{"$f":"IF(RawData!F212<>\"\", RawData!F212,\"\")","v":""},{"$f":"IF(RawData!G212<>\"\", RawData!G212,\"\")","v":""},{"$f":"IF(RawData!H212<>\"\", RawData!H212,\"\")","v":""},{"$f":"IF(RawData!I212<>\"\", RawData!I212,\"\")","v":""},{"$f":"IF(RawData!J212<>\"\", RawData!J212,\"\")","v":""},"","","","","",false,false,false,false,false,"","",""]
[{"$f":"IF(RawData!A213<>\"\", RawData!A213,\"\")","v":""},{"$f":"IF(RawData!B213<>\"\", RawData!B213,\"\")","v":""},{"$f":"IF(RawData!C213<>\"\", RawData!C213,\"\")","v":""},{"$f":"IF(RawData!D213<>\"\", RawData!D213,\"\")","v":""},{"$f":"IF(RawData!E213<>\"\", RawData!E213,\"\")","v":""},{"$f":"IF(RawData!F213<>\"\", RawData!F213,\"\")","v":""},{"$f":"IF(RawData!G213<>\"\", RawData!G213,\"\")","v":""},{"$f":"IF(RawData!H213<>\"\", RawData!H213,\"\")","v":""},{"$f":"IF(RawData!I213<>\"\", RawData!I213,\"\")","v":""},{"$f":"IF(RawData!J213<>\"\", RawData!J213,\"\")","v":""},"","","","","",false,false,false,false,false,"","",""]
[{"$f":"IF(RawData!A214<>\"\", RawData!A214,\"\")","v":""},{"$f":"IF(RawData!B214<>\"\", RawData!B214,\"\")","v":""},{"$f":"IF(RawData!C214<>\"\", RawData!C214,\"\")","v":""},{"$f":"IF(RawData!D214<>\"\", RawData!D214,\"\")","v":""},{"$f":"IF(RawData!E214<>\"\", RawData!E214,\"\")","v":""},{"$f":"IF(RawData!F214<>\"\", RawData!F214,\"\")","v":""},{"$f":"IF(RawData!G214<>\"\", RawData!G214,\"\")","v":""},{"$f":"IF(RawData!H214<>\"\", RawData!H214,\"\")","v":""},{"$f":"IF(RawData!I214<>\"\", RawData!I214,\"\")","v":""},{"$f":"IF(RawData!J214<>\"\", RawData!J214,\"\")","v":""},"","","","","",false,false,false,false,false,"","",""]
[{"$f":"IF(RawData!A215<>\"\", RawData!A215,\"\")","v":""},{"$f":"IF(RawData!B215<>\"\", RawData!B215,\"\")","v":""},{"$f":"IF(RawData!C215<>\"\", RawData!C215,\"\")","v":""},{"$f":"IF(RawData!D215<>\"\", RawData!D215,\"\")","v":""},{"$f":"IF(RawData!E215<>\"\", RawData!E215,\"\")","v":""},{"$f":"IF(RawData!F215<>\"\", RawData!F215,\"\")","v":""},{"$f":"IF(RawData!G215<>\"\", RawData!G215,\"\")","v":""},{"$f":"IF(RawData!H215<>\"\", RawData!H215,\"\")","v":""},{"$f":"IF(RawData!I215<>\"\", RawData!I215,\"\")","v":""},{"$f":"IF(RawData!J215<>\"\", RawData!J215,\"\")","v":""},"","","","","",false,false,false,false,false,"","",""]
[{"$f":"IF(RawData!A216<>\"\", RawData!A216,\"\")","v":""},{"$f":"IF(RawData!B216<>\"\", RawData!B216,\"\")","v":""},{"$f":"IF(RawData!C216<>\"\", RawData!C216,\"\")","v":""},{"$f":"IF(RawData!D216<>\"\", RawData!D216,\"\")","v":""},{"$f":"IF(RawData!E216<>\"\", RawData!E216,\"\")","v":""},{"$f":"IF(RawData!F216<>\"\", RawData!F216,\"\")","v":""},{"$f":"IF(RawData!G216<>\"\", RawData!G216,\"\")","v":""},{"$f":"IF(RawData!H216<>\"\", RawData!H216,\"\")","v":""},{"$f":"IF(RawData!I216<>\"\", RawData!I216,\"\")","v":""},{"$f":"IF(RawData!J216<>\"\", RawData!J216,\"\")","v":""},"","","","","",false,false,false,false,false,"","",""]
[{"$f":"IF(RawData!A217<>\"\", RawData!A217,\"\")","v":""},{"$f":"IF(RawData!B217<>\"\", RawData!B217,\"\")","v":""},{"$f":"IF(RawData!C217<>\"\", RawData!C217,\"\")","v":""},{"$f":"IF(RawData!D217<>\"\", RawData!D217,\"\")","v":""},{"$f":"IF(RawData!E217<>\"\", RawData!E217,\"\")","v":""},{"$f":"IF(RawData!F217<>\"\", RawData!F217,\"\")","v":""},{"$f":"IF(RawData!G217<>\"\", RawData!G217,\"\")","v":""},{"$f":"IF(RawData!H217<>\"\", RawData!H217,\"\")","v":""},{"$f":"IF(RawData!I217<>\"\", RawData!I217,\"\")","v":""},{"$f":"IF(RawData!J217<>\"\", RawData!J217,\"\")","v":""},"","","","","",false,false,false,false,false,"","",""]
[{"$f":"IF(RawData!A218<>\"\", RawData!A218,\"\")","v":""},{"$f":"IF(RawData!B218<>\"\", RawData!B218,\"\")","v":""},{"$f":"IF(RawData!C218<>\"\", RawData!C218,\"\")","v":""},{"$f":"IF(RawData!D218<>\"\", RawData!D218,\"\")","v":""},{"$f":"IF(RawData!E218<>\"\", RawData!E218,\"\")","v":""},{"$f":"IF(RawData!F218<>\"\", RawData!F218,\"\")","v":""},{"$f":"IF(RawData!G218<>\"\", RawData!G218,\"\")","v":""},{"$f":"IF(RawData!H218<>\"\", RawData!H218,\"\")","v":""},{"$f":"IF(RawData!I218<>\"\", RawData!I218,\"\")","v":""},{"$f":"IF(RawData!J218<>\"\", RawData!J218,\"\")","v":""},"","","","","",false,false,false,false,false,"","",""]
[{"$f":"IF(RawData!A219<>\"\", RawData!A219,\"\")","v":""},{"$f":"IF(RawData!B219<>\"\", RawData!B219,\"\")","v":""},{"$f":"IF(RawData!C219<>\"\", RawData!C219,\"\")","v":""},{"$f":"IF(RawData!D219<>\"\", RawData!D219,\"\")","v":""},{"$f":"IF(RawData!E219<>\"\", RawData!E219,\"\")","v":""},{"$f":"IF(RawData!F219<>\"\", RawData!F219,\"\")","v":""},{"$f":"IF(RawData!G219<>\"\", RawData!G219,\"\")","v":""},{"$f":"IF(RawData!H219<>\"\", RawData!H219,\"\")","v":""},{"$f":"IF(RawData!I219<>\"\", RawData!I219,\"\")","v":""},{"$f":"IF(RawData!J219<>\"\", RawData!J219,\"\")","v":""},"","","","","",false,false,false,false,false,"","",""]
[{"$f":"IF(RawData!A220<>\"\", RawData!A220,\"\")","v":""},{"$f":"IF(RawData!B220<>\"\", RawData!B220,\"\")","v":""},{"$f":"IF(RawData!C220<>\"\", RawData!C220,\"\")","v":""},{"$f":"IF(RawData!D220<>\"\", RawData!D220,\"\")","v":""},{"$f":"IF(RawData!E220<>\"\", RawData!E220,\"\")","v":""},{"$f":"IF(RawData!F220<>\"\", RawData!F220,\"\")","v":""},{"$f":"IF(RawData!G220<>\"\", RawData!G220,\"\")","v":""},{"$f":"IF(RawData!H220<>\"\", RawData!H220,\"\")","v":""},{"$f":"IF(RawData!I220<>\"\", RawData!I220,\"\")","v":""},{"$f":"IF(RawData!J220<>\"\", RawData!J220,\"\")","v":""},"","","","","",false,false,false,false,false,"","",""]
[{"$f":"IF(RawData!A221<>\"\", RawData!A221,\"\")","v":""},{"$f":"IF(RawData!B221<>\"\", RawData!B221,\"\")","v":""},{"$f":"IF(RawData!C221<>\"\", RawData!C221,\"\")","v":""},{"$f":"IF(RawData!D221<>\"\", RawData!D221,\"\")","v":""},{"$f":"IF(RawData!E221<>\"\", RawData!E221,\"\")","v":""},{"$f":"IF(RawData!F221<>\"\", RawData!F221,\"\")","v":""},{"$f":"IF(RawData!G221<>\"\", RawData!G221,\"\")","v":""},{"$f":"IF(RawData!H221<>\"\", RawData!H221,\"\")","v":""},{"$f":"IF(RawData!I221<>\"\", RawData!I221,\"\")","v":""},{"$f":"IF(RawData!J221<>\"\", RawData!J221,\"\")","v":""},"","","","","",false,false,false,false,false,"","",""]
[{"$f":"IF(RawData!A222<>\"\", RawData!A222,\"\")","v":""},{"$f":"IF(RawData!B222<>\"\", RawData!B222,\"\")","v":""},{"$f":"IF(RawData!C222<>\"\", RawData!C222,\"\")","v":""},{"$f":"IF(RawData!D222<>\"\", RawData!D222,\"\")","v":""},{"$f":"IF(RawData!E222<>\"\", RawData!E222,\"\")","v":""},{"$f":"IF(RawData!F222<>\"\", RawData!F222,\"\")","v":""},{"$f":"IF(RawData!G222<>\"\", RawData!G222,\"\")","v":""},{"$f":"IF(RawData!H222<>\"\", RawData!H222,\"\")","v":""},{"$f":"IF(RawData!I222<>\"\", RawData!I222,\"\")","v":""},{"$f":"IF(RawData!J222<>\"\", RawData!J222,\"\")","v":""},"","","","","",false,false,false,false,false,"","",""]
[{"$f":"IF(RawData!A223<>\"\", RawData!A223,\"\")","v":""},{"$f":"IF(RawData!B223<>\"\", RawData!B223,\"\")","v":""},{"$f":"IF(RawData!C223<>\"\", RawData!C223,\"\")","v":""},{"$f":"IF(RawData!D223<>\"\", RawData!D223,\"\")","v":""},{"$f":"IF(RawData!E223<>\"\", RawData!E223,\"\")","v":""},{"$f":"IF(RawData!F223<>\"\", RawData!F223,\"\")","v":""},{"$f":"IF(RawData!G223<>\"\", RawData!G223,\"\")","v":""},{"$f":"IF(RawData!H223<>\"\", RawData!H223,\"\")","v":""},{"$f":"IF(RawData!I223<>\"\", RawData!I223,\"\")","v":""},{"$f":"IF(RawData!J223<>\"\", RawData!J223,\"\")","v":""},"","","","","",false,false,false,false,false,"","",""]
[{"$f":"IF(RawData!A224<>\"\", RawData!A224,\"\")","v":""},{"$f":"IF(RawData!B224<>\"\", RawData!B224,\"\")","v":""},{"$f":"IF(RawData!C224<>\"\", RawData!C224,\"\")","v":""},{"$f":"IF(RawData!D224<>\"\", RawData!D224,\"\")","v":""},{"$f":"IF(RawData!E224<>\"\", RawData!E224,\"\")","v":""},{"$f":"IF(RawData!F224<>\"\", RawData!F224,\"\")","v":""},{"$f":"IF(RawData!G224<>\"\", RawData!G224,\"\")","v":""},{"$f":"IF(RawData!H224<>\"\", RawData!H224,\"\")","v":""},{"$f":"IF(RawData!I224<>\"\", RawData!I224,\"\")","v":""},{"$f":"IF(RawData!J224<>\"\", RawData!J224,\"\")","v":""},"","","","","",false,false,false,false,false,"","",""]
[{"$f":"IF(RawData!A225<>\"\", RawData!A225,\"\")","v":""},{"$f":"IF(RawData!B225<>\"\", RawData!B225,\"\")","v":""},{"$f":"IF(RawData!C225<>\"\", RawData!C225,\"\")","v":""},{"$f":"IF(RawData!D225<>\"\", RawData!D225,\"\")","v":""},{"$f":"IF(RawData!E225<>\"\", RawData!E225,\"\")","v":""},{"$f":"IF(RawData!F225<>\"\", RawData!F225,\"\")","v":""},{"$f":"IF(RawData!G225<>\"\", RawData!G225,\"\")","v":""},{"$f":"IF(RawData!H225<>\"\", RawData!H225,\"\")","v":""},{"$f":"IF(RawData!I225<>\"\", RawData!I225,\"\")","v":""},{"$f":"IF(RawData!J225<>\"\", RawData!J225,\"\")","v":""},"","","","","",false,false,false,false,false,"","",""]
[{"$f":"IF(RawData!A226<>\"\", RawData!A226,\"\")","v":""},{"$f":"IF(RawData!B226<>\"\", RawData!B226,\"\")","v":""},{"$f":"IF(RawData!C226<>\"\", RawData!C226,\"\")","v":""},{"$f":"IF(RawData!D226<>\"\", RawData!D226,\"\")","v":""},{"$f":"IF(RawData!E226<>\"\", RawData!E226,\"\")","v":""},{"$f":"IF(RawData!F226<>\"\", RawData!F226,\"\")","v":""},{"$f":"IF(RawData!G226<>\"\", RawData!G226,\"\")","v":""},{"$f":"IF(RawData!H226<>\"\", RawData!H226,\"\")","v":""},{"$f":"IF(RawData!I226<>\"\", RawData!I226,\"\")","v":""},{"$f":"IF(RawData!J226<>\"\", RawData!J226,\"\")","v":""},"","","","","",false,false,false,false,false,"","",""]
[{"$f":"IF(RawData!A227<>\"\", RawData!A227,\"\")","v":""},{"$f":"IF(RawData!B227<>\"\", RawData!B227,\"\")","v":""},{"$f":"IF(RawData!C227<>\"\", RawData!C227,\"\")","v":""},{"$f":"IF(RawData!D227<>\"\", RawData!D227,\"\")","v":""},{"$f":"IF(RawData!E227<>\"\", RawData!E227,\"\")","v":""},{"$f":"IF(RawData!F227<>\"\", RawData!F227,\"\")","v":""},{"$f":"IF(RawData!G227<>\"\", RawData!G227,\"\")","v":""},{"$f":"IF(RawData!H227<>\"\", RawData!H227,\"\")","v":""},{"$f":"IF(RawData!I227<>\"\", RawData!I227,\"\")","v":""},{"$f":"IF(RawData!J227<>\"\", RawData!J227,\"\")","v":""},"","","","","",false,false,false,false,false,"","",""]
[{"$f":"IF(RawData!A228<>\"\", RawData!A228,\"\")","v":""},{"$f":"IF(RawData!B228<>\"\", RawData!B228,\"\")","v":""},{"$f":"IF(RawData!C228<>\"\", RawData!C228,\"\")","v":""},{"$f":"IF(RawData!D228<>\"\", RawData!D228,\"\")","v":""},{"$f":"IF(RawData!E228<>\"\", RawData!E228,\"\")","v":""},{"$f":"IF(RawData!F228<>\"\", RawData!F228,\"\")","v":""},{"$f":"IF(RawData!G228<>\"\", RawData!G228,\"\")","v":""},{"$f":"IF(RawData!H228<>\"\", RawData!H228,\"\")","v":""},{"$f":"IF(RawData!I228<>\"\", RawData!I228,\"\")","v":""},{"$f":"IF(RawData!J228<>\"\", RawData!J228,\"\")","v":""},"","","","","",false,false,false,false,false,"","",""]
[{"$f":"IF(RawData!A229<>\"\", RawData!A229,\"\")","v":""},{"$f":"IF(RawData!B229<>\"\", RawData!B229,\"\")","v":""},{"$f":"IF(RawData!C229<>\"\", RawData!C229,\"\")","v":""},{"$f":"IF(RawData!D229<>\"\", RawData!D229,\"\")","v":""},{"$f":"IF(RawData!E229<>\"\", RawData!E229,\"\")","v":""},{"$f":"IF(RawData!F229<>\"\", RawData!F229,\"\")","v":""},{"$f":"IF(RawData!G229<>\"\", RawData!G229,\"\")","v":""},{"$f":"IF(RawData!H229<>\"\", RawData!H229,\"\")","v":""},{"$f":"IF(RawData!I229<>\"\", RawData!I229,\"\")","v":""},{"$f":"IF(RawData!J229<>\"\", RawData!J229,\"\")","v":""},"","","","","",false,false,false,false,false,"","",""]
[{"$f":"IF(RawData!A230<>\"\", RawData!A230,\"\")","v":""},{"$f":"IF(RawData!B230<>\"\", RawData!B230,\"\")","v":""},{"$f":"IF(RawData!C230<>\"\", RawData!C230,\"\")","v":""},{"$f":"IF(RawData!D230<>\"\", RawData!D230,\"\")","v":""},{"$f":"IF(RawData!E230<>\"\", RawData!E230,\"\")","v":""},{"$f":"IF(RawData!F230<>\"\", RawData!F230,\"\")","v":""},{"$f":"IF(RawData!G230<>\"\", RawData!G230,\"\")","v":""},{"$f":"IF(RawData!H230<>\"\", RawData!H230,\"\")","v":""},{"$f":"IF(RawData!I230<>\"\", RawData!I230,\"\")","v":""},{"$f":"IF(RawData!J230<>\"\", RawData!J230,\"\")","v":""},"","","","","",false,false,false,false,false,"","",""]
[{"$f":"IF(RawData!A231<>\"\", RawData!A231,\"\")","v":""},{"$f":"IF(RawData!B231<>\"\", RawData!B231,\"\")","v":""},{"$f":"IF(RawData!C231<>\"\", RawData!C231,\"\")","v":""},{"$f":"IF(RawData!D231<>\"\", RawData!D231,\"\")","v":""},{"$f":"IF(RawData!E231<>\"\", RawData!E231,\"\")","v":""},{"$f":"IF(RawData!F231<>\"\", RawData!F231,\"\")","v":""},{"$f":"IF(RawData!G231<>\"\", RawData!G231,\"\")","v":""},{"$f":"IF(RawData!H231<>\"\", RawData!H231,\"\")","v":""},{"$f":"IF(RawData!I231<>\"\", RawData!I231,\"\")","v":""},{"$f":"IF(RawData!J231<>\"\", RawData!J231,\"\")","v":""},"","","","","",false,false,false,false,false,"","",""]
[{"$f":"IF(RawData!A232<>\"\", RawData!A232,\"\")","v":""},{"$f":"IF(RawData!B232<>\"\", RawData!B232,\"\")","v":""},{"$f":"IF(RawData!C232<>\"\", RawData!C232,\"\")","v":""},{"$f":"IF(RawData!D232<>\"\", RawData!D232,\"\")","v":""},{"$f":"IF(RawData!E232<>\"\", RawData!E232,\"\")","v":""},{"$f":"IF(RawData!F232<>\"\", RawData!F232,\"\")","v":""},{"$f":"IF(RawData!G232<>\"\", RawData!G232,\"\")","v":""},{"$f":"IF(RawData!H232<>\"\", RawData!H232,\"\")","v":""},{"$f":"IF(RawData!I232<>\"\", RawData!I232,\"\")","v":""},{"$f":"IF(RawData!J232<>\"\", RawData!J232,\"\")","v":""},"","","","","",false,false,false,false,false,"","",""]
[{"$f":"IF(RawData!A233<>\"\", RawData!A233,\"\")","v":""},{"$f":"IF(RawData!B233<>\"\", RawData!B233,\"\")","v":""},{"$f":"IF(RawData!C233<>\"\", RawData!C233,\"\")","v":""},{"$f":"IF(RawData!D233<>\"\", RawData!D233,\"\")","v":""},{"$f":"IF(RawData!E233<>\"\", RawData!E233,\"\")","v":""},{"$f":"IF(RawData!F233<>\"\", RawData!F233,\"\")","v":""},{"$f":"IF(RawData!G233<>\"\", RawData!G233,\"\")","v":""},{"$f":"IF(RawData!H233<>\"\", RawData!H233,\"\")","v":""},{"$f":"IF(RawData!I233<>\"\", RawData!I233,\"\")","v":""},{"$f":"IF(RawData!J233<>\"\", RawData!J233,\"\")","v":""},"","","","","",false,false,false,false,false,"","",""]
[{"$f":"IF(RawData!A234<>\"\", RawData!A234,\"\")","v":""},{"$f":"IF(RawData!B234<>\"\", RawData!B234,\"\")","v":""},{"$f":"IF(RawData!C234<>\"\", RawData!C234,\"\")","v":""},{"$f":"IF(RawData!D234<>\"\", RawData!D234,\"\")","v":""},{"$f":"IF(RawData!E234<>\"\", RawData!E234,\"\")","v":""},{"$f":"IF(RawData!F234<>\"\", RawData!F234,\"\")","v":""},{"$f":"IF(RawData!G234<>\"\", RawData!G234,\"\")","v":""},{"$f":"IF(RawData!H234<>\"\", RawData!H234,\"\")","v":""},{"$f":"IF(RawData!I234<>\"\", RawData!I234,\"\")","v":""},{"$f":"IF(RawData!J234<>\"\", RawData!J234,\"\")","v":""},"","","","","",false,false,false,false,false,"","",""]
[{"$f":"IF(RawData!A235<>\"\", RawData!A235,\"\")","v":""},{"$f":"IF(RawData!B235<>\"\", RawData!B235,\"\")","v":""},{"$f":"IF(RawData!C235<>\"\", RawData!C235,\"\")","v":""},{"$f":"IF(RawData!D235<>\"\", RawData!D235,\"\")","v":""},{"$f":"IF(RawData!E235<>\"\", RawData!E235,\"\")","v":""},{"$f":"IF(RawData!F235<>\"\", RawData!F235,\"\")","v":""},{"$f":"IF(RawData!G235<>\"\", RawData!G235,\"\")","v":""},{"$f":"IF(RawData!H235<>\"\", RawData!H235,\"\")","v":""},{"$f":"IF(RawData!I235<>\"\", RawData!I235,\"\")","v":""},{"$f":"IF(RawData!J235<>\"\", RawData!J235,\"\")","v":""},"","","","","",false,false,false,false,false,"","",""]
[{"$f":"IF(RawData!A236<>\"\", RawData!A236,\"\")","v":""},{"$f":"IF(RawData!B236<>\"\", RawData!B236,\"\")","v":""},{"$f":"IF(RawData!C236<>\"\", RawData!C236,\"\")","v":""},{"$f":"IF(RawData!D236<>\"\", RawData!D236,\"\")","v":""},{"$f":"IF(RawData!E236<>\"\", RawData!E236,\"\")","v":""},{"$f":"IF(RawData!F236<>\"\", RawData!F236,\"\")","v":""},{"$f":"IF(RawData!G236<>\"\", RawData!G236,\"\")","v":""},{"$f":"IF(RawData!H236<>\"\", RawData!H236,\"\")","v":""},{"$f":"IF(RawData!I236<>\"\", RawData!I236,\"\")","v":""},{"$f":"IF(RawData!J236<>\"\", RawData!J236,\"\")","v":""},"","","","","",false,false,false,false,false,"","",""]
[{"$f":"IF(RawData!A237<>\"\", RawData!A237,\"\")","v":""},{"$f":"IF(RawData!B237<>\"\", RawData!B237,\"\")","v":""},{"$f":"IF(RawData!C237<>\"\", RawData!C237,\"\")","v":""},{"$f":"IF(RawData!D237<>\"\", RawData!D237,\"\")","v":""},{"$f":"IF(RawData!E237<>\"\", RawData!E237,\"\")","v":""},{"$f":"IF(RawData!F237<>\"\", RawData!F237,\"\")","v":""},{"$f":"IF(RawData!G237<>\"\", RawData!G237,\"\")","v":""},{"$f":"IF(RawData!H237<>\"\", RawData!H237,\"\")","v":""},{"$f":"IF(RawData!I237<>\"\", RawData!I237,\"\")","v":""},{"$f":"IF(RawData!J237<>\"\", RawData!J237,\"\")","v":""},"","","","","",false,false,false,false,false,"","",""]
[{"$f":"IF(RawData!A238<>\"\", RawData!A238,\"\")","v":""},{"$f":"IF(RawData!B238<>\"\", RawData!B238,\"\")","v":""},{"$f":"IF(RawData!C238<>\"\", RawData!C238,\"\")","v":""},{"$f":"IF(RawData!D238<>\"\", RawData!D238,\"\")","v":""},{"$f":"IF(RawData!E238<>\"\", RawData!E238,\"\")","v":""},{"$f":"IF(RawData!F238<>\"\", RawData!F238,\"\")","v":""},{"$f":"IF(RawData!G238<>\"\", RawData!G238,\"\")","v":""},{"$f":"IF(RawData!H238<>\"\", RawData!H238,\"\")","v":""},{"$f":"IF(RawData!I238<>\"\", RawData!I238,\"\")","v":""},{"$f":"IF(RawData!J238<>\"\", RawData!J238,\"\")","v":""},"","","","","",false,false,false,false,false,"","",""]
[{"$f":"IF(RawData!A239<>\"\", RawData!A239,\"\")","v":""},{"$f":"IF(RawData!B239<>\"\", RawData!B239,\"\")","v":""},{"$f":"IF(RawData!C239<>\"\", RawData!C239,\"\")","v":""},{"$f":"IF(RawData!D239<>\"\", RawData!D239,\"\")","v":""},{"$f":"IF(RawData!E239<>\"\", RawData!E239,\"\")","v":""},{"$f":"IF(RawData!F239<>\"\", RawData!F239,\"\")","v":""},{"$f":"IF(RawData!G239<>\"\", RawData!G239,\"\")","v":""},{"$f":"IF(RawData!H239<>\"\", RawData!H239,\"\")","v":""},{"$f":"IF(RawData!I239<>\"\", RawData!I239,\"\")","v":""},{"$f":"IF(RawData!J239<>\"\", RawData!J239,\"\")","v":""},"","","","","",false,false,false,false,false,"","",""]
[{"$f":"IF(RawData!A240<>\"\", RawData!A240,\"\")","v":""},{"$f":"IF(RawData!B240<>\"\", RawData!B240,\"\")","v":""},{"$f":"IF(RawData!C240<>\"\", RawData!C240,\"\")","v":""},{"$f":"IF(RawData!D240<>\"\", RawData!D240,\"\")","v":""},{"$f":"IF(RawData!E240<>\"\", RawData!E240,\"\")","v":""},{"$f":"IF(RawData!F240<>\"\", RawData!F240,\"\")","v":""},{"$f":"IF(RawData!G240<>\"\", RawData!G240,\"\")","v":""},{"$f":"IF(RawData!H240<>\"\", RawData!H240,\"\")","v":""},{"$f":"IF(RawData!I240<>\"\", RawData!I240,\"\")","v":""},{"$f":"IF(RawData!J240<>\"\", RawData!J240,\"\")","v":""},"","","","","",false,false,false,false,false,"","",""]
[{"$f":"IF(RawData!A241<>\"\", RawData!A241,\"\")","v":""},{"$f":"IF(RawData!B241<>\"\", RawData!B241,\"\")","v":""},{"$f":"IF(RawData!C241<>\"\", RawData!C241,\"\")","v":""},{"$f":"IF(RawData!D241<>\"\", RawData!D241,\"\")","v":""},{"$f":"IF(RawData!E241<>\"\", RawData!E241,\"\")","v":""},{"$f":"IF(RawData!F241<>\"\", RawData!F241,\"\")","v":""},{"$f":"IF(RawData!G241<>\"\", RawData!G241,\"\")","v":""},{"$f":"IF(RawData!H241<>\"\", RawData!H241,\"\")","v":""},{"$f":"IF(RawData!I241<>\"\", RawData!I241,\"\")","v":""},{"$f":"IF(RawData!J241<>\"\", RawData!J241,\"\")","v":""},"","","","","",false,false,false,false,false,"","",""]
[{"$f":"IF(RawData!A242<>\"\", RawData!A242,\"\")","v":""},{"$f":"IF(RawData!B242<>\"\", RawData!B242,\"\")","v":""},{"$f":"IF(RawData!C242<>\"\", RawData!C242,\"\")","v":""},{"$f":"IF(RawData!D242<>\"\", RawData!D242,\"\")","v":""},{"$f":"IF(RawData!E242<>\"\", RawData!E242,\"\")","v":""},{"$f":"IF(RawData!F242<>\"\", RawData!F242,\"\")","v":""},{"$f":"IF(RawData!G242<>\"\", RawData!G242,\"\")","v":""},{"$f":"IF(RawData!H242<>\"\", RawData!H242,\"\")","v":""},{"$f":"IF(RawData!I242<>\"\", RawData!I242,\"\")","v":""},{"$f":"IF(RawData!J242<>\"\", RawData!J242,\"\")","v":""},{"$f":"IF(G242<>\"\",IF(G242<3, 1, 0),\"\")","v":""},{"$f":"IF(G242<>\"\",IF(G242>=1, 1, 0),\"\")","v":""},{"$f":"IF(G242<>\"\",IF(AND(G242>=1,G242<=7), 1, 0),\"\")","v":""},"",{"$f":"IF(G242<>\"\",IF(G242>=8, 1, 0),\"\")","v":""},false,false,false,false,false,{"$f":"IF(H242<>\"\",IF(H242=1,IF(J242=4, 1, 0),\"\"),\"\")","v":""},"",""]
[{"$f":"IF(RawData!A243<>\"\", RawData!A243,\"\")","v":""},{"$f":"IF(RawData!B243<>\"\", RawData!B243,\"\")","v":""},{"$f":"IF(RawData!C243<>\"\", RawData!C243,\"\")","v":""},{"$f":"IF(RawData!D243<>\"\", RawData!D243,\"\")","v":""},{"$f":"IF(RawData!E243<>\"\", RawData!E243,\"\")","v":""},{"$f":"IF(RawData!F243<>\"\", RawData!F243,\"\")","v":""},{"$f":"IF(RawData!G243<>\"\", RawData!G243,\"\")","v":""},{"$f":"IF(RawData!H243<>\"\", RawData!H243,\"\")","v":""},{"$f":"IF(RawData!I243<>\"\", RawData!I243,\"\")","v":""},{"$f":"IF(RawData!J243<>\"\", RawData!J243,\"\")","v":""},"","","","","",{"$f":"IF(L243<>\"\", IF(J243<>\"\",IF(L243=0,IF(J243=1, 1, 0),\"\")))","v":false},{"$f":"IF(K243<>\"\",IF(J243<>\"\",IF(K243=1,IF(J243=1, 1, 0),\"\")))","v":false},{"$f":"IF(M243<>\"\",IF(J243<>\"\",IF(M243=1,IF(J243=2, 1, 0),\"\")))","v":false},{"$f":"IF(N243<>\"\",IF(J243<>\"\",IF(N243=1,IF(J243=3, 1, 0),\"\")))","v":false},{"$f":"IF(O243<>\"\",IF(J243<>\"\",IF(O243=1,IF(J243=4, 1, 0),\"\")))","v":false},"",{"$f":"IF(J243<>\"\",IF(OR(P243=1,Q243=1,R243=1,S243=1, T243=1, U243=1),1,0),\"\")","v":""},{"$f":"IF(J243<>\"\",IF(AND(J243<>0,V243=0),1,0),\"\")","v":""}]
[{"$f":"IF(RawData!A244<>\"\", RawData!A244,\"\")","v":""},{"$f":"IF(RawData!B244<>\"\", RawData!B244,\"\")","v":""},{"$f":"IF(RawData!C244<>\"\", RawData!C244,\"\")","v":""},{"$f":"IF(RawData!D244<>\"\", RawData!D244,\"\")","v":""},{"$f":"IF(RawData!E244<>\"\", RawData!E244,\"\")","v":""},{"$f":"IF(RawData!F244<>\"\", RawData!F244,\"\")","v":""},{"$f":"IF(RawData!G244<>\"\", RawData!G244,\"\")","v":""},{"$f":"IF(RawData!H244<>\"\", RawData!H244,\"\")","v":""},{"$f":"IF(RawData!I244<>\"\", RawData!I244,\"\")","v":""},{"$f":"IF(RawData!J244<>\"\", RawData!J244,\"\")","v":""},"","","","","",false,false,false,false,false,"","",""]
[{"$f":"IF(RawData!A245<>\"\", RawData!A245,\"\")","v":""},{"$f":"IF(RawData!B245<>\"\", RawData!B245,\"\")","v":""},{"$f":"IF(RawData!C245<>\"\", RawData!C245,\"\")","v":""},{"$f":"IF(RawData!D245<>\"\", RawData!D245,\"\")","v":""},{"$f":"IF(RawData!E245<>\"\", RawData!E245,\"\")","v":""},{"$f":"IF(RawData!F245<>\"\", RawData!F245,\"\")","v":""},{"$f":"IF(RawData!G245<>\"\", RawData!G245,\"\")","v":""},{"$f":"IF(RawData!H245<>\"\", RawData!H245,\"\")","v":""},{"$f":"IF(RawData!I245<>\"\", RawData!I245,\"\")","v":""},{"$f":"IF(RawData!J245<>\"\", RawData!J245,\"\")","v":""},"","","","","",false,false,false,false,false,"","",""]
[{"$f":"IF(RawData!A246<>\"\", RawData!A246,\"\")","v":""},{"$f":"IF(RawData!B246<>\"\", RawData!B246,\"\")","v":""},{"$f":"IF(RawData!C246<>\"\", RawData!C246,\"\")","v":""},{"$f":"IF(RawData!D246<>\"\", RawData!D246,\"\")","v":""},{"$f":"IF(RawData!E246<>\"\", RawData!E246,\"\")","v":""},{"$f":"IF(RawData!F246<>\"\", RawData!F246,\"\")","v":""},{"$f":"IF(RawData!G246<>\"\", RawData!G246,\"\")","v":""},{"$f":"IF(RawData!H246<>\"\", RawData!H246,\"\")","v":""},{"$f":"IF(RawData!I246<>\"\", RawData!I246,\"\")","v":""},{"$f":"IF(RawData!J246<>\"\", RawData!J246,\"\")","v":""},"","","","","",false,false,false,false,false,"","",""]
[{"$f":"IF(RawData!A247<>\"\", RawData!A247,\"\")","v":""},{"$f":"IF(RawData!B247<>\"\", RawData!B247,\"\")","v":""},{"$f":"IF(RawData!C247<>\"\", RawData!C247,\"\")","v":""},{"$f":"IF(RawData!D247<>\"\", RawData!D247,\"\")","v":""},{"$f":"IF(RawData!E247<>\"\", RawData!E247,\"\")","v":""},{"$f":"IF(RawData!F247<>\"\", RawData!F247,\"\")","v":""},{"$f":"IF(RawData!G247<>\"\", RawData!G247,\"\")","v":""},{"$f":"IF(RawData!H247<>\"\", RawData!H247,\"\")","v":""},{"$f":"IF(RawData!I247<>\"\", RawData!I247,\"\")","v":""},{"$f":"IF(RawData!J247<>\"\", RawData!J247,\"\")","v":""},"","","","","",false,false,false,false,false,"","",""]
[{"$f":"IF(RawData!A248<>\"\", RawData!A248,\"\")","v":""},{"$f":"IF(RawData!B248<>\"\", RawData!B248,\"\")","v":""},{"$f":"IF(RawData!C248<>\"\", RawData!C248,\"\")","v":""},{"$f":"IF(RawData!D248<>\"\", RawData!D248,\"\")","v":""},{"$f":"IF(RawData!E248<>\"\", RawData!E248,\"\")","v":""},{"$f":"IF(RawData!F248<>\"\", RawData!F248,\"\")","v":""},{"$f":"IF(RawData!G248<>\"\", RawData!G248,\"\")","v":""},{"$f":"IF(RawData!H248<>\"\", RawData!H248,\"\")","v":""},{"$f":"IF(RawData!I248<>\"\", RawData!I248,\"\")","v":""},{"$f":"IF(RawData!J248<>\"\", RawData!J248,\"\")","v":""},"","","","","",false,false,false,false,false,"","",""]
[{"$f":"IF(RawData!A249<>\"\", RawData!A249,\"\")","v":""},{"$f":"IF(RawData!B249<>\"\", RawData!B249,\"\")","v":""},{"$f":"IF(RawData!C249<>\"\", RawData!C249,\"\")","v":""},{"$f":"IF(RawData!D249<>\"\", RawData!D249,\"\")","v":""},{"$f":"IF(RawData!E249<>\"\", RawData!E249,\"\")","v":""},{"$f":"IF(RawData!F249<>\"\", RawData!F249,\"\")","v":""},{"$f":"IF(RawData!G249<>\"\", RawData!G249,\"\")","v":""},{"$f":"IF(RawData!H249<>\"\", RawData!H249,\"\")","v":""},{"$f":"IF(RawData!I249<>\"\", RawData!I249,\"\")","v":""},{"$f":"IF(RawData!J249<>\"\", RawData!J249,\"\")","v":""},"","","","","",false,false,false,false,false,"","",""]
[{"$f":"IF(RawData!A250<>\"\", RawData!A250,\"\")","v":""},{"$f":"IF(RawData!B250<>\"\", RawData!B250,\"\")","v":""},{"$f":"IF(RawData!C250<>\"\", RawData!C250,\"\")","v":""},{"$f":"IF(RawData!D250<>\"\", RawData!D250,\"\")","v":""},{"$f":"IF(RawData!E250<>\"\", RawData!E250,\"\")","v":""},{"$f":"IF(RawData!F250<>\"\", RawData!F250,\"\")","v":""},{"$f":"IF(RawData!G250<>\"\", RawData!G250,\"\")","v":""},{"$f":"IF(RawData!H250<>\"\", RawData!H250,\"\")","v":""},{"$f":"IF(RawData!I250<>\"\", RawData!I250,\"\")","v":""},{"$f":"IF(RawData!J250<>\"\", RawData!J250,\"\")","v":""},"","","","","",false,false,false,false,false,"","",""]
[{"$f":"IF(RawData!A251<>\"\", RawData!A251,\"\")","v":""},{"$f":"IF(RawData!B251<>\"\", RawData!B251,\"\")","v":""},{"$f":"IF(RawData!C251<>\"\", RawData!C251,\"\")","v":""},{"$f":"IF(RawData!D251<>\"\", RawData!D251,\"\")","v":""},{"$f":"IF(RawData!E251<>\"\", RawData!E251,\"\")","v":""},{"$f":"IF(RawData!F251<>\"\", RawData!F251,\"\")","v":""},{"$f":"IF(RawData!G251<>\"\", RawData!G251,\"\")","v":""},{"$f":"IF(RawData!H251<>\"\", RawData!H251,\"\")","v":""},{"$f":"IF(RawData!I251<>\"\", RawData!I251,\"\")","v":""},{"$f":"IF(RawData!J251<>\"\", RawData!J251,\"\")","v":""},"","","","","",false,false,false,false,false,"","",""]
[{"$f":"IF(RawData!A252<>\"\", RawData!A252,\"\")","v":""},{"$f":"IF(RawData!B252<>\"\", RawData!B252,\"\")","v":""},{"$f":"IF(RawData!C252<>\"\", RawData!C252,\"\")","v":""},{"$f":"IF(RawData!D252<>\"\", RawData!D252,\"\")","v":""},{"$f":"IF(RawData!E252<>\"\", RawData!E252,\"\")","v":""},{"$f":"IF(RawData!F252<>\"\", RawData!F252,\"\")","v":""},{"$f":"IF(RawData!G252<>\"\", RawData!G252,\"\")","v":""},{"$f":"IF(RawData!H252<>\"\", RawData!H252,\"\")","v":""},{"$f":"IF(RawData!I252<>\"\", RawData!I252,\"\")","v":""},{"$f":"IF(RawData!J252<>\"\", RawData!J252,\"\")","v":""},"","","","","",false,false,false,false,false,"","",""]
[{"$f":"IF(RawData!A253<>\"\", RawData!A253,\"\")","v":""},{"$f":"IF(RawData!B253<>\"\", RawData!B253,\"\")","v":""},{"$f":"IF(RawData!C253<>\"\", RawData!C253,\"\")","v":""},{"$f":"IF(RawData!D253<>\"\", RawData!D253,\"\")","v":""},{"$f":"IF(RawData!E253<>\"\", RawData!E253,\"\")","v":""},{"$f":"IF(RawData!F253<>\"\", RawData!F253,\"\")","v":""},{"$f":"IF(RawData!G253<>\"\", RawData!G253,\"\")","v":""},{"$f":"IF(RawData!H253<>\"\", RawData!H253,\"\")","v":""},{"$f":"IF(RawData!I253<>\"\", RawData!I253,\"\")","v":""},{"$f":"IF(RawData!J253<>\"\", RawData!J253,\"\")","v":""},"","","","","",false,false,false,false,false,"","",""]
[{"$f":"IF(RawData!A254<>\"\", RawData!A254,\"\")","v":""},{"$f":"IF(RawData!B254<>\"\", RawData!B254,\"\")","v":""},{"$f":"IF(RawData!C254<>\"\", RawData!C254,\"\")","v":""},{"$f":"IF(RawData!D254<>\"\", RawData!D254,\"\")","v":""},{"$f":"IF(RawData!E254<>\"\", RawData!E254,\"\")","v":""},{"$f":"IF(RawData!F254<>\"\", RawData!F254,\"\")","v":""},{"$f":"IF(RawData!G254<>\"\", RawData!G254,\"\")","v":""},{"$f":"IF(RawData!H254<>\"\", RawData!H254,\"\")","v":""},{"$f":"IF(RawData!I254<>\"\", RawData!I254,\"\")","v":""},{"$f":"IF(RawData!J254<>\"\", RawData!J254,\"\")","v":""},"","","","","",false,false,false,false,false,"","",""]
[{"$f":"IF(RawData!A255<>\"\", RawData!A255,\"\")","v":""},{"$f":"IF(RawData!B255<>\"\", RawData!B255,\"\")","v":""},{"$f":"IF(RawData!C255<>\"\", RawData!C255,\"\")","v":""},{"$f":"IF(RawData!D255<>\"\", RawData!D255,\"\")","v":""},{"$f":"IF(RawData!E255<>\"\", RawData!E255,\"\")","v":""},{"$f":"IF(RawData!F255<>\"\", RawData!F255,\"\")","v":""},{"$f":"IF(RawData!G255<>\"\", RawData!G255,\"\")","v":""},{"$f":"IF(RawData!H255<>\"\", RawData!H255,\"\")","v":""},{"$f":"IF(RawData!I255<>\"\", RawData!I255,\"\")","v":""},{"$f":"IF(RawData!J255<>\"\", RawData!J255,\"\")","v":""},"","","","","",false,false,false,false,false,"","",""]
[{"$f":"IF(RawData!A256<>\"\", RawData!A256,\"\")","v":""},{"$f":"IF(RawData!B256<>\"\", RawData!B256,\"\")","v":""},{"$f":"IF(RawData!C256<>\"\", RawData!C256,\"\")","v":""},{"$f":"IF(RawData!D256<>\"\", RawData!D256,\"\")","v":""},{"$f":"IF(RawData!E256<>\"\", RawData!E256,\"\")","v":""},{"$f":"IF(RawData!F256<>\"\", RawData!F256,\"\")","v":""},{"$f":"IF(RawData!G256<>\"\", RawData!G256,\"\")","v":""},{"$f":"IF(RawData!H256<>\"\", RawData!H256,\"\")","v":""},{"$f":"IF(RawData!I256<>\"\", RawData!I256,\"\")","v":""},{"$f":"IF(RawData!J256<>\"\", RawData!J256,\"\")","v":""},"","","","","",false,false,false,false,false,"","",""]
[{"$f":"IF(RawData!A257<>\"\", RawData!A257,\"\")","v":""},{"$f":"IF(RawData!B257<>\"\", RawData!B257,\"\")","v":""},{"$f":"IF(RawData!C257<>\"\", RawData!C257,\"\")","v":""},{"$f":"IF(RawData!D257<>\"\", RawData!D257,\"\")","v":""},{"$f":"IF(RawData!E257<>\"\", RawData!E257,\"\")","v":""},{"$f":"IF(RawData!F257<>\"\", RawData!F257,\"\")","v":""},{"$f":"IF(RawData!G257<>\"\", RawData!G257,\"\")","v":""},{"$f":"IF(RawData!H257<>\"\", RawData!H257,\"\")","v":""},{"$f":"IF(RawData!I257<>\"\", RawData!I257,\"\")","v":""},{"$f":"IF(RawData!J257<>\"\", RawData!J257,\"\")","v":""},"","","","","",false,false,false,false,false,"","",""]
[{"$f":"IF(RawData!A258<>\"\", RawData!A258,\"\")","v":""},{"$f":"IF(RawData!B258<>\"\", RawData!B258,\"\")","v":""},{"$f":"IF(RawData!C258<>\"\", RawData!C258,\"\")","v":""},{"$f":"IF(RawData!D258<>\"\", RawData!D258,\"\")","v":""},{"$f":"IF(RawData!E258<>\"\", RawData!E258,\"\")","v":""},{"$f":"IF(RawData!F258<>\"\", RawData!F258,\"\")","v":""},{"$f":"IF(RawData!G258<>\"\", RawData!G258,\"\")","v":""},{"$f":"IF(RawData!H258<>\"\", RawData!H258,\"\")","v":""},{"$f":"IF(RawData!I258<>\"\", RawData!I258,\"\")","v":""},{"$f":"IF(RawData!J258<>\"\", RawData!J258,\"\")","v":""},"","","","","",false,false,false,false,false,"","",""]
[{"$f":"IF(RawData!A259<>\"\", RawData!A259,\"\")","v":""},{"$f":"IF(RawData!B259<>\"\", RawData!B259,\"\")","v":""},{"$f":"IF(RawData!C259<>\"\", RawData!C259,\"\")","v":""},{"$f":"IF(RawData!D259<>\"\", RawData!D259,\"\")","v":""},{"$f":"IF(RawData!E259<>\"\", RawData!E259,\"\")","v":""},{"$f":"IF(RawData!F259<>\"\", RawData!F259,\"\")","v":""},{"$f":"IF(RawData!G259<>\"\", RawData!G259,\"\")","v":""},{"$f":"IF(RawData!H259<>\"\", RawData!H259,\"\")","v":""},{"$f":"IF(RawData!I259<>\"\", RawData!I259,\"\")","v":""},{"$f":"IF(RawData!J259<>\"\", RawData!J259,\"\")","v":""},"","","","","",false,false,false,false,false,"","",""]
[{"$f":"IF(RawData!A260<>\"\", RawData!A260,\"\")","v":""},{"$f":"IF(RawData!B260<>\"\", RawData!B260,\"\")","v":""},{"$f":"IF(RawData!C260<>\"\", RawData!C260,\"\")","v":""},{"$f":"IF(RawData!D260<>\"\", RawData!D260,\"\")","v":""},{"$f":"IF(RawData!E260<>\"\", RawData!E260,\"\")","v":""},{"$f":"IF(RawData!F260<>\"\", RawData!F260,\"\")","v":""},{"$f":"IF(RawData!G260<>\"\", RawData!G260,\"\")","v":""},{"$f":"IF(RawData!H260<>\"\", RawData!H260,\"\")","v":""},{"$f":"IF(RawData!I260<>\"\", RawData!I260,\"\")","v":""},{"$f":"IF(RawData!J260<>\"\", RawData!J260,\"\")","v":""},"","","","","",false,false,false,false,false,"","",""]
[{"$f":"IF(RawData!A261<>\"\", RawData!A261,\"\")","v":""},{"$f":"IF(RawData!B261<>\"\", RawData!B261,\"\")","v":""},{"$f":"IF(RawData!C261<>\"\", RawData!C261,\"\")","v":""},{"$f":"IF(RawData!D261<>\"\", RawData!D261,\"\")","v":""},{"$f":"IF(RawData!E261<>\"\", RawData!E261,\"\")","v":""},{"$f":"IF(RawData!F261<>\"\", RawData!F261,\"\")","v":""},{"$f":"IF(RawData!G261<>\"\", RawData!G261,\"\")","v":""},{"$f":"IF(RawData!H261<>\"\", RawData!H261,\"\")","v":""},{"$f":"IF(RawData!I261<>\"\", RawData!I261,\"\")","v":""},{"$f":"IF(RawData!J261<>\"\", RawData!J261,\"\")","v":""},"","","","","",false,false,false,false,false,"","",""]
[{"$f":"IF(RawData!A262<>\"\", RawData!A262,\"\")","v":""},{"$f":"IF(RawData!B262<>\"\", RawData!B262,\"\")","v":""},{"$f":"IF(RawData!C262<>\"\", RawData!C262,\"\")","v":""},{"$f":"IF(RawData!D262<>\"\", RawData!D262,\"\")","v":""},{"$f":"IF(RawData!E262<>\"\", RawData!E262,\"\")","v":""},{"$f":"IF(RawData!F262<>\"\", RawData!F262,\"\")","v":""},{"$f":"IF(RawData!G262<>\"\", RawData!G262,\"\")","v":""},{"$f":"IF(RawData!H262<>\"\", RawData!H262,\"\")","v":""},{"$f":"IF(RawData!I262<>\"\", RawData!I262,\"\")","v":""},{"$f":"IF(RawData!J262<>\"\", RawData!J262,\"\")","v":""},"","","","","",false,false,false,false,false,"","",""]
[{"$f":"IF(RawData!A263<>\"\", RawData!A263,\"\")","v":""},{"$f":"IF(RawData!B263<>\"\", RawData!B263,\"\")","v":""},{"$f":"IF(RawData!C263<>\"\", RawData!C263,\"\")","v":""},{"$f":"IF(RawData!D263<>\"\", RawData!D263,\"\")","v":""},{"$f":"IF(RawData!E263<>\"\", RawData!E263,\"\")","v":""},{"$f":"IF(RawData!F263<>\"\", RawData!F263,\"\")","v":""},{"$f":"IF(RawData!G263<>\"\", RawData!G263,\"\")","v":""},{"$f":"IF(RawData!H263<>\"\", RawData!H263,\"\")","v":""},{"$f":"IF(RawData!I263<>\"\", RawData!I263,\"\")","v":""},{"$f":"IF(RawData!J263<>\"\", RawData!J263,\"\")","v":""},"","","",{"$f":"IF(G263<>\"\",IF(G263>=4, 1, 0),\"\")","v":""},"",false,false,false,false,false,"","",""]
[{"$f":"IF(RawData!A264<>\"\", RawData!A264,\"\")","v":""},{"$f":"IF(RawData!B264<>\"\", RawData!B264,\"\")","v":""},{"$f":"IF(RawData!C264<>\"\", RawData!C264,\"\")","v":""},{"$f":"IF(RawData!D264<>\"\", RawData!D264,\"\")","v":""},{"$f":"IF(RawData!E264<>\"\", RawData!E264,\"\")","v":""},{"$f":"IF(RawData!F264<>\"\", RawData!F264,\"\")","v":""},{"$f":"IF(RawData!G264<>\"\", RawData!G264,\"\")","v":""},{"$f":"IF(RawData!H264<>\"\", RawData!H264,\"\")","v":""},{"$f":"IF(RawData!I264<>\"\", RawData!I264,\"\")","v":""},{"$f":"IF(RawData!J264<>\"\", RawData!J264,\"\")","v":""},"","","","","",false,false,false,false,false,"","",""]
[{"$f":"IF(RawData!A265<>\"\", RawData!A265,\"\")","v":""},{"$f":"IF(RawData!B265<>\"\", RawData!B265,\"\")","v":""},{"$f":"IF(RawData!C265<>\"\", RawData!C265,\"\")","v":""},{"$f":"IF(RawData!D265<>\"\", RawData!D265,\"\")","v":""},{"$f":"IF(RawData!E265<>\"\", RawData!E265,\"\")","v":""},{"$f":"IF(RawData!F265<>\"\", RawData!F265,\"\")","v":""},{"$f":"IF(RawData!G265<>\"\", RawData!G265,\"\")","v":""},{"$f":"IF(RawData!H265<>\"\", RawData!H265,\"\")","v":""},{"$f":"IF(RawData!I265<>\"\", RawData!I265,\"\")","v":""},{"$f":"IF(RawData!J265<>\"\", RawData!J265,\"\")","v":""},"","","","","",false,false,false,false,false,"","",""]
[{"$f":"IF(RawData!A266<>\"\", RawData!A266,\"\")","v":""},{"$f":"IF(RawData!B266<>\"\", RawData!B266,\"\")","v":""},{"$f":"IF(RawData!C266<>\"\", RawData!C266,\"\")","v":""},{"$f":"IF(RawData!D266<>\"\", RawData!D266,\"\")","v":""},{"$f":"IF(RawData!E266<>\"\", RawData!E266,\"\")","v":""},{"$f":"IF(RawData!F266<>\"\", RawData!F266,\"\")","v":""},{"$f":"IF(RawData!G266<>\"\", RawData!G266,\"\")","v":""},{"$f":"IF(RawData!H266<>\"\", RawData!H266,\"\")","v":""},{"$f":"IF(RawData!I266<>\"\", RawData!I266,\"\")","v":""},{"$f":"IF(RawData!J266<>\"\", RawData!J266,\"\")","v":""},"","","","","",false,false,false,false,false,"","",""]
[{"$f":"IF(RawData!A267<>\"\", RawData!A267,\"\")","v":""},{"$f":"IF(RawData!B267<>\"\", RawData!B267,\"\")","v":""},{"$f":"IF(RawData!C267<>\"\", RawData!C267,\"\")","v":""},{"$f":"IF(RawData!D267<>\"\", RawData!D267,\"\")","v":""},{"$f":"IF(RawData!E267<>\"\", RawData!E267,\"\")","v":""},{"$f":"IF(RawData!F267<>\"\", RawData!F267,\"\")","v":""},{"$f":"IF(RawData!G267<>\"\", RawData!G267,\"\")","v":""},{"$f":"IF(RawData!H267<>\"\", RawData!H267,\"\")","v":""},{"$f":"IF(RawData!I267<>\"\", RawData!I267,\"\")","v":""},{"$f":"IF(RawData!J267<>\"\", RawData!J267,\"\")","v":""},"","","","","",false,false,false,false,false,"","",""]
[{"$f":"IF(RawData!A268<>\"\", RawData!A268,\"\")","v":""},{"$f":"IF(RawData!B268<>\"\", RawData!B268,\"\")","v":""},{"$f":"IF(RawData!C268<>\"\", RawData!C268,\"\")","v":""},{"$f":"IF(RawData!D268<>\"\", RawData!D268,\"\")","v":""},{"$f":"IF(RawData!E268<>\"\", RawData!E268,\"\")","v":""},{"$f":"IF(RawData!F268<>\"\", RawData!F268,\"\")","v":""},{"$f":"IF(RawData!G268<>\"\", RawData!G268,\"\")","v":""},{"$f":"IF(RawData!H268<>\"\", RawData!H268,\"\")","v":""},{"$f":"IF(RawData!I268<>\"\", RawData!I268,\"\")","v":""},{"$f":"IF(RawData!J268<>\"\", RawData!J268,\"\")","v":""},"","","","","",false,false,false,false,false,"","",""]
[{"$f":"IF(RawData!A269<>\"\", RawData!A269,\"\")","v":""},{"$f":"IF(RawData!B269<>\"\", RawData!B269,\"\")","v":""},{"$f":"IF(RawData!C269<>\"\", RawData!C269,\"\")","v":""},{"$f":"IF(RawData!D269<>\"\", RawData!D269,\"\")","v":""},{"$f":"IF(RawData!E269<>\"\", RawData!E269,\"\")","v":""},{"$f":"IF(RawData!F269<>\"\", RawData!F269,\"\")","v":""},{"$f":"IF(RawData!G269<>\"\", RawData!G269,\"\")","v":""},{"$f":"IF(RawData!H269<>\"\", RawData!H269,\"\")","v":""},{"$f":"IF(RawData!I269<>\"\", RawData!I269,\"\")","v":""},{"$f":"IF(RawData!J269<>\"\", RawData!J269,\"\")","v":""},"","","","","",false,false,false,false,false,"","",""]
[{"$f":"IF(RawData!A270<>\"\", RawData!A270,\"\")","v":""},{"$f":"IF(RawData!B270<>\"\", RawData!B270,\"\")","v":""},{"$f":"IF(RawData!C270<>\"\", RawData!C270,\"\")","v":""},{"$f":"IF(RawData!D270<>\"\", RawData!D270,\"\")","v":""},{"$f":"IF(RawData!E270<>\"\", RawData!E270,\"\")","v":""},{"$f":"IF(RawData!F270<>\"\", RawData!F270,\"\")","v":""},{"$f":"IF(RawData!G270<>\"\", RawData!G270,\"\")","v":""},{"$f":"IF(RawData!H270<>\"\", RawData!H270,\"\")","v":""},{"$f":"IF(RawData!I270<>\"\", RawData!I270,\"\")","v":""},{"$f":"IF(RawData!J270<>\"\", RawData!J270,\"\")","v":""},"","","","","",false,false,false,false,false,"","",""]
[{"$f":"IF(RawData!A271<>\"\", RawData!A271,\"\")","v":""},{"$f":"IF(RawData!B271<>\"\", RawData!B271,\"\")","v":""},{"$f":"IF(RawData!C271<>\"\", RawData!C271,\"\")","v":""},{"$f":"IF(RawData!D271<>\"\", RawData!D271,\"\")","v":""},{"$f":"IF(RawData!E271<>\"\", RawData!E271,\"\")","v":""},{"$f":"IF(RawData!F271<>\"\", RawData!F271,\"\")","v":""},{"$f":"IF(RawData!G271<>\"\", RawData!G271,\"\")","v":""},{"$f":"IF(RawData!H271<>\"\", RawData!H271,\"\")","v":""},{"$f":"IF(RawData!I271<>\"\", RawData!I271,\"\")","v":""},{"$f":"IF(RawData!J271<>\"\", RawData!J271,\"\")","v":""},"","","","","",false,false,false,false,false,"","",""]
[{"$f":"IF(RawData!A272<>\"\", RawData!A272,\"\")","v":""},{"$f":"IF(RawData!B272<>\"\", RawData!B272,\"\")","v":""},{"$f":"IF(RawData!C272<>\"\", RawData!C272,\"\")","v":""},{"$f":"IF(RawData!D272<>\"\", RawData!D272,\"\")","v":""},{"$f":"IF(RawData!E272<>\"\", RawData!E272,\"\")","v":""},{"$f":"IF(RawData!F272<>\"\", RawData!F272,\"\")","v":""},{"$f":"IF(RawData!G272<>\"\", RawData!G272,\"\")","v":""},{"$f":"IF(RawData!H272<>\"\", RawData!H272,\"\")","v":""},{"$f":"IF(RawData!I272<>\"\", RawData!I272,\"\")","v":""},{"$f":"IF(RawData!J272<>\"\", RawData!J272,\"\")","v":""},"","","","","",false,false,false,false,false,"","",""]
[{"$f":"IF(RawData!A273<>\"\", RawData!A273,\"\")","v":""},{"$f":"IF(RawData!B273<>\"\", RawData!B273,\"\")","v":""},{"$f":"IF(RawData!C273<>\"\", RawData!C273,\"\")","v":""},{"$f":"IF(RawData!D273<>\"\", RawData!D273,\"\")","v":""},{"$f":"IF(RawData!E273<>\"\", RawData!E273,\"\")","v":""},{"$f":"IF(RawData!F273<>\"\", RawData!F273,\"\")","v":""},{"$f":"IF(RawData!G273<>\"\", RawData!G273,\"\")","v":""},{"$f":"IF(RawData!H273<>\"\", RawData!H273,\"\")","v":""},{"$f":"IF(RawData!I273<>\"\", RawData!I273,\"\")","v":""},{"$f":"IF(RawData!J273<>\"\", RawData!J273,\"\")","v":""},"","","","","",false,false,false,false,false,"","",""]
[{"$f":"IF(RawData!A274<>\"\", RawData!A274,\"\")","v":""},{"$f":"IF(RawData!B274<>\"\", RawData!B274,\"\")","v":""},{"$f":"IF(RawData!C274<>\"\", RawData!C274,\"\")","v":""},{"$f":"IF(RawData!D274<>\"\", RawData!D274,\"\")","v":""},{"$f":"IF(RawData!E274<>\"\", RawData!E274,\"\")","v":""},{"$f":"IF(RawData!F274<>\"\", RawData!F274,\"\")","v":""},{"$f":"IF(RawData!G274<>\"\", RawData!G274,\"\")","v":""},{"$f":"IF(RawData!H274<>\"\", RawData!H274,\"\")","v":""},{"$f":"IF(RawData!I274<>\"\", RawData!I274,\"\")","v":""},{"$f":"IF(RawData!J274<>\"\", RawData!J274,\"\")","v":""},"","","","","",false,false,false,false,false,"","",""]
[{"$f":"IF(RawData!A275<>\"\", RawData!A275,\"\")","v":""},{"$f":"IF(RawData!B275<>\"\", RawData!B275,\"\")","v":""},{"$f":"IF(RawData!C275<>\"\", RawData!C275,\"\")","v":""},{"$f":"IF(RawData!D275<>\"\", RawData!D275,\"\")","v":""},{"$f":"IF(RawData!E275<>\"\", RawData!E275,\"\")","v":""},{"$f":"IF(RawData!F275<>\"\", RawData!F275,\"\")","v":""},{"$f":"IF(RawData!G275<>\"\", RawData!G275,\"\")","v":""},{"$f":"IF(RawData!H275<>\"\", RawData!H275,\"\")","v":""},{"$f":"IF(RawData!I275<>\"\", RawData!I275,\"\")","v":""},{"$f":"IF(RawData!J275<>\"\", RawData!J275,\"\")","v":""},"","","","","",false,false,false,false,false,"","",""]
[{"$f":"IF(RawData!A276<>\"\", RawData!A276,\"\")","v":""},{"$f":"IF(RawData!B276<>\"\", RawData!B276,\"\")","v":""},{"$f":"IF(RawData!C276<>\"\", RawData!C276,\"\")","v":""},{"$f":"IF(RawData!D276<>\"\", RawData!D276,\"\")","v":""},{"$f":"IF(RawData!E276<>\"\", RawData!E276,\"\")","v":""},{"$f":"IF(RawData!F276<>\"\", RawData!F276,\"\")","v":""},{"$f":"IF(RawData!G276<>\"\", RawData!G276,\"\")","v":""},{"$f":"IF(RawData!H276<>\"\", RawData!H276,\"\")","v":""},{"$f":"IF(RawData!I276<>\"\", RawData!I276,\"\")","v":""},{"$f":"IF(RawData!J276<>\"\", RawData!J276,\"\")","v":""},"","","","","",false,false,false,false,false,"","",""]
[{"$f":"IF(RawData!A277<>\"\", RawData!A277,\"\")","v":""},{"$f":"IF(RawData!B277<>\"\", RawData!B277,\"\")","v":""},{"$f":"IF(RawData!C277<>\"\", RawData!C277,\"\")","v":""},{"$f":"IF(RawData!D277<>\"\", RawData!D277,\"\")","v":""},{"$f":"IF(RawData!E277<>\"\", RawData!E277,\"\")","v":""},{"$f":"IF(RawData!F277<>\"\", RawData!F277,\"\")","v":""},{"$f":"IF(RawData!G277<>\"\", RawData!G277,\"\")","v":""},{"$f":"IF(RawData!H277<>\"\", RawData!H277,\"\")","v":""},{"$f":"IF(RawData!I277<>\"\", RawData!I277,\"\")","v":""},{"$f":"IF(RawData!J277<>\"\", RawData!J277,\"\")","v":""},"","","","","",false,false,false,false,false,"","",""]
[{"$f":"IF(RawData!A278<>\"\", RawData!A278,\"\")","v":""},{"$f":"IF(RawData!B278<>\"\", RawData!B278,\"\")","v":""},{"$f":"IF(RawData!C278<>\"\", RawData!C278,\"\")","v":""},{"$f":"IF(RawData!D278<>\"\", RawData!D278,\"\")","v":""},{"$f":"IF(RawData!E278<>\"\", RawData!E278,\"\")","v":""},{"$f":"IF(RawData!F278<>\"\", RawData!F278,\"\")","v":""},{"$f":"IF(RawData!G278<>\"\", RawData!G278,\"\")","v":""},{"$f":"IF(RawData!H278<>\"\", RawData!H278,\"\")","v":""},{"$f":"IF(RawData!I278<>\"\", RawData!I278,\"\")","v":""},{"$f":"IF(RawData!J278<>\"\", RawData!J278,\"\")","v":""},"","","","","",false,false,false,false,false,"","",""]
[{"$f":"IF(RawData!A279<>\"\", RawData!A279,\"\")","v":""},{"$f":"IF(RawData!B279<>\"\", RawData!B279,\"\")","v":""},{"$f":"IF(RawData!C279<>\"\", RawData!C279,\"\")","v":""},{"$f":"IF(RawData!D279<>\"\", RawData!D279,\"\")","v":""},{"$f":"IF(RawData!E279<>\"\", RawData!E279,\"\")","v":""},{"$f":"IF(RawData!F279<>\"\", RawData!F279,\"\")","v":""},{"$f":"IF(RawData!G279<>\"\", RawData!G279,\"\")","v":""},{"$f":"IF(RawData!H279<>\"\", RawData!H279,\"\")","v":""},{"$f":"IF(RawData!I279<>\"\", RawData!I279,\"\")","v":""},{"$f":"IF(RawData!J279<>\"\", RawData!J279,\"\")","v":""},"","","","","",false,false,false,false,false,"","",""]
[{"$f":"IF(RawData!A280<>\"\", RawData!A280,\"\")","v":""},{"$f":"IF(RawData!B280<>\"\", RawData!B280,\"\")","v":""},{"$f":"IF(RawData!C280<>\"\", RawData!C280,\"\")","v":""},{"$f":"IF(RawData!D280<>\"\", RawData!D280,\"\")","v":""},{"$f":"IF(RawData!E280<>\"\", RawData!E280,\"\")","v":""},{"$f":"IF(RawData!F280<>\"\", RawData!F280,\"\")","v":""},{"$f":"IF(RawData!G280<>\"\", RawData!G280,\"\")","v":""},{"$f":"IF(RawData!H280<>\"\", RawData!H280,\"\")","v":""},{"$f":"IF(RawData!I280<>\"\", RawData!I280,\"\")","v":""},{"$f":"IF(RawData!J280<>\"\", RawData!J280,\"\")","v":""},"","","","","",false,false,false,false,false,"","",""]
[{"$f":"IF(RawData!A281<>\"\", RawData!A281,\"\")","v":""},{"$f":"IF(RawData!B281<>\"\", RawData!B281,\"\")","v":""},{"$f":"IF(RawData!C281<>\"\", RawData!C281,\"\")","v":""},{"$f":"IF(RawData!D281<>\"\", RawData!D281,\"\")","v":""},{"$f":"IF(RawData!E281<>\"\", RawData!E281,\"\")","v":""},{"$f":"IF(RawData!F281<>\"\", RawData!F281,\"\")","v":""},{"$f":"IF(RawData!G281<>\"\", RawData!G281,\"\")","v":""},{"$f":"IF(RawData!H281<>\"\", RawData!H281,\"\")","v":""},{"$f":"IF(RawData!I281<>\"\", RawData!I281,\"\")","v":""},{"$f":"IF(RawData!J281<>\"\", RawData!J281,\"\")","v":""},"","","","","",false,false,false,false,false,"","",""]
[{"$f":"IF(RawData!A282<>\"\", RawData!A282,\"\")","v":""},{"$f":"IF(RawData!B282<>\"\", RawData!B282,\"\")","v":""},{"$f":"IF(RawData!C282<>\"\", RawData!C282,\"\")","v":""},{"$f":"IF(RawData!D282<>\"\", RawData!D282,\"\")","v":""},{"$f":"IF(RawData!E282<>\"\", RawData!E282,\"\")","v":""},{"$f":"IF(RawData!F282<>\"\", RawData!F282,\"\")","v":""},{"$f":"IF(RawData!G282<>\"\", RawData!G282,\"\")","v":""},{"$f":"IF(RawData!H282<>\"\", RawData!H282,\"\")","v":""},{"$f":"IF(RawData!I282<>\"\", RawData!I282,\"\")","v":""},{"$f":"IF(RawData!J282<>\"\", RawData!J282,\"\")","v":""},"","","","","",false,false,false,false,false,"","",""]
[{"$f":"IF(RawData!A283<>\"\", RawData!A283,\"\")","v":""},{"$f":"IF(RawData!B283<>\"\", RawData!B283,\"\")","v":""},{"$f":"IF(RawData!C283<>\"\", RawData!C283,\"\")","v":""},{"$f":"IF(RawData!D283<>\"\", RawData!D283,\"\")","v":""},{"$f":"IF(RawData!E283<>\"\", RawData!E283,\"\")","v":""},{"$f":"IF(RawData!F283<>\"\", RawData!F283,\"\")","v":""},{"$f":"IF(RawData!G283<>\"\", RawData!G283,\"\")","v":""},{"$f":"IF(RawData!H283<>\"\", RawData!H283,\"\")","v":""},{"$f":"IF(RawData!I283<>\"\", RawData!I283,\"\")","v":""},{"$f":"IF(RawData!J283<>\"\", RawData!J283,\"\")","v":""},"","","","","",false,false,false,false,false,"","",""]
[{"$f":"IF(RawData!A284<>\"\", RawData!A284,\"\")","v":""},{"$f":"IF(RawData!B284<>\"\", RawData!B284,\"\")","v":""},{"$f":"IF(RawData!C284<>\"\", RawData!C284,\"\")","v":""},{"$f":"IF(RawData!D284<>\"\", RawData!D284,\"\")","v":""},{"$f":"IF(RawData!E284<>\"\", RawData!E284,\"\")","v":""},{"$f":"IF(RawData!F284<>\"\", RawData!F284,\"\")","v":""},{"$f":"IF(RawData!G284<>\"\", RawData!G284,\"\")","v":""},{"$f":"IF(RawData!H284<>\"\", RawData!H284,\"\")","v":""},{"$f":"IF(RawData!I284<>\"\", RawData!I284,\"\")","v":""},{"$f":"IF(RawData!J284<>\"\", RawData!J284,\"\")","v":""},"","","","","",false,false,false,false,false,"","",""]
[{"$f":"IF(RawData!A285<>\"\", RawData!A285,\"\")","v":""},{"$f":"IF(RawData!B285<>\"\", RawData!B285,\"\")","v":""},{"$f":"IF(RawData!C285<>\"\", RawData!C285,\"\")","v":""},{"$f":"IF(RawData!D285<>\"\", RawData!D285,\"\")","v":""},{"$f":"IF(RawData!E285<>\"\", RawData!E285,\"\")","v":""},{"$f":"IF(RawData!F285<>\"\", RawData!F285,\"\")","v":""},{"$f":"IF(RawData!G285<>\"\", RawData!G285,\"\")","v":""},{"$f":"IF(RawData!H285<>\"\", RawData!H285,\"\")","v":""},{"$f":"IF(RawData!I285<>\"\", RawData!I285,\"\")","v":""},{"$f":"IF(RawData!J285<>\"\", RawData!J285,\"\")","v":""},"","","","","",false,false,false,false,false,"","",""]
[{"$f":"IF(RawData!A286<>\"\", RawData!A286,\"\")","v":""},{"$f":"IF(RawData!B286<>\"\", RawData!B286,\"\")","v":""},{"$f":"IF(RawData!C286<>\"\", RawData!C286,\"\")","v":""},{"$f":"IF(RawData!D286<>\"\", RawData!D286,\"\")","v":""},{"$f":"IF(RawData!E286<>\"\", RawData!E286,\"\")","v":""},{"$f":"IF(RawData!F286<>\"\", RawData!F286,\"\")","v":""},{"$f":"IF(RawData!G286<>\"\", RawData!G286,\"\")","v":""},{"$f":"IF(RawData!H286<>\"\", RawData!H286,\"\")","v":""},{"$f":"IF(RawData!I286<>\"\", RawData!I286,\"\")","v":""},{"$f":"IF(RawData!J286<>\"\", RawData!J286,\"\")","v":""},"","","","","",false,false,false,false,false,"","",""]
[{"$f":"IF(RawData!A287<>\"\", RawData!A287,\"\")","v":""},{"$f":"IF(RawData!B287<>\"\", RawData!B287,\"\")","v":""},{"$f":"IF(RawData!C287<>\"\", RawData!C287,\"\")","v":""},{"$f":"IF(RawData!D287<>\"\", RawData!D287,\"\")","v":""},{"$f":"IF(RawData!E287<>\"\", RawData!E287,\"\")","v":""},{"$f":"IF(RawData!F287<>\"\", RawData!F287,\"\")","v":""},{"$f":"IF(RawData!G287<>\"\", RawData!G287,\"\")","v":""},{"$f":"IF(RawData!H287<>\"\", RawData!H287,\"\")","v":""},{"$f":"IF(RawData!I287<>\"\", RawData!I287,\"\")","v":""},{"$f":"IF(RawData!J287<>\"\", RawData!J287,\"\")","v":""},"","","","","",false,false,false,false,false,"","",""]
[{"$f":"IF(RawData!A288<>\"\", RawData!A288,\"\")","v":""},{"$f":"IF(RawData!B288<>\"\", RawData!B288,\"\")","v":""},{"$f":"IF(RawData!C288<>\"\", RawData!C288,\"\")","v":""},{"$f":"IF(RawData!D288<>\"\", RawData!D288,\"\")","v":""},{"$f":"IF(RawData!E288<>\"\", RawData!E288,\"\")","v":""},{"$f":"IF(RawData!F288<>\"\", RawData!F288,\"\")","v":""},{"$f":"IF(RawData!G288<>\"\", RawData!G288,\"\")","v":""},{"$f":"IF(RawData!H288<>\"\", RawData!H288,\"\")","v":""},{"$f":"IF(RawData!I288<>\"\", RawData!I288,\"\")","v":""},{"$f":"IF(RawData!J288<>\"\", RawData!J288,\"\")","v":""},"","","","","",false,false,false,false,false,"","",""]
[{"$f":"IF(RawData!A289<>\"\", RawData!A289,\"\")","v":""},{"$f":"IF(RawData!B289<>\"\", RawData!B289,\"\")","v":""},{"$f":"IF(RawData!C289<>\"\", RawData!C289,\"\")","v":""},{"$f":"IF(RawData!D289<>\"\", RawData!D289,\"\")","v":""},{"$f":"IF(RawData!E289<>\"\", RawData!E289,\"\")","v":""},{"$f":"IF(RawData!F289<>\"\", RawData!F289,\"\")","v":""},{"$f":"IF(RawData!G289<>\"\", RawData!G289,\"\")","v":""},{"$f":"IF(RawData!H289<>\"\", RawData!H289,\"\")","v":""},{"$f":"IF(RawData!I289<>\"\", RawData!I289,\"\")","v":""},{"$f":"IF(RawData!J289<>\"\", RawData!J289,\"\")","v":""},"","","","","",false,false,false,false,false,"","",""]
[{"$f":"IF(RawData!A290<>\"\", RawData!A290,\"\")","v":""},{"$f":"IF(RawData!B290<>\"\", RawData!B290,\"\")","v":""},{"$f":"IF(RawData!C290<>\"\", RawData!C290,\"\")","v":""},{"$f":"IF(RawData!D290<>\"\", RawData!D290,\"\")","v":""},{"$f":"IF(RawData!E290<>\"\", RawData!E290,\"\")","v":""},{"$f":"IF(RawData!F290<>\"\", RawData!F290,\"\")","v":""},{"$f":"IF(RawData!G290<>\"\", RawData!G290,\"\")","v":""},{"$f":"IF(RawData!H290<>\"\", RawData!H290,\"\")","v":""},{"$f":"IF(RawData!I290<>\"\", RawData!I290,\"\")","v":""},{"$f":"IF(RawData!J290<>\"\", RawData!J290,\"\")","v":""},"","","","","",false,false,false,false,false,"","",""]
[{"$f":"IF(RawData!A291<>\"\", RawData!A291,\"\")","v":""},{"$f":"IF(RawData!B291<>\"\", RawData!B291,\"\")","v":""},{"$f":"IF(RawData!C291<>\"\", RawData!C291,\"\")","v":""},{"$f":"IF(RawData!D291<>\"\", RawData!D291,\"\")","v":""},{"$f":"IF(RawData!E291<>\"\", RawData!E291,\"\")","v":""},{"$f":"IF(RawData!F291<>\"\", RawData!F291,\"\")","v":""},{"$f":"IF(RawData!G291<>\"\", RawData!G291,\"\")","v":""},{"$f":"IF(RawData!H291<>\"\", RawData!H291,\"\")","v":""},{"$f":"IF(RawData!I291<>\"\", RawData!I291,\"\")","v":""},{"$f":"IF(RawData!J291<>\"\", RawData!J291,\"\")","v":""},"","","","","",false,false,false,false,false,"","",""]
[{"$f":"IF(RawData!A292<>\"\", RawData!A292,\"\")","v":""},{"$f":"IF(RawData!B292<>\"\", RawData!B292,\"\")","v":""},{"$f":"IF(RawData!C292<>\"\", RawData!C292,\"\")","v":""},{"$f":"IF(RawData!D292<>\"\", RawData!D292,\"\")","v":""},{"$f":"IF(RawData!E292<>\"\", RawData!E292,\"\")","v":""},{"$f":"IF(RawData!F292<>\"\", RawData!F292,\"\")","v":""},{"$f":"IF(RawData!G292<>\"\", RawData!G292,\"\")","v":""},{"$f":"IF(RawData!H292<>\"\", RawData!H292,\"\")","v":""},{"$f":"IF(RawData!I292<>\"\", RawData!I292,\"\")","v":""},{"$f":"IF(RawData!J292<>\"\", RawData!J292,\"\")","v":""},"","","","","",false,false,false,false,false,"","",""]
[{"$f":"IF(RawData!A293<>\"\", RawData!A293,\"\")","v":""},{"$f":"IF(RawData!B293<>\"\", RawData!B293,\"\")","v":""},{"$f":"IF(RawData!C293<>\"\", RawData!C293,\"\")","v":""},{"$f":"IF(RawData!D293<>\"\", RawData!D293,\"\")","v":""},{"$f":"IF(RawData!E293<>\"\", RawData!E293,\"\")","v":""},{"$f":"IF(RawData!F293<>\"\", RawData!F293,\"\")","v":""},{"$f":"IF(RawData!G293<>\"\", RawData!G293,\"\")","v":""},{"$f":"IF(RawData!H293<>\"\", RawData!H293,\"\")","v":""},{"$f":"IF(RawData!I293<>\"\", RawData!I293,\"\")","v":""},{"$f":"IF(RawData!J293<>\"\", RawData!J293,\"\")","v":""},"","","","","",false,false,false,false,false,"","",""]
[{"$f":"IF(RawData!A294<>\"\", RawData!A294,\"\")","v":""},{"$f":"IF(RawData!B294<>\"\", RawData!B294,\"\")","v":""},{"$f":"IF(RawData!C294<>\"\", RawData!C294,\"\")","v":""},{"$f":"IF(RawData!D294<>\"\", RawData!D294,\"\")","v":""},{"$f":"IF(RawData!E294<>\"\", RawData!E294,\"\")","v":""},{"$f":"IF(RawData!F294<>\"\", RawData!F294,\"\")","v":""},{"$f":"IF(RawData!G294<>\"\", RawData!G294,\"\")","v":""},{"$f":"IF(RawData!H294<>\"\", RawData!H294,\"\")","v":""},{"$f":"IF(RawData!I294<>\"\", RawData!I294,\"\")","v":""},{"$f":"IF(RawData!J294<>\"\", RawData!J294,\"\")","v":""},"","","","","",false,false,false,false,false,"","",""]
[{"$f":"IF(RawData!A295<>\"\", RawData!A295,\"\")","v":""},{"$f":"IF(RawData!B295<>\"\", RawData!B295,\"\")","v":""},{"$f":"IF(RawData!C295<>\"\", RawData!C295,\"\")","v":""},{"$f":"IF(RawData!D295<>\"\", RawData!D295,\"\")","v":""},{"$f":"IF(RawData!E295<>\"\", RawData!E295,\"\")","v":""},{"$f":"IF(RawData!F295<>\"\", RawData!F295,\"\")","v":""},{"$f":"IF(RawData!G295<>\"\", RawData!G295,\"\")","v":""},{"$f":"IF(RawData!H295<>\"\", RawData!H295,\"\")","v":""},{"$f":"IF(RawData!I295<>\"\", RawData!I295,\"\")","v":""},{"$f":"IF(RawData!J295<>\"\", RawData!J295,\"\")","v":""},"","","","","",false,false,false,false,false,"","",""]
[{"$f":"IF(RawData!A296<>\"\", RawData!A296,\"\")","v":""},{"$f":"IF(RawData!B296<>\"\", RawData!B296,\"\")","v":""},{"$f":"IF(RawData!C296<>\"\", RawData!C296,\"\")","v":""},{"$f":"IF(RawData!D296<>\"\", RawData!D296,\"\")","v":""},{"$f":"IF(RawData!E296<>\"\", RawData!E296,\"\")","v":""},{"$f":"IF(RawData!F296<>\"\", RawData!F296,\"\")","v":""},{"$f":"IF(RawData!G296<>\"\", RawData!G296,\"\")","v":""},{"$f":"IF(RawData!H296<>\"\", RawData!H296,\"\")","v":""},{"$f":"IF(RawData!I296<>\"\", RawData!I296,\"\")","v":""},{"$f":"IF(RawData!J296<>\"\", RawData!J296,\"\")","v":""},"","","","","",false,false,false,false,false,"","",""]
[{"$f":"IF(RawData!A297<>\"\", RawData!A297,\"\")","v":""},{"$f":"IF(RawData!B297<>\"\", RawData!B297,\"\")","v":""},{"$f":"IF(RawData!C297<>\"\", RawData!C297,\"\")","v":""},{"$f":"IF(RawData!D297<>\"\", RawData!D297,\"\")","v":""},{"$f":"IF(RawData!E297<>\"\", RawData!E297,\"\")","v":""},{"$f":"IF(RawData!F297<>\"\", RawData!F297,\"\")","v":""},{"$f":"IF(RawData!G297<>\"\", RawData!G297,\"\")","v":""},{"$f":"IF(RawData!H297<>\"\", RawData!H297,\"\")","v":""},{"$f":"IF(RawData!I297<>\"\", RawData!I297,\"\")","v":""},{"$f":"IF(RawData!J297<>\"\", RawData!J297,\"\")","v":""},"","","","","",false,false,false,false,false,"","",""]
[{"$f":"IF(RawData!A298<>\"\", RawData!A298,\"\")","v":""},{"$f":"IF(RawData!B298<>\"\", RawData!B298,\"\")","v":""},{"$f":"IF(RawData!C298<>\"\", RawData!C298,\"\")","v":""},{"$f":"IF(RawData!D298<>\"\", RawData!D298,\"\")","v":""},{"$f":"IF(RawData!E298<>\"\", RawData!E298,\"\")","v":""},{"$f":"IF(RawData!F298<>\"\", RawData!F298,\"\")","v":""},{"$f":"IF(RawData!G298<>\"\", RawData!G298,\"\")","v":""},{"$f":"IF(RawData!H298<>\"\", RawData!H298,\"\")","v":""},{"$f":"IF(RawData!I298<>\"\", RawData!I298,\"\")","v":""},{"$f":"IF(RawData!J298<>\"\", RawData!J298,\"\")","v":""},"","","","","",false,false,false,false,false,"","",""]
[{"$f":"IF(RawData!A299<>\"\", RawData!A299,\"\")","v":""},{"$f":"IF(RawData!B299<>\"\", RawData!B299,\"\")","v":""},{"$f":"IF(RawData!C299<>\"\", RawData!C299,\"\")","v":""},{"$f":"IF(RawData!D299<>\"\", RawData!D299,\"\")","v":""},{"$f":"IF(RawData!E299<>\"\", RawData!E299,\"\")","v":""},{"$f":"IF(RawData!F299<>\"\", RawData!F299,\"\")","v":""},{"$f":"IF(RawData!G299<>\"\", RawData!G299,\"\")","v":""},{"$f":"IF(RawData!H299<>\"\", RawData!H299,\"\")","v":""},{"$f":"IF(RawData!I299<>\"\", RawData!I299,\"\")","v":""},{"$f":"IF(RawData!J299<>\"\", RawData!J299,\"\")","v":""},"","","","","",false,false,false,false,false,"","",""]
[{"$f":"IF(RawData!A300<>\"\", RawData!A300,\"\")","v":""},{"$f":"IF(RawData!B300<>\"\", RawData!B300,\"\")","v":""},{"$f":"IF(RawData!C300<>\"\", RawData!C300,\"\")","v":""},{"$f":"IF(RawData!D300<>\"\", RawData!D300,\"\")","v":""},{"$f":"IF(RawData!E300<>\"\", RawData!E300,\"\")","v":""},{"$f":"IF(RawData!F300<>\"\", RawData!F300,\"\")","v":""},{"$f":"IF(RawData!G300<>\"\", RawData!G300,\"\")","v":""},{"$f":"IF(RawData!H300<>\"\", RawData!H300,\"\")","v":""},{"$f":"IF(RawData!I300<>\"\", RawData!I300,\"\")","v":""},{"$f":"IF(RawData!J300<>\"\", RawData!J300,\"\")","v":""},"","","","","",false,false,false,false,false,"","",""]
[{"$f":"IF(RawData!A301<>\"\", RawData!A301,\"\")","v":""},{"$f":"IF(RawData!B301<>\"\", RawData!B301,\"\")","v":""},{"$f":"IF(RawData!C301<>\"\", RawData!C301,\"\")","v":""},{"$f":"IF(RawData!D301<>\"\", RawData!D301,\"\")","v":""},{"$f":"IF(RawData!E301<>\"\", RawData!E301,\"\")","v":""},{"$f":"IF(RawData!F301<>\"\", RawData!F301,\"\")","v":""},{"$f":"IF(RawData!G301<>\"\", RawData!G301,\"\")","v":""},{"$f":"IF(RawData!H301<>\"\", RawData!H301,\"\")","v":""},{"$f":"IF(RawData!I301<>\"\", RawData!I301,\"\")","v":""},{"$f":"IF(RawData!J301<>\"\", RawData!J301,\"\")","v":""},"","","","","",false,false,false,false,false,"","",""]
[{"$f":"IF(RawData!A302<>\"\", RawData!A302,\"\")","v":""},{"$f":"IF(RawData!B302<>\"\", RawData!B302,\"\")","v":""},{"$f":"IF(RawData!C302<>\"\", RawData!C302,\"\")","v":""},{"$f":"IF(RawData!D302<>\"\", RawData!D302,\"\")","v":""},{"$f":"IF(RawData!E302<>\"\", RawData!E302,\"\")","v":""},{"$f":"IF(RawData!F302<>\"\", RawData!F302,\"\")","v":""},{"$f":"IF(RawData!G302<>\"\", RawData!G302,\"\")","v":""},{"$f":"IF(RawData!H302<>\"\", RawData!H302,\"\")","v":""},{"$f":"IF(RawData!I302<>\"\", RawData!I302,\"\")","v":""},{"$f":"IF(RawData!J302<>\"\", RawData!J302,\"\")","v":""},"","","","","",false,false,false,false,false,"","",""]
[{"$f":"IF(RawData!A303<>\"\", RawData!A303,\"\")","v":""},{"$f":"IF(RawData!B303<>\"\", RawData!B303,\"\")","v":""},{"$f":"IF(RawData!C303<>\"\", RawData!C303,\"\")","v":""},{"$f":"IF(RawData!D303<>\"\", RawData!D303,\"\")","v":""},{"$f":"IF(RawData!E303<>\"\", RawData!E303,\"\")","v":""},{"$f":"IF(RawData!F303<>\"\", RawData!F303,\"\")","v":""},{"$f":"IF(RawData!G303<>\"\", RawData!G303,\"\")","v":""},{"$f":"IF(RawData!H303<>\"\", RawData!H303,\"\")","v":""},{"$f":"IF(RawData!I303<>\"\", RawData!I303,\"\")","v":""},{"$f":"IF(RawData!J303<>\"\", RawData!J303,\"\")","v":""},"","","","","",false,false,false,false,false,"","",""]
[{"$f":"IF(RawData!A304<>\"\", RawData!A304,\"\")","v":""},{"$f":"IF(RawData!B304<>\"\", RawData!B304,\"\")","v":""},{"$f":"IF(RawData!C304<>\"\", RawData!C304,\"\")","v":""},{"$f":"IF(RawData!D304<>\"\", RawData!D304,\"\")","v":""},{"$f":"IF(RawData!E304<>\"\", RawData!E304,\"\")","v":""},{"$f":"IF(RawData!F304<>\"\", RawData!F304,\"\")","v":""},{"$f":"IF(RawData!G304<>\"\", RawData!G304,\"\")","v":""},{"$f":"IF(RawData!H304<>\"\", RawData!H304,\"\")","v":""},{"$f":"IF(RawData!I304<>\"\", RawData!I304,\"\")","v":""},{"$f":"IF(RawData!J304<>\"\", RawData!J304,\"\")","v":""},"","","","","",false,false,false,false,false,"","",""]
[{"$f":"IF(RawData!A305<>\"\", RawData!A305,\"\")","v":""},{"$f":"IF(RawData!B305<>\"\", RawData!B305,\"\")","v":""},{"$f":"IF(RawData!C305<>\"\", RawData!C305,\"\")","v":""},{"$f":"IF(RawData!D305<>\"\", RawData!D305,\"\")","v":""},{"$f":"IF(RawData!E305<>\"\", RawData!E305,\"\")","v":""},{"$f":"IF(RawData!F305<>\"\", RawData!F305,\"\")","v":""},{"$f":"IF(RawData!G305<>\"\", RawData!G305,\"\")","v":""},{"$f":"IF(RawData!H305<>\"\", RawData!H305,\"\")","v":""},{"$f":"IF(RawData!I305<>\"\", RawData!I305,\"\")","v":""},{"$f":"IF(RawData!J305<>\"\", RawData!J305,\"\")","v":""},"","","","","",false,false,false,false,false,"","",""]
[{"$f":"IF(RawData!A306<>\"\", RawData!A306,\"\")","v":""},{"$f":"IF(RawData!B306<>\"\", RawData!B306,\"\")","v":""},{"$f":"IF(RawData!C306<>\"\", RawData!C306,\"\")","v":""},{"$f":"IF(RawData!D306<>\"\", RawData!D306,\"\")","v":""},{"$f":"IF(RawData!E306<>\"\", RawData!E306,\"\")","v":""},{"$f":"IF(RawData!F306<>\"\", RawData!F306,\"\")","v":""},{"$f":"IF(RawData!G306<>\"\", RawData!G306,\"\")","v":""},{"$f":"IF(RawData!H306<>\"\", RawData!H306,\"\")","v":""},{"$f":"IF(RawData!I306<>\"\", RawData!I306,\"\")","v":""},{"$f":"IF(RawData!J306<>\"\", RawData!J306,\"\")","v":""},{"$f":"IF(G306<>\"\",IF(G306<3, 1, 0),\"\")","v":""},{"$f":"IF(G306<>\"\",IF(G306>=1, 1, 0),\"\")","v":""},{"$f":"IF(G306<>\"\",IF(AND(G306>=1,G306<=7), 1, 0),\"\")","v":""},"",{"$f":"IF(G306<>\"\",IF(G306>=8, 1, 0),\"\")","v":""},false,false,false,false,false,{"$f":"IF(H306<>\"\",IF(H306=1,IF(J306=4, 1, 0),\"\"),\"\")","v":""},"",""]
[{"$f":"IF(RawData!A307<>\"\", RawData!A307,\"\")","v":""},{"$f":"IF(RawData!B307<>\"\", RawData!B307,\"\")","v":""},{"$f":"IF(RawData!C307<>\"\", RawData!C307,\"\")","v":""},{"$f":"IF(RawData!D307<>\"\", RawData!D307,\"\")","v":""},{"$f":"IF(RawData!E307<>\"\", RawData!E307,\"\")","v":""},{"$f":"IF(RawData!F307<>\"\", RawData!F307,\"\")","v":""},{"$f":"IF(RawData!G307<>\"\", RawData!G307,\"\")","v":""},{"$f":"IF(RawData!H307<>\"\", RawData!H307,\"\")","v":""},{"$f":"IF(RawData!I307<>\"\", RawData!I307,\"\")","v":""},{"$f":"IF(RawData!J307<>\"\", RawData!J307,\"\")","v":""},"","","","","",{"$f":"IF(L307<>\"\", IF(J307<>\"\",IF(L307=0,IF(J307=1, 1, 0),\"\")))","v":false},{"$f":"IF(K307<>\"\",IF(J307<>\"\",IF(K307=1,IF(J307=1, 1, 0),\"\")))","v":false},{"$f":"IF(M307<>\"\",IF(J307<>\"\",IF(M307=1,IF(J307=2, 1, 0),\"\")))","v":false},{"$f":"IF(N307<>\"\",IF(J307<>\"\",IF(N307=1,IF(J307=3, 1, 0),\"\")))","v":false},{"$f":"IF(O307<>\"\",IF(J307<>\"\",IF(O307=1,IF(J307=4, 1, 0),\"\")))","v":false},"",{"$f":"IF(J307<>\"\",IF(OR(P307=1,Q307=1,R307=1,S307=1, T307=1, U307=1),1,0),\"\")","v":""},{"$f":"IF(J307<>\"\",IF(AND(J307<>0,V307=0),1,0),\"\")","v":""}]
[{"$f":"IF(RawData!A308<>\"\", RawData!A308,\"\")","v":""},{"$f":"IF(RawData!B308<>\"\", RawData!B308,\"\")","v":""},{"$f":"IF(RawData!C308<>\"\", RawData!C308,\"\")","v":""},{"$f":"IF(RawData!D308<>\"\", RawData!D308,\"\")","v":""},{"$f":"IF(RawData!E308<>\"\", RawData!E308,\"\")","v":""},{"$f":"IF(RawData!F308<>\"\", RawData!F308,\"\")","v":""},{"$f":"IF(RawData!G308<>\"\", RawData!G308,\"\")","v":""},{"$f":"IF(RawData!H308<>\"\", RawData!H308,\"\")","v":""},{"$f":"IF(RawData!I308<>\"\", RawData!I308,\"\")","v":""},{"$f":"IF(RawData!J308<>\"\", RawData!J308,\"\")","v":""},"","","","","",false,false,false,false,false,"","",""]
[{"$f":"IF(RawData!A309<>\"\", RawData!A309,\"\")","v":""},{"$f":"IF(RawData!B309<>\"\", RawData!B309,\"\")","v":""},{"$f":"IF(RawData!C309<>\"\", RawData!C309,\"\")","v":""},{"$f":"IF(RawData!D309<>\"\", RawData!D309,\"\")","v":""},{"$f":"IF(RawData!E309<>\"\", RawData!E309,\"\")","v":""},{"$f":"IF(RawData!F309<>\"\", RawData!F309,\"\")","v":""},{"$f":"IF(RawData!G309<>\"\", RawData!G309,\"\")","v":""},{"$f":"IF(RawData!H309<>\"\", RawData!H309,\"\")","v":""},{"$f":"IF(RawData!I309<>\"\", RawData!I309,\"\")","v":""},{"$f":"IF(RawData!J309<>\"\", RawData!J309,\"\")","v":""},"","","","","",false,false,false,false,false,"","",""]
[{"$f":"IF(RawData!A310<>\"\", RawData!A310,\"\")","v":""},{"$f":"IF(RawData!B310<>\"\", RawData!B310,\"\")","v":""},{"$f":"IF(RawData!C310<>\"\", RawData!C310,\"\")","v":""},{"$f":"IF(RawData!D310<>\"\", RawData!D310,\"\")","v":""},{"$f":"IF(RawData!E310<>\"\", RawData!E310,\"\")","v":""},{"$f":"IF(RawData!F310<>\"\", RawData!F310,\"\")","v":""},{"$f":"IF(RawData!G310<>\"\", RawData!G310,\"\")","v":""},{"$f":"IF(RawData!H310<>\"\", RawData!H310,\"\")","v":""},{"$f":"IF(RawData!I310<>\"\", RawData!I310,\"\")","v":""},{"$f":"IF(RawData!J310<>\"\", RawData!J310,\"\")","v":""},"","","","","",false,false,false,false,false,"","",""]
[{"$f":"IF(RawData!A311<>\"\", RawData!A311,\"\")","v":""},{"$f":"IF(RawData!B311<>\"\", RawData!B311,\"\")","v":""},{"$f":"IF(RawData!C311<>\"\", RawData!C311,\"\")","v":""},{"$f":"IF(RawData!D311<>\"\", RawData!D311,\"\")","v":""},{"$f":"IF(RawData!E311<>\"\", RawData!E311,\"\")","v":""},{"$f":"IF(RawData!F311<>\"\", RawData!F311,\"\")","v":""},{"$f":"IF(RawData!G311<>\"\", RawData!G311,\"\")","v":""},{"$f":"IF(RawData!H311<>\"\", RawData!H311,\"\")","v":""},{"$f":"IF(RawData!I311<>\"\", RawData!I311,\"\")","v":""},{"$f":"IF(RawData!J311<>\"\", RawData!J311,\"\")","v":""},"","","","","",false,false,false,false,false,"","",""]
[{"$f":"IF(RawData!A312<>\"\", RawData!A312,\"\")","v":""},{"$f":"IF(RawData!B312<>\"\", RawData!B312,\"\")","v":""},{"$f":"IF(RawData!C312<>\"\", RawData!C312,\"\")","v":""},{"$f":"IF(RawData!D312<>\"\", RawData!D312,\"\")","v":""},{"$f":"IF(RawData!E312<>\"\", RawData!E312,\"\")","v":""},{"$f":"IF(RawData!F312<>\"\", RawData!F312,\"\")","v":""},{"$f":"IF(RawData!G312<>\"\", RawData!G312,\"\")","v":""},{"$f":"IF(RawData!H312<>\"\", RawData!H312,\"\")","v":""},{"$f":"IF(RawData!I312<>\"\", RawData!I312,\"\")","v":""},{"$f":"IF(RawData!J312<>\"\", RawData!J312,\"\")","v":""},"","","","","",false,false,false,false,false,"","",""]
[{"$f":"IF(RawData!A313<>\"\", RawData!A313,\"\")","v":""},{"$f":"IF(RawData!B313<>\"\", RawData!B313,\"\")","v":""},{"$f":"IF(RawData!C313<>\"\", RawData!C313,\"\")","v":""},{"$f":"IF(RawData!D313<>\"\", RawData!D313,\"\")","v":""},{"$f":"IF(RawData!E313<>\"\", RawData!E313,\"\")","v":""},{"$f":"IF(RawData!F313<>\"\", RawData!F313,\"\")","v":""},{"$f":"IF(RawData!G313<>\"\", RawData!G313,\"\")","v":""},{"$f":"IF(RawData!H313<>\"\", RawData!H313,\"\")","v":""},{"$f":"IF(RawData!I313<>\"\", RawData!I313,\"\")","v":""},{"$f":"IF(RawData!J313<>\"\", RawData!J313,\"\")","v":""},"","","","","",false,false,false,false,false,"","",""]
[{"$f":"IF(RawData!A314<>\"\", RawData!A314,\"\")","v":""},{"$f":"IF(RawData!B314<>\"\", RawData!B314,\"\")","v":""},{"$f":"IF(RawData!C314<>\"\", RawData!C314,\"\")","v":""},{"$f":"IF(RawData!D314<>\"\", RawData!D314,\"\")","v":""},{"$f":"IF(RawData!E314<>\"\", RawData!E314,\"\")","v":""},{"$f":"IF(RawData!F314<>\"\", RawData!F314,\"\")","v":""},{"$f":"IF(RawData!G314<>\"\", RawData!G314,\"\")","v":""},{"$f":"IF(RawData!H314<>\"\", RawData!H314,\"\")","v":""},{"$f":"IF(RawData!I314<>\"\", RawData!I314,\"\")","v":""},{"$f":"IF(RawData!J314<>\"\", RawData!J314,\"\")","v":""},"","","","","",false,false,false,false,false,"","",""]
[{"$f":"IF(RawData!A315<>\"\", RawData!A315,\"\")","v":""},{"$f":"IF(RawData!B315<>\"\", RawData!B315,\"\")","v":""},{"$f":"IF(RawData!C315<>\"\", RawData!C315,\"\")","v":""},{"$f":"IF(RawData!D315<>\"\", RawData!D315,\"\")","v":""},{"$f":"IF(RawData!E315<>\"\", RawData!E315,\"\")","v":""},{"$f":"IF(RawData!F315<>\"\", RawData!F315,\"\")","v":""},{"$f":"IF(RawData!G315<>\"\", RawData!G315,\"\")","v":""},{"$f":"IF(RawData!H315<>\"\", RawData!H315,\"\")","v":""},{"$f":"IF(RawData!I315<>\"\", RawData!I315,\"\")","v":""},{"$f":"IF(RawData!J315<>\"\", RawData!J315,\"\")","v":""},"","","","","",false,false,false,false,false,"","",""]
[{"$f":"IF(RawData!A316<>\"\", RawData!A316,\"\")","v":""},{"$f":"IF(RawData!B316<>\"\", RawData!B316,\"\")","v":""},{"$f":"IF(RawData!C316<>\"\", RawData!C316,\"\")","v":""},{"$f":"IF(RawData!D316<>\"\", RawData!D316,\"\")","v":""},{"$f":"IF(RawData!E316<>\"\", RawData!E316,\"\")","v":""},{"$f":"IF(RawData!F316<>\"\", RawData!F316,\"\")","v":""},{"$f":"IF(RawData!G316<>\"\", RawData!G316,\"\")","v":""},{"$f":"IF(RawData!H316<>\"\", RawData!H316,\"\")","v":""},{"$f":"IF(RawData!I316<>\"\", RawData!I316,\"\")","v":""},{"$f":"IF(RawData!J316<>\"\", RawData!J316,\"\")","v":""},"","","","","",false,false,false,false,false,"","",""]
[{"$f":"IF(RawData!A317<>\"\", RawData!A317,\"\")","v":""},{"$f":"IF(RawData!B317<>\"\", RawData!B317,\"\")","v":""},{"$f":"IF(RawData!C317<>\"\", RawData!C317,\"\")","v":""},{"$f":"IF(RawData!D317<>\"\", RawData!D317,\"\")","v":""},{"$f":"IF(RawData!E317<>\"\", RawData!E317,\"\")","v":""},{"$f":"IF(RawData!F317<>\"\", RawData!F317,\"\")","v":""},{"$f":"IF(RawData!G317<>\"\", RawData!G317,\"\")","v":""},{"$f":"IF(RawData!H317<>\"\", RawData!H317,\"\")","v":""},{"$f":"IF(RawData!I317<>\"\", RawData!I317,\"\")","v":""},{"$f":"IF(RawData!J317<>\"\", RawData!J317,\"\")","v":""},"","","","","",false,false,false,false,false,"","",""]
[{"$f":"IF(RawData!A318<>\"\", RawData!A318,\"\")","v":""},{"$f":"IF(RawData!B318<>\"\", RawData!B318,\"\")","v":""},{"$f":"IF(RawData!C318<>\"\", RawData!C318,\"\")","v":""},{"$f":"IF(RawData!D318<>\"\", RawData!D318,\"\")","v":""},{"$f":"IF(RawData!E318<>\"\", RawData!E318,\"\")","v":""},{"$f":"IF(RawData!F318<>\"\", RawData!F318,\"\")","v":""},{"$f":"IF(RawData!G318<>\"\", RawData!G318,\"\")","v":""},{"$f":"IF(RawData!H318<>\"\", RawData!H318,\"\")","v":""},{"$f":"IF(RawData!I318<>\"\", RawData!I318,\"\")","v":""},{"$f":"IF(RawData!J318<>\"\", RawData!J318,\"\")","v":""},"","","","","",false,false,false,false,false,"","",""]
[{"$f":"IF(RawData!A319<>\"\", RawData!A319,\"\")","v":""},{"$f":"IF(RawData!B319<>\"\", RawData!B319,\"\")","v":""},{"$f":"IF(RawData!C319<>\"\", RawData!C319,\"\")","v":""},{"$f":"IF(RawData!D319<>\"\", RawData!D319,\"\")","v":""},{"$f":"IF(RawData!E319<>\"\", RawData!E319,\"\")","v":""},{"$f":"IF(RawData!F319<>\"\", RawData!F319,\"\")","v":""},{"$f":"IF(RawData!G319<>\"\", RawData!G319,\"\")","v":""},{"$f":"IF(RawData!H319<>\"\", RawData!H319,\"\")","v":""},{"$f":"IF(RawData!I319<>\"\", RawData!I319,\"\")","v":""},{"$f":"IF(RawData!J319<>\"\", RawData!J319,\"\")","v":""},"","","","","",false,false,false,false,false,"","",""]
[{"$f":"IF(RawData!A320<>\"\", RawData!A320,\"\")","v":""},{"$f":"IF(RawData!B320<>\"\", RawData!B320,\"\")","v":""},{"$f":"IF(RawData!C320<>\"\", RawData!C320,\"\")","v":""},{"$f":"IF(RawData!D320<>\"\", RawData!D320,\"\")","v":""},{"$f":"IF(RawData!E320<>\"\", RawData!E320,\"\")","v":""},{"$f":"IF(RawData!F320<>\"\", RawData!F320,\"\")","v":""},{"$f":"IF(RawData!G320<>\"\", RawData!G320,\"\")","v":""},{"$f":"IF(RawData!H320<>\"\", RawData!H320,\"\")","v":""},{"$f":"IF(RawData!I320<>\"\", RawData!I320,\"\")","v":""},{"$f":"IF(RawData!J320<>\"\", RawData!J320,\"\")","v":""},"","","","","",false,false,false,false,false,"","",""]
[{"$f":"IF(RawData!A321<>\"\", RawData!A321,\"\")","v":""},{"$f":"IF(RawData!B321<>\"\", RawData!B321,\"\")","v":""},{"$f":"IF(RawData!C321<>\"\", RawData!C321,\"\")","v":""},{"$f":"IF(RawData!D321<>\"\", RawData!D321,\"\")","v":""},{"$f":"IF(RawData!E321<>\"\", RawData!E321,\"\")","v":""},{"$f":"IF(RawData!F321<>\"\", RawData!F321,\"\")","v":""},{"$f":"IF(RawData!G321<>\"\", RawData!G321,\"\")","v":""},{"$f":"IF(RawData!H321<>\"\", RawData!H321,\"\")","v":""},{"$f":"IF(RawData!I321<>\"\", RawData!I321,\"\")","v":""},{"$f":"IF(RawData!J321<>\"\", RawData!J321,\"\")","v":""},"","","","","",false,false,false,false,false,"","",""]
[{"$f":"IF(RawData!A322<>\"\", RawData!A322,\"\")","v":""},{"$f":"IF(RawData!B322<>\"\", RawData!B322,\"\")","v":""},{"$f":"IF(RawData!C322<>\"\", RawData!C322,\"\")","v":""},{"$f":"IF(RawData!D322<>\"\", RawData!D322,\"\")","v":""},{"$f":"IF(RawData!E322<>\"\", RawData!E322,\"\")","v":""},{"$f":"IF(RawData!F322<>\"\", RawData!F322,\"\")","v":""},{"$f":"IF(RawData!G322<>\"\", RawData!G322,\"\")","v":""},{"$f":"IF(RawData!H322<>\"\", RawData!H322,\"\")","v":""},{"$f":"IF(RawData!I322<>\"\", RawData!I322,\"\")","v":""},{"$f":"IF(RawData!J322<>\"\", RawData!J322,\"\")","v":""},"","","","","",false,false,false,false,false,"","",""]
[{"$f":"IF(RawData!A323<>\"\", RawData!A323,\"\")","v":""},{"$f":"IF(RawData!B323<>\"\", RawData!B323,\"\")","v":""},{"$f":"IF(RawData!C323<>\"\", RawData!C323,\"\")","v":""},{"$f":"IF(RawData!D323<>\"\", RawData!D323,\"\")","v":""},{"$f":"IF(RawData!E323<>\"\", RawData!E323,\"\")","v":""},{"$f":"IF(RawData!F323<>\"\", RawData!F323,\"\")","v":""},{"$f":"IF(RawData!G323<>\"\", RawData!G323,\"\")","v":""},{"$f":"IF(RawData!H323<>\"\", RawData!H323,\"\")","v":""},{"$f":"IF(RawData!I323<>\"\", RawData!I323,\"\")","v":""},{"$f":"IF(RawData!J323<>\"\", RawData!J323,\"\")","v":""},"","","","","",false,false,false,false,false,"","",""]
[{"$f":"IF(RawData!A324<>\"\", RawData!A324,\"\")","v":""},{"$f":"IF(RawData!B324<>\"\", RawData!B324,\"\")","v":""},{"$f":"IF(RawData!C324<>\"\", RawData!C324,\"\")","v":""},{"$f":"IF(RawData!D324<>\"\", RawData!D324,\"\")","v":""},{"$f":"IF(RawData!E324<>\"\", RawData!E324,\"\")","v":""},{"$f":"IF(RawData!F324<>\"\", RawData!F324,\"\")","v":""},{"$f":"IF(RawData!G324<>\"\", RawData!G324,\"\")","v":""},{"$f":"IF(RawData!H324<>\"\", RawData!H324,\"\")","v":""},{"$f":"IF(RawData!I324<>\"\", RawData!I324,\"\")","v":""},{"$f":"IF(RawData!J324<>\"\", RawData!J324,\"\")","v":""},"","","","","",false,false,false,false,false,"","",""]
[{"$f":"IF(RawData!A325<>\"\", RawData!A325,\"\")","v":""},{"$f":"IF(RawData!B325<>\"\", RawData!B325,\"\")","v":""},{"$f":"IF(RawData!C325<>\"\", RawData!C325,\"\")","v":""},{"$f":"IF(RawData!D325<>\"\", RawData!D325,\"\")","v":""},{"$f":"IF(RawData!E325<>\"\", RawData!E325,\"\")","v":""},{"$f":"IF(RawData!F325<>\"\", RawData!F325,\"\")","v":""},{"$f":"IF(RawData!G325<>\"\", RawData!G325,\"\")","v":""},{"$f":"IF(RawData!H325<>\"\", RawData!H325,\"\")","v":""},{"$f":"IF(RawData!I325<>\"\", RawData!I325,\"\")","v":""},{"$f":"IF(RawData!J325<>\"\", RawData!J325,\"\")","v":""},"","","","","",false,false,false,false,false,"","",""]
[{"$f":"IF(RawData!A326<>\"\", RawData!A326,\"\")","v":""},{"$f":"IF(RawData!B326<>\"\", RawData!B326,\"\")","v":""},{"$f":"IF(RawData!C326<>\"\", RawData!C326,\"\")","v":""},{"$f":"IF(RawData!D326<>\"\", RawData!D326,\"\")","v":""},{"$f":"IF(RawData!E326<>\"\", RawData!E326,\"\")","v":""},{"$f":"IF(RawData!F326<>\"\", RawData!F326,\"\")","v":""},{"$f":"IF(RawData!G326<>\"\", RawData!G326,\"\")","v":""},{"$f":"IF(RawData!H326<>\"\", RawData!H326,\"\")","v":""},{"$f":"IF(RawData!I326<>\"\", RawData!I326,\"\")","v":""},{"$f":"IF(RawData!J326<>\"\", RawData!J326,\"\")","v":""},"","","","","",false,false,false,false,false,"","",""]
[{"$f":"IF(RawData!A327<>\"\", RawData!A327,\"\")","v":""},{"$f":"IF(RawData!B327<>\"\", RawData!B327,\"\")","v":""},{"$f":"IF(RawData!C327<>\"\", RawData!C327,\"\")","v":""},{"$f":"IF(RawData!D327<>\"\", RawData!D327,\"\")","v":""},{"$f":"IF(RawData!E327<>\"\", RawData!E327,\"\")","v":""},{"$f":"IF(RawData!F327<>\"\", RawData!F327,\"\")","v":""},{"$f":"IF(RawData!G327<>\"\", RawData!G327,\"\")","v":""},{"$f":"IF(RawData!H327<>\"\", RawData!H327,\"\")","v":""},{"$f":"IF(RawData!I327<>\"\", RawData!I327,\"\")","v":""},{"$f":"IF(RawData!J327<>\"\", RawData!J327,\"\")","v":""},"","","",{"$f":"IF(G327<>\"\",IF(G327>=4, 1, 0),\"\")","v":""},"",false,false,false,false,false,"","",""]
[{"$f":"IF(RawData!A328<>\"\", RawData!A328,\"\")","v":""},{"$f":"IF(RawData!B328<>\"\", RawData!B328,\"\")","v":""},{"$f":"IF(RawData!C328<>\"\", RawData!C328,\"\")","v":""},{"$f":"IF(RawData!D328<>\"\", RawData!D328,\"\")","v":""},{"$f":"IF(RawData!E328<>\"\", RawData!E328,\"\")","v":""},{"$f":"IF(RawData!F328<>\"\", RawData!F328,\"\")","v":""},{"$f":"IF(RawData!G328<>\"\", RawData!G328,\"\")","v":""},{"$f":"IF(RawData!H328<>\"\", RawData!H328,\"\")","v":""},{"$f":"IF(RawData!I328<>\"\", RawData!I328,\"\")","v":""},{"$f":"IF(RawData!J328<>\"\", RawData!J328,\"\")","v":""},"","","","","",false,false,false,false,false,"","",""]
[{"$f":"IF(RawData!A329<>\"\", RawData!A329,\"\")","v":""},{"$f":"IF(RawData!B329<>\"\", RawData!B329,\"\")","v":""},{"$f":"IF(RawData!C329<>\"\", RawData!C329,\"\")","v":""},{"$f":"IF(RawData!D329<>\"\", RawData!D329,\"\")","v":""},{"$f":"IF(RawData!E329<>\"\", RawData!E329,\"\")","v":""},{"$f":"IF(RawData!F329<>\"\", RawData!F329,\"\")","v":""},{"$f":"IF(RawData!G329<>\"\", RawData!G329,\"\")","v":""},{"$f":"IF(RawData!H329<>\"\", RawData!H329,\"\")","v":""},{"$f":"IF(RawData!I329<>\"\", RawData!I329,\"\")","v":""},{"$f":"IF(RawData!J329<>\"\", RawData!J329,\"\")","v":""},"","","","","",false,false,false,false,false,"","",""]
[{"$f":"IF(RawData!A330<>\"\", RawData!A330,\"\")","v":""},{"$f":"IF(RawData!B330<>\"\", RawData!B330,\"\")","v":""},{"$f":"IF(RawData!C330<>\"\", RawData!C330,\"\")","v":""},{"$f":"IF(RawData!D330<>\"\", RawData!D330,\"\")","v":""},{"$f":"IF(RawData!E330<>\"\", RawData!E330,\"\")","v":""},{"$f":"IF(RawData!F330<>\"\", RawData!F330,\"\")","v":""},{"$f":"IF(RawData!G330<>\"\", RawData!G330,\"\")","v":""},{"$f":"IF(RawData!H330<>\"\", RawData!H330,\"\")","v":""},{"$f":"IF(RawData!I330<>\"\", RawData!I330,\"\")","v":""},{"$f":"IF(RawData!J330<>\"\", RawData!J330,\"\")","v":""},"","","","","",false,false,false,false,false,"","",""]
[{"$f":"IF(RawData!A331<>\"\", RawData!A331,\"\")","v":""},{"$f":"IF(RawData!B331<>\"\", RawData!B331,\"\")","v":""},{"$f":"IF(RawData!C331<>\"\", RawData!C331,\"\")","v":""},{"$f":"IF(RawData!D331<>\"\", RawData!D331,\"\")","v":""},{"$f":"IF(RawData!E331<>\"\", RawData!E331,\"\")","v":""},{"$f":"IF(RawData!F331<>\"\", RawData!F331,\"\")","v":""},{"$f":"IF(RawData!G331<>\"\", RawData!G331,\"\")","v":""},{"$f":"IF(RawData!H331<>\"\", RawData!H331,\"\")","v":""},{"$f":"IF(RawData!I331<>\"\", RawData!I331,\"\")","v":""},{"$f":"IF(RawData!J331<>\"\", RawData!J331,\"\")","v":""},"","","","","",false,false,false,false,false,"","",""]
[{"$f":"IF(RawData!A332<>\"\", RawData!A332,\"\")","v":""},{"$f":"IF(RawData!B332<>\"\", RawData!B332,\"\")","v":""},{"$f":"IF(RawData!C332<>\"\", RawData!C332,\"\")","v":""},{"$f":"IF(RawData!D332<>\"\", RawData!D332,\"\")","v":""},{"$f":"IF(RawData!E332<>\"\", RawData!E332,\"\")","v":""},{"$f":"IF(RawData!F332<>\"\", RawData!F332,\"\")","v":""},{"$f":"IF(RawData!G332<>\"\", RawData!G332,\"\")","v":""},{"$f":"IF(RawData!H332<>\"\", RawData!H332,\"\")","v":""},{"$f":"IF(RawData!I332<>\"\", RawData!I332,\"\")","v":""},{"$f":"IF(RawData!J332<>\"\", RawData!J332,\"\")","v":""},"","","","","",false,false,false,false,false,"","",""]
[{"$f":"IF(RawData!A333<>\"\", RawData!A333,\"\")","v":""},{"$f":"IF(RawData!B333<>\"\", RawData!B333,\"\")","v":""},{"$f":"IF(RawData!C333<>\"\", RawData!C333,\"\")","v":""},{"$f":"IF(RawData!D333<>\"\", RawData!D333,\"\")","v":""},{"$f":"IF(RawData!E333<>\"\", RawData!E333,\"\")","v":""},{"$f":"IF(RawData!F333<>\"\", RawData!F333,\"\")","v":""},{"$f":"IF(RawData!G333<>\"\", RawData!G333,\"\")","v":""},{"$f":"IF(RawData!H333<>\"\", RawData!H333,\"\")","v":""},{"$f":"IF(RawData!I333<>\"\", RawData!I333,\"\")","v":""},{"$f":"IF(RawData!J333<>\"\", RawData!J333,\"\")","v":""},"","","","","",false,false,false,false,false,"","",""]
[{"$f":"IF(RawData!A334<>\"\", RawData!A334,\"\")","v":""},{"$f":"IF(RawData!B334<>\"\", RawData!B334,\"\")","v":""},{"$f":"IF(RawData!C334<>\"\", RawData!C334,\"\")","v":""},{"$f":"IF(RawData!D334<>\"\", RawData!D334,\"\")","v":""},{"$f":"IF(RawData!E334<>\"\", RawData!E334,\"\")","v":""},{"$f":"IF(RawData!F334<>\"\", RawData!F334,\"\")","v":""},{"$f":"IF(RawData!G334<>\"\", RawData!G334,\"\")","v":""},{"$f":"IF(RawData!H334<>\"\", RawData!H334,\"\")","v":""},{"$f":"IF(RawData!I334<>\"\", RawData!I334,\"\")","v":""},{"$f":"IF(RawData!J334<>\"\", RawData!J334,\"\")","v":""},"","","","","",false,false,false,false,false,"","",""]
[{"$f":"IF(RawData!A335<>\"\", RawData!A335,\"\")","v":""},{"$f":"IF(RawData!B335<>\"\", RawData!B335,\"\")","v":""},{"$f":"IF(RawData!C335<>\"\", RawData!C335,\"\")","v":""},{"$f":"IF(RawData!D335<>\"\", RawData!D335,\"\")","v":""},{"$f":"IF(RawData!E335<>\"\", RawData!E335,\"\")","v":""},{"$f":"IF(RawData!F335<>\"\", RawData!F335,\"\")","v":""},{"$f":"IF(RawData!G335<>\"\", RawData!G335,\"\")","v":""},{"$f":"IF(RawData!H335<>\"\", RawData!H335,\"\")","v":""},{"$f":"IF(RawData!I335<>\"\", RawData!I335,\"\")","v":""},{"$f":"IF(RawData!J335<>\"\", RawData!J335,\"\")","v":""},"","","","","",false,false,false,false,false,"","",""]
[{"$f":"IF(RawData!A336<>\"\", RawData!A336,\"\")","v":""},{"$f":"IF(RawData!B336<>\"\", RawData!B336,\"\")","v":""},{"$f":"IF(RawData!C336<>\"\", RawData!C336,\"\")","v":""},{"$f":"IF(RawData!D336<>\"\", RawData!D336,\"\")","v":""},{"$f":"IF(RawData!E336<>\"\", RawData!E336,\"\")","v":""},{"$f":"IF(RawData!F336<>\"\", RawData!F336,\"\")","v":""},{"$f":"IF(RawData!G336<>\"\", RawData!G336,\"\")","v":""},{"$f":"IF(RawData!H336<>\"\", RawData!H336,\"\")","v":""},{"$f":"IF(RawData!I336<>\"\", RawData!I336,\"\")","v":""},{"$f":"IF(RawData!J336<>\"\", RawData!J336,\"\")","v":""},"","","","","",false,false,false,false,false,"","",""]
[{"$f":"IF(RawData!A337<>\"\", RawData!A337,\"\")","v":""},{"$f":"IF(RawData!B337<>\"\", RawData!B337,\"\")","v":""},{"$f":"IF(RawData!C337<>\"\", RawData!C337,\"\")","v":""},{"$f":"IF(RawData!D337<>\"\", RawData!D337,\"\")","v":""},{"$f":"IF(RawData!E337<>\"\", RawData!E337,\"\")","v":""},{"$f":"IF(RawData!F337<>\"\", RawData!F337,\"\")","v":""},{"$f":"IF(RawData!G337<>\"\", RawData!G337,\"\")","v":""},{"$f":"IF(RawData!H337<>\"\", RawData!H337,\"\")","v":""},{"$f":"IF(RawData!I337<>\"\", RawData!I337,\"\")","v":""},{"$f":"IF(RawData!J337<>\"\", RawData!J337,\"\")","v":""},"","","","","",false,false,false,false,false,"","",""]
[{"$f":"IF(RawData!A338<>\"\", RawData!A338,\"\")","v":""},{"$f":"IF(RawData!B338<>\"\", RawData!B338,\"\")","v":""},{"$f":"IF(RawData!C338<>\"\", RawData!C338,\"\")","v":""},{"$f":"IF(RawData!D338<>\"\", RawData!D338,\"\")","v":""},{"$f":"IF(RawData!E338<>\"\", RawData!E338,\"\")","v":""},{"$f":"IF(RawData!F338<>\"\", RawData!F338,\"\")","v":""},{"$f":"IF(RawData!G338<>\"\", RawData!G338,\"\")","v":""},{"$f":"IF(RawData!H338<>\"\", RawData!H338,\"\")","v":""},{"$f":"IF(RawData!I338<>\"\", RawData!I338,\"\")","v":""},{"$f":"IF(RawData!J338<>\"\", RawData!J338,\"\")","v":""},"","","","","",false,false,false,false,false,"","",""]
[{"$f":"IF(RawData!A339<>\"\", RawData!A339,\"\")","v":""},{"$f":"IF(RawData!B339<>\"\", RawData!B339,\"\")","v":""},{"$f":"IF(RawData!C339<>\"\", RawData!C339,\"\")","v":""},{"$f":"IF(RawData!D339<>\"\", RawData!D339,\"\")","v":""},{"$f":"IF(RawData!E339<>\"\", RawData!E339,\"\")","v":""},{"$f":"IF(RawData!F339<>\"\", RawData!F339,\"\")","v":""},{"$f":"IF(RawData!G339<>\"\", RawData!G339,\"\")","v":""},{"$f":"IF(RawData!H339<>\"\", RawData!H339,\"\")","v":""},{"$f":"IF(RawData!I339<>\"\", RawData!I339,\"\")","v":""},{"$f":"IF(RawData!J339<>\"\", RawData!J339,\"\")","v":""},"","","","","",false,false,false,false,false,"","",""]
[{"$f":"IF(RawData!A340<>\"\", RawData!A340,\"\")","v":""},{"$f":"IF(RawData!B340<>\"\", RawData!B340,\"\")","v":""},{"$f":"IF(RawData!C340<>\"\", RawData!C340,\"\")","v":""},{"$f":"IF(RawData!D340<>\"\", RawData!D340,\"\")","v":""},{"$f":"IF(RawData!E340<>\"\", RawData!E340,\"\")","v":""},{"$f":"IF(RawData!F340<>\"\", RawData!F340,\"\")","v":""},{"$f":"IF(RawData!G340<>\"\", RawData!G340,\"\")","v":""},{"$f":"IF(RawData!H340<>\"\", RawData!H340,\"\")","v":""},{"$f":"IF(RawData!I340<>\"\", RawData!I340,\"\")","v":""},{"$f":"IF(RawData!J340<>\"\", RawData!J340,\"\")","v":""},"","","","","",false,false,false,false,false,"","",""]
[{"$f":"IF(RawData!A341<>\"\", RawData!A341,\"\")","v":""},{"$f":"IF(RawData!B341<>\"\", RawData!B341,\"\")","v":""},{"$f":"IF(RawData!C341<>\"\", RawData!C341,\"\")","v":""},{"$f":"IF(RawData!D341<>\"\", RawData!D341,\"\")","v":""},{"$f":"IF(RawData!E341<>\"\", RawData!E341,\"\")","v":""},{"$f":"IF(RawData!F341<>\"\", RawData!F341,\"\")","v":""},{"$f":"IF(RawData!G341<>\"\", RawData!G341,\"\")","v":""},{"$f":"IF(RawData!H341<>\"\", RawData!H341,\"\")","v":""},{"$f":"IF(RawData!I341<>\"\", RawData!I341,\"\")","v":""},{"$f":"IF(RawData!J341<>\"\", RawData!J341,\"\")","v":""},"","","","","",false,false,false,false,false,"","",""]
[{"$f":"IF(RawData!A342<>\"\", RawData!A342,\"\")","v":""},{"$f":"IF(RawData!B342<>\"\", RawData!B342,\"\")","v":""},{"$f":"IF(RawData!C342<>\"\", RawData!C342,\"\")","v":""},{"$f":"IF(RawData!D342<>\"\", RawData!D342,\"\")","v":""},{"$f":"IF(RawData!E342<>\"\", RawData!E342,\"\")","v":""},{"$f":"IF(RawData!F342<>\"\", RawData!F342,\"\")","v":""},{"$f":"IF(RawData!G342<>\"\", RawData!G342,\"\")","v":""},{"$f":"IF(RawData!H342<>\"\", RawData!H342,\"\")","v":""},{"$f":"IF(RawData!I342<>\"\", RawData!I342,\"\")","v":""},{"$f":"IF(RawData!J342<>\"\", RawData!J342,\"\")","v":""},"","","","","",false,false,false,false,false,"","",""]
[{"$f":"IF(RawData!A343<>\"\", RawData!A343,\"\")","v":""},{"$f":"IF(RawData!B343<>\"\", RawData!B343,\"\")","v":""},{"$f":"IF(RawData!C343<>\"\", RawData!C343,\"\")","v":""},{"$f":"IF(RawData!D343<>\"\", RawData!D343,\"\")","v":""},{"$f":"IF(RawData!E343<>\"\", RawData!E343,\"\")","v":""},{"$f":"IF(RawData!F343<>\"\", RawData!F343,\"\")","v":""},{"$f":"IF(RawData!G343<>\"\", RawData!G343,\"\")","v":""},{"$f":"IF(RawData!H343<>\"\", RawData!H343,\"\")","v":""},{"$f":"IF(RawData!I343<>\"\", RawData!I343,\"\")","v":""},{"$f":"IF(RawData!J343<>\"\", RawData!J343,\"\")","v":""},"","","","","",false,false,false,false,false,"","",""]
[{"$f":"IF(RawData!A344<>\"\", RawData!A344,\"\")","v":""},{"$f":"IF(RawData!B344<>\"\", RawData!B344,\"\")","v":""},{"$f":"IF(RawData!C344<>\"\", RawData!C344,\"\")","v":""},{"$f":"IF(RawData!D344<>\"\", RawData!D344,\"\")","v":""},{"$f":"IF(RawData!E344<>\"\", RawData!E344,\"\")","v":""},{"$f":"IF(RawData!F344<>\"\", RawData!F344,\"\")","v":""},{"$f":"IF(RawData!G344<>\"\", RawData!G344,\"\")","v":""},{"$f":"IF(RawData!H344<>\"\", RawData!H344,\"\")","v":""},{"$f":"IF(RawData!I344<>\"\", RawData!I344,\"\")","v":""},{"$f":"IF(RawData!J344<>\"\", RawData!J344,\"\")","v":""},"","","","","",false,false,false,false,false,"","",""]
[{"$f":"IF(RawData!A345<>\"\", RawData!A345,\"\")","v":""},{"$f":"IF(RawData!B345<>\"\", RawData!B345,\"\")","v":""},{"$f":"IF(RawData!C345<>\"\", RawData!C345,\"\")","v":""},{"$f":"IF(RawData!D345<>\"\", RawData!D345,\"\")","v":""},{"$f":"IF(RawData!E345<>\"\", RawData!E345,\"\")","v":""},{"$f":"IF(RawData!F345<>\"\", RawData!F345,\"\")","v":""},{"$f":"IF(RawData!G345<>\"\", RawData!G345,\"\")","v":""},{"$f":"IF(RawData!H345<>\"\", RawData!H345,\"\")","v":""},{"$f":"IF(RawData!I345<>\"\", RawData!I345,\"\")","v":""},{"$f":"IF(RawData!J345<>\"\", RawData!J345,\"\")","v":""},"","","","","",false,false,false,false,false,"","",""]
[{"$f":"IF(RawData!A346<>\"\", RawData!A346,\"\")","v":""},{"$f":"IF(RawData!B346<>\"\", RawData!B346,\"\")","v":""},{"$f":"IF(RawData!C346<>\"\", RawData!C346,\"\")","v":""},{"$f":"IF(RawData!D346<>\"\", RawData!D346,\"\")","v":""},{"$f":"IF(RawData!E346<>\"\", RawData!E346,\"\")","v":""},{"$f":"IF(RawData!F346<>\"\", RawData!F346,\"\")","v":""},{"$f":"IF(RawData!G346<>\"\", RawData!G346,\"\")","v":""},{"$f":"IF(RawData!H346<>\"\", RawData!H346,\"\")","v":""},{"$f":"IF(RawData!I346<>\"\", RawData!I346,\"\")","v":""},{"$f":"IF(RawData!J346<>\"\", RawData!J346,\"\")","v":""},"","","","","",false,false,false,false,false,"","",""]
[{"$f":"IF(RawData!A347<>\"\", RawData!A347,\"\")","v":""},{"$f":"IF(RawData!B347<>\"\", RawData!B347,\"\")","v":""},{"$f":"IF(RawData!C347<>\"\", RawData!C347,\"\")","v":""},{"$f":"IF(RawData!D347<>\"\", RawData!D347,\"\")","v":""},{"$f":"IF(RawData!E347<>\"\", RawData!E347,\"\")","v":""},{"$f":"IF(RawData!F347<>\"\", RawData!F347,\"\")","v":""},{"$f":"IF(RawData!G347<>\"\", RawData!G347,\"\")","v":""},{"$f":"IF(RawData!H347<>\"\", RawData!H347,\"\")","v":""},{"$f":"IF(RawData!I347<>\"\", RawData!I347,\"\")","v":""},{"$f":"IF(RawData!J347<>\"\", RawData!J347,\"\")","v":""},"","","","","",false,false,false,false,false,"","",""]
[{"$f":"IF(RawData!A348<>\"\", RawData!A348,\"\")","v":""},{"$f":"IF(RawData!B348<>\"\", RawData!B348,\"\")","v":""},{"$f":"IF(RawData!C348<>\"\", RawData!C348,\"\")","v":""},{"$f":"IF(RawData!D348<>\"\", RawData!D348,\"\")","v":""},{"$f":"IF(RawData!E348<>\"\", RawData!E348,\"\")","v":""},{"$f":"IF(RawData!F348<>\"\", RawData!F348,\"\")","v":""},{"$f":"IF(RawData!G348<>\"\", RawData!G348,\"\")","v":""},{"$f":"IF(RawData!H348<>\"\", RawData!H348,\"\")","v":""},{"$f":"IF(RawData!I348<>\"\", RawData!I348,\"\")","v":""},{"$f":"IF(RawData!J348<>\"\", RawData!J348,\"\")","v":""},"","","","","",false,false,false,false,false,"","",""]
[{"$f":"IF(RawData!A349<>\"\", RawData!A349,\"\")","v":""},{"$f":"IF(RawData!B349<>\"\", RawData!B349,\"\")","v":""},{"$f":"IF(RawData!C349<>\"\", RawData!C349,\"\")","v":""},{"$f":"IF(RawData!D349<>\"\", RawData!D349,\"\")","v":""},{"$f":"IF(RawData!E349<>\"\", RawData!E349,\"\")","v":""},{"$f":"IF(RawData!F349<>\"\", RawData!F349,\"\")","v":""},{"$f":"IF(RawData!G349<>\"\", RawData!G349,\"\")","v":""},{"$f":"IF(RawData!H349<>\"\", RawData!H349,\"\")","v":""},{"$f":"IF(RawData!I349<>\"\", RawData!I349,\"\")","v":""},{"$f":"IF(RawData!J349<>\"\", RawData!J349,\"\")","v":""},"","","","","",false,false,false,false,false,"","",""]
[{"$f":"IF(RawData!A350<>\"\", RawData!A350,\"\")","v":""},{"$f":"IF(RawData!B350<>\"\", RawData!B350,\"\")","v":""},{"$f":"IF(RawData!C350<>\"\", RawData!C350,\"\")","v":""},{"$f":"IF(RawData!D350<>\"\", RawData!D350,\"\")","v":""},{"$f":"IF(RawData!E350<>\"\", RawData!E350,\"\")","v":""},{"$f":"IF(RawData!F350<>\"\", RawData!F350,\"\")","v":""},{"$f":"IF(RawData!G350<>\"\", RawData!G350,\"\")","v":""},{"$f":"IF(RawData!H350<>\"\", RawData!H350,\"\")","v":""},{"$f":"IF(RawData!I350<>\"\", RawData!I350,\"\")","v":""},{"$f":"IF(RawData!J350<>\"\", RawData!J350,\"\")","v":""},"","","","","",false,false,false,false,false,"","",""]
[{"$f":"IF(RawData!A351<>\"\", RawData!A351,\"\")","v":""},{"$f":"IF(RawData!B351<>\"\", RawData!B351,\"\")","v":""},{"$f":"IF(RawData!C351<>\"\", RawData!C351,\"\")","v":""},{"$f":"IF(RawData!D351<>\"\", RawData!D351,\"\")","v":""},{"$f":"IF(RawData!E351<>\"\", RawData!E351,\"\")","v":""},{"$f":"IF(RawData!F351<>\"\", RawData!F351,\"\")","v":""},{"$f":"IF(RawData!G351<>\"\", RawData!G351,\"\")","v":""},{"$f":"IF(RawData!H351<>\"\", RawData!H351,\"\")","v":""},{"$f":"IF(RawData!I351<>\"\", RawData!I351,\"\")","v":""},{"$f":"IF(RawData!J351<>\"\", RawData!J351,\"\")","v":""},"","","","","",false,false,false,false,false,"","",""]
[{"$f":"IF(RawData!A352<>\"\", RawData!A352,\"\")","v":""},{"$f":"IF(RawData!B352<>\"\", RawData!B352,\"\")","v":""},{"$f":"IF(RawData!C352<>\"\", RawData!C352,\"\")","v":""},{"$f":"IF(RawData!D352<>\"\", RawData!D352,\"\")","v":""},{"$f":"IF(RawData!E352<>\"\", RawData!E352,\"\")","v":""},{"$f":"IF(RawData!F352<>\"\", RawData!F352,\"\")","v":""},{"$f":"IF(RawData!G352<>\"\", RawData!G352,\"\")","v":""},{"$f":"IF(RawData!H352<>\"\", RawData!H352,\"\")","v":""},{"$f":"IF(RawData!I352<>\"\", RawData!I352,\"\")","v":""},{"$f":"IF(RawData!J352<>\"\", RawData!J352,\"\")","v":""},"","","","","",false,false,false,false,false,"","",""]
[{"$f":"IF(RawData!A353<>\"\", RawData!A353,\"\")","v":""},{"$f":"IF(RawData!B353<>\"\", RawData!B353,\"\")","v":""},{"$f":"IF(RawData!C353<>\"\", RawData!C353,\"\")","v":""},{"$f":"IF(RawData!D353<>\"\", RawData!D353,\"\")","v":""},{"$f":"IF(RawData!E353<>\"\", RawData!E353,\"\")","v":""},{"$f":"IF(RawData!F353<>\"\", RawData!F353,\"\")","v":""},{"$f":"IF(RawData!G353<>\"\", RawData!G353,\"\")","v":""},{"$f":"IF(RawData!H353<>\"\", RawData!H353,\"\")","v":""},{"$f":"IF(RawData!I353<>\"\", RawData!I353,\"\")","v":""},{"$f":"IF(RawData!J353<>\"\", RawData!J353,\"\")","v":""},"","","","","",false,false,false,false,false,"","",""]
[{"$f":"IF(RawData!A354<>\"\", RawData!A354,\"\")","v":""},{"$f":"IF(RawData!B354<>\"\", RawData!B354,\"\")","v":""},{"$f":"IF(RawData!C354<>\"\", RawData!C354,\"\")","v":""},{"$f":"IF(RawData!D354<>\"\", RawData!D354,\"\")","v":""},{"$f":"IF(RawData!E354<>\"\", RawData!E354,\"\")","v":""},{"$f":"IF(RawData!F354<>\"\", RawData!F354,\"\")","v":""},{"$f":"IF(RawData!G354<>\"\", RawData!G354,\"\")","v":""},{"$f":"IF(RawData!H354<>\"\", RawData!H354,\"\")","v":""},{"$f":"IF(RawData!I354<>\"\", RawData!I354,\"\")","v":""},{"$f":"IF(RawData!J354<>\"\", RawData!J354,\"\")","v":""},"","","","","",false,false,false,false,false,"","",""]
[{"$f":"IF(RawData!A355<>\"\", RawData!A355,\"\")","v":""},{"$f":"IF(RawData!B355<>\"\", RawData!B355,\"\")","v":""},{"$f":"IF(RawData!C355<>\"\", RawData!C355,\"\")","v":""},{"$f":"IF(RawData!D355<>\"\", RawData!D355,\"\")","v":""},{"$f":"IF(RawData!E355<>\"\", RawData!E355,\"\")","v":""},{"$f":"IF(RawData!F355<>\"\", RawData!F355,\"\")","v":""},{"$f":"IF(RawData!G355<>\"\", RawData!G355,\"\")","v":""},{"$f":"IF(RawData!H355<>\"\", RawData!H355,\"\")","v":""},{"$f":"IF(RawData!I355<>\"\", RawData!I355,\"\")","v":""},{"$f":"IF(RawData!J355<>\"\", RawData!J355,\"\")","v":""},"","","","","",false,false,false,false,false,"","",""]
[{"$f":"IF(RawData!A356<>\"\", RawData!A356,\"\")","v":""},{"$f":"IF(RawData!B356<>\"\", RawData!B356,\"\")","v":""},{"$f":"IF(RawData!C356<>\"\", RawData!C356,\"\")","v":""},{"$f":"IF(RawData!D356<>\"\", RawData!D356,\"\")","v":""},{"$f":"IF(RawData!E356<>\"\", RawData!E356,\"\")","v":""},{"$f":"IF(RawData!F356<>\"\", RawData!F356,\"\")","v":""},{"$f":"IF(RawData!G356<>\"\", RawData!G356,\"\")","v":""},{"$f":"IF(RawData!H356<>\"\", RawData!H356,\"\")","v":""},{"$f":"IF(RawData!I356<>\"\", RawData!I356,\"\")","v":""},{"$f":"IF(RawData!J356<>\"\", RawData!J356,\"\")","v":""},"","","","","",false,false,false,false,false,"","",""]
[{"$f":"IF(RawData!A357<>\"\", RawData!A357,\"\")","v":""},{"$f":"IF(RawData!B357<>\"\", RawData!B357,\"\")","v":""},{"$f":"IF(RawData!C357<>\"\", RawData!C357,\"\")","v":""},{"$f":"IF(RawData!D357<>\"\", RawData!D357,\"\")","v":""},{"$f":"IF(RawData!E357<>\"\", RawData!E357,\"\")","v":""},{"$f":"IF(RawData!F357<>\"\", RawData!F357,\"\")","v":""},{"$f":"IF(RawData!G357<>\"\", RawData!G357,\"\")","v":""},{"$f":"IF(RawData!H357<>\"\", RawData!H357,\"\")","v":""},{"$f":"IF(RawData!I357<>\"\", RawData!I357,\"\")","v":""},{"$f":"IF(RawData!J357<>\"\", RawData!J357,\"\")","v":""},"","","","","",false,false,false,false,false,"","",""]
[{"$f":"IF(RawData!A358<>\"\", RawData!A358,\"\")","v":""},{"$f":"IF(RawData!B358<>\"\", RawData!B358,\"\")","v":""},{"$f":"IF(RawData!C358<>\"\", RawData!C358,\"\")","v":""},{"$f":"IF(RawData!D358<>\"\", RawData!D358,\"\")","v":""},{"$f":"IF(RawData!E358<>\"\", RawData!E358,\"\")","v":""},{"$f":"IF(RawData!F358<>\"\", RawData!F358,\"\")","v":""},{"$f":"IF(RawData!G358<>\"\", RawData!G358,\"\")","v":""},{"$f":"IF(RawData!H358<>\"\", RawData!H358,\"\")","v":""},{"$f":"IF(RawData!I358<>\"\", RawData!I358,\"\")","v":""},{"$f":"IF(RawData!J358<>\"\", RawData!J358,\"\")","v":""},"","","","","",false,false,false,false,false,"","",""]
[{"$f":"IF(RawData!A359<>\"\", RawData!A359,\"\")","v":""},{"$f":"IF(RawData!B359<>\"\", RawData!B359,\"\")","v":""},{"$f":"IF(RawData!C359<>\"\", RawData!C359,\"\")","v":""},{"$f":"IF(RawData!D359<>\"\", RawData!D359,\"\")","v":""},{"$f":"IF(RawData!E359<>\"\", RawData!E359,\"\")","v":""},{"$f":"IF(RawData!F359<>\"\", RawData!F359,\"\")","v":""},{"$f":"IF(RawData!G359<>\"\", RawData!G359,\"\")","v":""},{"$f":"IF(RawData!H359<>\"\", RawData!H359,\"\")","v":""},{"$f":"IF(RawData!I359<>\"\", RawData!I359,\"\")","v":""},{"$f":"IF(RawData!J359<>\"\", RawData!J359,\"\")","v":""},"","","","","",false,false,false,false,false,"","",""]
[{"$f":"IF(RawData!A360<>\"\", RawData!A360,\"\")","v":""},{"$f":"IF(RawData!B360<>\"\", RawData!B360,\"\")","v":""},{"$f":"IF(RawData!C360<>\"\", RawData!C360,\"\")","v":""},{"$f":"IF(RawData!D360<>\"\", RawData!D360,\"\")","v":""},{"$f":"IF(RawData!E360<>\"\", RawData!E360,\"\")","v":""},{"$f":"IF(RawData!F360<>\"\", RawData!F360,\"\")","v":""},{"$f":"IF(RawData!G360<>\"\", RawData!G360,\"\")","v":""},{"$f":"IF(RawData!H360<>\"\", RawData!H360,\"\")","v":""},{"$f":"IF(RawData!I360<>\"\", RawData!I360,\"\")","v":""},{"$f":"IF(RawData!J360<>\"\", RawData!J360,\"\")","v":""},"","","","","",false,false,false,false,false,"","",""]
[{"$f":"IF(RawData!A361<>\"\", RawData!A361,\"\")","v":""},{"$f":"IF(RawData!B361<>\"\", RawData!B361,\"\")","v":""},{"$f":"IF(RawData!C361<>\"\", RawData!C361,\"\")","v":""},{"$f":"IF(RawData!D361<>\"\", RawData!D361,\"\")","v":""},{"$f":"IF(RawData!E361<>\"\", RawData!E361,\"\")","v":""},{"$f":"IF(RawData!F361<>\"\", RawData!F361,\"\")","v":""},{"$f":"IF(RawData!G361<>\"\", RawData!G361,\"\")","v":""},{"$f":"IF(RawData!H361<>\"\", RawData!H361,\"\")","v":""},{"$f":"IF(RawData!I361<>\"\", RawData!I361,\"\")","v":""},{"$f":"IF(RawData!J361<>\"\", RawData!J361,\"\")","v":""},"","","","","",false,false,false,false,false,"","",""]
[{"$f":"IF(RawData!A362<>\"\", RawData!A362,\"\")","v":""},{"$f":"IF(RawData!B362<>\"\", RawData!B362,\"\")","v":""},{"$f":"IF(RawData!C362<>\"\", RawData!C362,\"\")","v":""},{"$f":"IF(RawData!D362<>\"\", RawData!D362,\"\")","v":""},{"$f":"IF(RawData!E362<>\"\", RawData!E362,\"\")","v":""},{"$f":"IF(RawData!F362<>\"\", RawData!F362,\"\")","v":""},{"$f":"IF(RawData!G362<>\"\", RawData!G362,\"\")","v":""},{"$f":"IF(RawData!H362<>\"\", RawData!H362,\"\")","v":""},{"$f":"IF(RawData!I362<>\"\", RawData!I362,\"\")","v":""},{"$f":"IF(RawData!J362<>\"\", RawData!J362,\"\")","v":""},"","","","","",false,false,false,false,false,"","",""]
[{"$f":"IF(RawData!A363<>\"\", RawData!A363,\"\")","v":""},{"$f":"IF(RawData!B363<>\"\", RawData!B363,\"\")","v":""},{"$f":"IF(RawData!C363<>\"\", RawData!C363,\"\")","v":""},{"$f":"IF(RawData!D363<>\"\", RawData!D363,\"\")","v":""},{"$f":"IF(RawData!E363<>\"\", RawData!E363,\"\")","v":""},{"$f":"IF(RawData!F363<>\"\", RawData!F363,\"\")","v":""},{"$f":"IF(RawData!G363<>\"\", RawData!G363,\"\")","v":""},{"$f":"IF(RawData!H363<>\"\", RawData!H363,\"\")","v":""},{"$f":"IF(RawData!I363<>\"\", RawData!I363,\"\")","v":""},{"$f":"IF(RawData!J363<>\"\", RawData!J363,\"\")","v":""},"","","","","",false,false,false,false,false,"","",""]
[{"$f":"IF(RawData!A364<>\"\", RawData!A364,\"\")","v":""},{"$f":"IF(RawData!B364<>\"\", RawData!B364,\"\")","v":""},{"$f":"IF(RawData!C364<>\"\", RawData!C364,\"\")","v":""},{"$f":"IF(RawData!D364<>\"\", RawData!D364,\"\")","v":""},{"$f":"IF(RawData!E364<>\"\", RawData!E364,\"\")","v":""},{"$f":"IF(RawData!F364<>\"\", RawData!F364,\"\")","v":""},{"$f":"IF(RawData!G364<>\"\", RawData!G364,\"\")","v":""},{"$f":"IF(RawData!H364<>\"\", RawData!H364,\"\")","v":""},{"$f":"IF(RawData!I364<>\"\", RawData!I364,\"\")","v":""},{"$f":"IF(RawData!J364<>\"\", RawData!J364,\"\")","v":""},"","","","","",false,false,false,false,false,"","",""]
[{"$f":"IF(RawData!A365<>\"\", RawData!A365,\"\")","v":""},{"$f":"IF(RawData!B365<>\"\", RawData!B365,\"\")","v":""},{"$f":"IF(RawData!C365<>\"\", RawData!C365,\"\")","v":""},{"$f":"IF(RawData!D365<>\"\", RawData!D365,\"\")","v":""},{"$f":"IF(RawData!E365<>\"\", RawData!E365,\"\")","v":""},{"$f":"IF(RawData!F365<>\"\", RawData!F365,\"\")","v":""},{"$f":"IF(RawData!G365<>\"\", RawData!G365,\"\")","v":""},{"$f":"IF(RawData!H365<>\"\", RawData!H365,\"\")","v":""},{"$f":"IF(RawData!I365<>\"\", RawData!I365,\"\")","v":""},{"$f":"IF(RawData!J365<>\"\", RawData!J365,\"\")","v":""},"","","","","",false,false,false,false,false,"","",""]
[{"$f":"IF(RawData!A366<>\"\", RawData!A366,\"\")","v":""},{"$f":"IF(RawData!B366<>\"\", RawData!B366,\"\")","v":""},{"$f":"IF(RawData!C366<>\"\", RawData!C366,\"\")","v":""},{"$f":"IF(RawData!D366<>\"\", RawData!D366,\"\")","v":""},{"$f":"IF(RawData!E366<>\"\", RawData!E366,\"\")","v":""},{"$f":"IF(RawData!F366<>\"\", RawData!F366,\"\")","v":""},{"$f":"IF(RawData!G366<>\"\", RawData!G366,\"\")","v":""},{"$f":"IF(RawData!H366<>\"\", RawData!H366,\"\")","v":""},{"$f":"IF(RawData!I366<>\"\", RawData!I366,\"\")","v":""},{"$f":"IF(RawData!J366<>\"\", RawData!J366,\"\")","v":""},"","","","","",false,false,false,false,false,"","",""]
[{"$f":"IF(RawData!A367<>\"\", RawData!A367,\"\")","v":""},{"$f":"IF(RawData!B367<>\"\", RawData!B367,\"\")","v":""},{"$f":"IF(RawData!C367<>\"\", RawData!C367,\"\")","v":""},{"$f":"IF(RawData!D367<>\"\", RawData!D367,\"\")","v":""},{"$f":"IF(RawData!E367<>\"\", RawData!E367,\"\")","v":""},{"$f":"IF(RawData!F367<>\"\", RawData!F367,\"\")","v":""},{"$f":"IF(RawData!G367<>\"\", RawData!G367,\"\")","v":""},{"$f":"IF(RawData!H367<>\"\", RawData!H367,\"\")","v":""},{"$f":"IF(RawData!I367<>\"\", RawData!I367,\"\")","v":""},{"$f":"IF(RawData!J367<>\"\", RawData!J367,\"\")","v":""},"","","","","",false,false,false,false,false,"","",""]
[{"$f":"IF(RawData!A368<>\"\", RawData!A368,\"\")","v":""},{"$f":"IF(RawData!B368<>\"\", RawData!B368,\"\")","v":""},{"$f":"IF(RawData!C368<>\"\", RawData!C368,\"\")","v":""},{"$f":"IF(RawData!D368<>\"\", RawData!D368,\"\")","v":""},{"$f":"IF(RawData!E368<>\"\", RawData!E368,\"\")","v":""},{"$f":"IF(RawData!F368<>\"\", RawData!F368,\"\")","v":""},{"$f":"IF(RawData!G368<>\"\", RawData!G368,\"\")","v":""},{"$f":"IF(RawData!H368<>\"\", RawData!H368,\"\")","v":""},{"$f":"IF(RawData!I368<>\"\", RawData!I368,\"\")","v":""},{"$f":"IF(RawData!J368<>\"\", RawData!J368,\"\")","v":""},"","","","","",false,false,false,false,false,"","",""]
[{"$f":"IF(RawData!A369<>\"\", RawData!A369,\"\")","v":""},{"$f":"IF(RawData!B369<>\"\", RawData!B369,\"\")","v":""},{"$f":"IF(RawData!C369<>\"\", RawData!C369,\"\")","v":""},{"$f":"IF(RawData!D369<>\"\", RawData!D369,\"\")","v":""},{"$f":"IF(RawData!E369<>\"\", RawData!E369,\"\")","v":""},{"$f":"IF(RawData!F369<>\"\", RawData!F369,\"\")","v":""},{"$f":"IF(RawData!G369<>\"\", RawData!G369,\"\")","v":""},{"$f":"IF(RawData!H369<>\"\", RawData!H369,\"\")","v":""},{"$f":"IF(RawData!I369<>\"\", RawData!I369,\"\")","v":""},{"$f":"IF(RawData!J369<>\"\", RawData!J369,\"\")","v":""},"","","","","",false,false,false,false,false,"","",""]
[{"$f":"IF(RawData!A370<>\"\", RawData!A370,\"\")","v":""},{"$f":"IF(RawData!B370<>\"\", RawData!B370,\"\")","v":""},{"$f":"IF(RawData!C370<>\"\", RawData!C370,\"\")","v":""},{"$f":"IF(RawData!D370<>\"\", RawData!D370,\"\")","v":""},{"$f":"IF(RawData!E370<>\"\", RawData!E370,\"\")","v":""},{"$f":"IF(RawData!F370<>\"\", RawData!F370,\"\")","v":""},{"$f":"IF(RawData!G370<>\"\", RawData!G370,\"\")","v":""},{"$f":"IF(RawData!H370<>\"\", RawData!H370,\"\")","v":""},{"$f":"IF(RawData!I370<>\"\", RawData!I370,\"\")","v":""},{"$f":"IF(RawData!J370<>\"\", RawData!J370,\"\")","v":""},{"$f":"IF(G370<>\"\",IF(G370<3, 1, 0),\"\")","v":""},{"$f":"IF(G370<>\"\",IF(G370>=1, 1, 0),\"\")","v":""},{"$f":"IF(G370<>\"\",IF(AND(G370>=1,G370<=7), 1, 0),\"\")","v":""},"",{"$f":"IF(G370<>\"\",IF(G370>=8, 1, 0),\"\")","v":""},false,false,false,false,false,{"$f":"IF(H370<>\"\",IF(H370=1,IF(J370=4, 1, 0),\"\"),\"\")","v":""},"",""]
[{"$f":"IF(RawData!A371<>\"\", RawData!A371,\"\")","v":""},{"$f":"IF(RawData!B371<>\"\", RawData!B371,\"\")","v":""},{"$f":"IF(RawData!C371<>\"\", RawData!C371,\"\")","v":""},{"$f":"IF(RawData!D371<>\"\", RawData!D371,\"\")","v":""},{"$f":"IF(RawData!E371<>\"\", RawData!E371,\"\")","v":""},{"$f":"IF(RawData!F371<>\"\", RawData!F371,\"\")","v":""},{"$f":"IF(RawData!G371<>\"\", RawData!G371,\"\")","v":""},{"$f":"IF(RawData!H371<>\"\", RawData!H371,\"\")","v":""},{"$f":"IF(RawData!I371<>\"\", RawData!I371,\"\")","v":""},{"$f":"IF(RawData!J371<>\"\", RawData!J371,\"\")","v":""},"","","","","",{"$f":"IF(L371<>\"\", IF(J371<>\"\",IF(L371=0,IF(J371=1, 1, 0),\"\")))","v":false},{"$f":"IF(K371<>\"\",IF(J371<>\"\",IF(K371=1,IF(J371=1, 1, 0),\"\")))","v":false},{"$f":"IF(M371<>\"\",IF(J371<>\"\",IF(M371=1,IF(J371=2, 1, 0),\"\")))","v":false},{"$f":"IF(N371<>\"\",IF(J371<>\"\",IF(N371=1,IF(J371=3, 1, 0),\"\")))","v":false},{"$f":"IF(O371<>\"\",IF(J371<>\"\",IF(O371=1,IF(J371=4, 1, 0),\"\")))","v":false},"",{"$f":"IF(J371<>\"\",IF(OR(P371=1,Q371=1,R371=1,S371=1, T371=1, U371=1),1,0),\"\")","v":""},{"$f":"IF(J371<>\"\",IF(AND(J371<>0,V371=0),1,0),\"\")","v":""}]
[{"$f":"IF(RawData!A372<>\"\", RawData!A372,\"\")","v":""},{"$f":"IF(RawData!B372<>\"\", RawData!B372,\"\")","v":""},{"$f":"IF(RawData!C372<>\"\", RawData!C372,\"\")","v":""},{"$f":"IF(RawData!D372<>\"\", RawData!D372,\"\")","v":""},{"$f":"IF(RawData!E372<>\"\", RawData!E372,\"\")","v":""},{"$f":"IF(RawData!F372<>\"\", RawData!F372,\"\")","v":""},{"$f":"IF(RawData!G372<>\"\", RawData!G372,\"\")","v":""},{"$f":"IF(RawData!H372<>\"\", RawData!H372,\"\")","v":""},{"$f":"IF(RawData!I372<>\"\", RawData!I372,\"\")","v":""},{"$f":"IF(RawData!J372<>\"\", RawData!J372,\"\")","v":""},"","","","","",false,false,false,false,false,"","",""]
[{"$f":"IF(RawData!A373<>\"\", RawData!A373,\"\")","v":""},{"$f":"IF(RawData!B373<>\"\", RawData!B373,\"\")","v":""},{"$f":"IF(RawData!C373<>\"\", RawData!C373,\"\")","v":""},{"$f":"IF(RawData!D373<>\"\", RawData!D373,\"\")","v":""},{"$f":"IF(RawData!E373<>\"\", RawData!E373,\"\")","v":""},{"$f":"IF(RawData!F373<>\"\", RawData!F373,\"\")","v":""},{"$f":"IF(RawData!G373<>\"\", RawData!G373,\"\")","v":""},{"$f":"IF(RawData!H373<>\"\", RawData!H373,\"\")","v":""},{"$f":"IF(RawData!I373<>\"\", RawData!I373,\"\")","v":""},{"$f":"IF(RawData!J373<>\"\", RawData!J373,\"\")","v":""},"","","","","",false,false,false,false,false,"","",""]
[{"$f":"IF(RawData!A374<>\"\", RawData!A374,\"\")","v":""},{"$f":"IF(RawData!B374<>\"\", RawData!B374,\"\")","v":""},{"$f":"IF(RawData!C374<>\"\", RawData!C374,\"\")","v":""},{"$f":"IF(RawData!D374<>\"\", RawData!D374,\"\")","v":""},{"$f":"IF(RawData!E374<>\"\", RawData!E374,\"\")","v":""},{"$f":"IF(RawData!F374<>\"\", RawData!F374,\"\")","v":""},{"$f":"IF(RawData!G374<>\"\", RawData!G374,\"\")","v":""},{"$f":"IF(RawData!H374<>\"\", RawData!H374,\"\")","v":""},{"$f":"IF(RawData!I374<>\"\", RawData!I374,\"\")","v":""},{"$f":"IF(RawData!J374<>\"\", RawData!J374,\"\")","v":""},"","","","","",false,false,false,false,false,"","",""]
[{"$f":"IF(RawData!A375<>\"\", RawData!A375,\"\")","v":""},{"$f":"IF(RawData!B375<>\"\", RawData!B375,\"\")","v":""},{"$f":"IF(RawData!C375<>\"\", RawData!C375,\"\")","v":""},{"$f":"IF(RawData!D375<>\"\", RawData!D375,\"\")","v":""},{"$f":"IF(RawData!E375<>\"\", RawData!E375,\"\")","v":""},{"$f":"IF(RawData!F375<>\"\", RawData!F375,\"\")","v":""},{"$f":"IF(RawData!G375<>\"\", RawData!G375,\"\")","v":""},{"$f":"IF(RawData!H375<>\"\", RawData!H375,\"\")","v":""},{"$f":"IF(RawData!I375<>\"\", RawData!I375,\"\")","v":""},{"$f":"IF(RawData!J375<>\"\", RawData!J375,\"\")","v":""},"","","","","",false,false,false,false,false,"","",""]
[{"$f":"IF(RawData!A376<>\"\", RawData!A376,\"\")","v":""},{"$f":"IF(RawData!B376<>\"\", RawData!B376,\"\")","v":""},{"$f":"IF(RawData!C376<>\"\", RawData!C376,\"\")","v":""},{"$f":"IF(RawData!D376<>\"\", RawData!D376,\"\")","v":""},{"$f":"IF(RawData!E376<>\"\", RawData!E376,\"\")","v":""},{"$f":"IF(RawData!F376<>\"\", RawData!F376,\"\")","v":""},{"$f":"IF(RawData!G376<>\"\", RawData!G376,\"\")","v":""},{"$f":"IF(RawData!H376<>\"\", RawData!H376,\"\")","v":""},{"$f":"IF(RawData!I376<>\"\", RawData!I376,\"\")","v":""},{"$f":"IF(RawData!J376<>\"\", RawData!J376,\"\")","v":""},"","","","","",false,false,false,false,false,"","",""]
[{"$f":"IF(RawData!A377<>\"\", RawData!A377,\"\")","v":""},{"$f":"IF(RawData!B377<>\"\", RawData!B377,\"\")","v":""},{"$f":"IF(RawData!C377<>\"\", RawData!C377,\"\")","v":""},{"$f":"IF(RawData!D377<>\"\", RawData!D377,\"\")","v":""},{"$f":"IF(RawData!E377<>\"\", RawData!E377,\"\")","v":""},{"$f":"IF(RawData!F377<>\"\", RawData!F377,\"\")","v":""},{"$f":"IF(RawData!G377<>\"\", RawData!G377,\"\")","v":""},{"$f":"IF(RawData!H377<>\"\", RawData!H377,\"\")","v":""},{"$f":"IF(RawData!I377<>\"\", RawData!I377,\"\")","v":""},{"$f":"IF(RawData!J377<>\"\", RawData!J377,\"\")","v":""},"","","","","",false,false,false,false,false,"","",""]
[{"$f":"IF(RawData!A378<>\"\", RawData!A378,\"\")","v":""},{"$f":"IF(RawData!B378<>\"\", RawData!B378,\"\")","v":""},{"$f":"IF(RawData!C378<>\"\", RawData!C378,\"\")","v":""},{"$f":"IF(RawData!D378<>\"\", RawData!D378,\"\")","v":""},{"$f":"IF(RawData!E378<>\"\", RawData!E378,\"\")","v":""},{"$f":"IF(RawData!F378<>\"\", RawData!F378,\"\")","v":""},{"$f":"IF(RawData!G378<>\"\", RawData!G378,\"\")","v":""},{"$f":"IF(RawData!H378<>\"\", RawData!H378,\"\")","v":""},{"$f":"IF(RawData!I378<>\"\", RawData!I378,\"\")","v":""},{"$f":"IF(RawData!J378<>\"\", RawData!J378,\"\")","v":""},"","","","","",false,false,false,false,false,"","",""]
[{"$f":"IF(RawData!A379<>\"\", RawData!A379,\"\")","v":""},{"$f":"IF(RawData!B379<>\"\", RawData!B379,\"\")","v":""},{"$f":"IF(RawData!C379<>\"\", RawData!C379,\"\")","v":""},{"$f":"IF(RawData!D379<>\"\", RawData!D379,\"\")","v":""},{"$f":"IF(RawData!E379<>\"\", RawData!E379,\"\")","v":""},{"$f":"IF(RawData!F379<>\"\", RawData!F379,\"\")","v":""},{"$f":"IF(RawData!G379<>\"\", RawData!G379,\"\")","v":""},{"$f":"IF(RawData!H379<>\"\", RawData!H379,\"\")","v":""},{"$f":"IF(RawData!I379<>\"\", RawData!I379,\"\")","v":""},{"$f":"IF(RawData!J379<>\"\", RawData!J379,\"\")","v":""},"","","","","",false,false,false,false,false,"","",""]
[{"$f":"IF(RawData!A380<>\"\", RawData!A380,\"\")","v":""},{"$f":"IF(RawData!B380<>\"\", RawData!B380,\"\")","v":""},{"$f":"IF(RawData!C380<>\"\", RawData!C380,\"\")","v":""},{"$f":"IF(RawData!D380<>\"\", RawData!D380,\"\")","v":""},{"$f":"IF(RawData!E380<>\"\", RawData!E380,\"\")","v":""},{"$f":"IF(RawData!F380<>\"\", RawData!F380,\"\")","v":""},{"$f":"IF(RawData!G380<>\"\", RawData!G380,\"\")","v":""},{"$f":"IF(RawData!H380<>\"\", RawData!H380,\"\")","v":""},{"$f":"IF(RawData!I380<>\"\", RawData!I380,\"\")","v":""},{"$f":"IF(RawData!J380<>\"\", RawData!J380,\"\")","v":""},"","","","","",false,false,false,false,false,"","",""]
[{"$f":"IF(RawData!A381<>\"\", RawData!A381,\"\")","v":""},{"$f":"IF(RawData!B381<>\"\", RawData!B381,\"\")","v":""},{"$f":"IF(RawData!C381<>\"\", RawData!C381,\"\")","v":""},{"$f":"IF(RawData!D381<>\"\", RawData!D381,\"\")","v":""},{"$f":"IF(RawData!E381<>\"\", RawData!E381,\"\")","v":""},{"$f":"IF(RawData!F381<>\"\", RawData!F381,\"\")","v":""},{"$f":"IF(RawData!G381<>\"\", RawData!G381,\"\")","v":""},{"$f":"IF(RawData!H381<>\"\", RawData!H381,\"\")","v":""},{"$f":"IF(RawData!I381<>\"\", RawData!I381,\"\")","v":""},{"$f":"IF(RawData!J381<>\"\", RawData!J381,\"\")","v":""},"","","","","",false,false,false,false,false,"","",""]
[{"$f":"IF(RawData!A382<>\"\", RawData!A382,\"\")","v":""},{"$f":"IF(RawData!B382<>\"\", RawData!B382,\"\")","v":""},{"$f":"IF(RawData!C382<>\"\", RawData!C382,\"\")","v":""},{"$f":"IF(RawData!D382<>\"\", RawData!D382,\"\")","v":""},{"$f":"IF(RawData!E382<>\"\", RawData!E382,\"\")","v":""},{"$f":"IF(RawData!F382<>\"\", RawData!F382,\"\")","v":""},{"$f":"IF(RawData!G382<>\"\", RawData!G382,\"\")","v":""},{"$f":"IF(RawData!H382<>\"\", RawData!H382,\"\")","v":""},{"$f":"IF(RawData!I382<>\"\", RawData!I382,\"\")","v":""},{"$f":"IF(RawData!J382<>\"\", RawData!J382,\"\")","v":""},"","","","","",false,false,false,false,false,"","",""]
[{"$f":"IF(RawData!A383<>\"\", RawData!A383,\"\")","v":""},{"$f":"IF(RawData!B383<>\"\", RawData!B383,\"\")","v":""},{"$f":"IF(RawData!C383<>\"\", RawData!C383,\"\")","v":""},{"$f":"IF(RawData!D383<>\"\", RawData!D383,\"\")","v":""},{"$f":"IF(RawData!E383<>\"\", RawData!E383,\"\")","v":""},{"$f":"IF(RawData!F383<>\"\", RawData!F383,\"\")","v":""},{"$f":"IF(RawData!G383<>\"\", RawData!G383,\"\")","v":""},{"$f":"IF(RawData!H383<>\"\", RawData!H383,\"\")","v":""},{"$f":"IF(RawData!I383<>\"\", RawData!I383,\"\")","v":""},{"$f":"IF(RawData!J383<>\"\", RawData!J383,\"\")","v":""},"","","","","",false,false,false,false,false,"","",""]
[{"$f":"IF(RawData!A384<>\"\", RawData!A384,\"\")","v":""},{"$f":"IF(RawData!B384<>\"\", RawData!B384,\"\")","v":""},{"$f":"IF(RawData!C384<>\"\", RawData!C384,\"\")","v":""},{"$f":"IF(RawData!D384<>\"\", RawData!D384,\"\")","v":""},{"$f":"IF(RawData!E384<>\"\", RawData!E384,\"\")","v":""},{"$f":"IF(RawData!F384<>\"\", RawData!F384,\"\")","v":""},{"$f":"IF(RawData!G384<>\"\", RawData!G384,\"\")","v":""},{"$f":"IF(RawData!H384<>\"\", RawData!H384,\"\")","v":""},{"$f":"IF(RawData!I384<>\"\", RawData!I384,\"\")","v":""},{"$f":"IF(RawData!J384<>\"\", RawData!J384,\"\")","v":""},"","","","","",false,false,false,false,false,"","",""]
[{"$f":"IF(RawData!A385<>\"\", RawData!A385,\"\")","v":""},{"$f":"IF(RawData!B385<>\"\", RawData!B385,\"\")","v":""},{"$f":"IF(RawData!C385<>\"\", RawData!C385,\"\")","v":""},{"$f":"IF(RawData!D385<>\"\", RawData!D385,\"\")","v":""},{"$f":"IF(RawData!E385<>\"\", RawData!E385,\"\")","v":""},{"$f":"IF(RawData!F385<>\"\", RawData!F385,\"\")","v":""},{"$f":"IF(RawData!G385<>\"\", RawData!G385,\"\")","v":""},{"$f":"IF(RawData!H385<>\"\", RawData!H385,\"\")","v":""},{"$f":"IF(RawData!I385<>\"\", RawData!I385,\"\")","v":""},{"$f":"IF(RawData!J385<>\"\", RawData!J385,\"\")","v":""},"","","","","",false,false,false,false,false,"","",""]
[{"$f":"IF(RawData!A386<>\"\", RawData!A386,\"\")","v":""},{"$f":"IF(RawData!B386<>\"\", RawData!B386,\"\")","v":""},{"$f":"IF(RawData!C386<>\"\", RawData!C386,\"\")","v":""},{"$f":"IF(RawData!D386<>\"\", RawData!D386,\"\")","v":""},{"$f":"IF(RawData!E386<>\"\", RawData!E386,\"\")","v":""},{"$f":"IF(RawData!F386<>\"\", RawData!F386,\"\")","v":""},{"$f":"IF(RawData!G386<>\"\", RawData!G386,\"\")","v":""},{"$f":"IF(RawData!H386<>\"\", RawData!H386,\"\")","v":""},{"$f":"IF(RawData!I386<>\"\", RawData!I386,\"\")","v":""},{"$f":"IF(RawData!J386<>\"\", RawData!J386,\"\")","v":""},"","","","","",false,false,false,false,false,"","",""]
[{"$f":"IF(RawData!A387<>\"\", RawData!A387,\"\")","v":""},{"$f":"IF(RawData!B387<>\"\", RawData!B387,\"\")","v":""},{"$f":"IF(RawData!C387<>\"\", RawData!C387,\"\")","v":""},{"$f":"IF(RawData!D387<>\"\", RawData!D387,\"\")","v":""},{"$f":"IF(RawData!E387<>\"\", RawData!E387,\"\")","v":""},{"$f":"IF(RawData!F387<>\"\", RawData!F387,\"\")","v":""},{"$f":"IF(RawData!G387<>\"\", RawData!G387,\"\")","v":""},{"$f":"IF(RawData!H387<>\"\", RawData!H387,\"\")","v":""},{"$f":"IF(RawData!I387<>\"\", RawData!I387,\"\")","v":""},{"$f":"IF(RawData!J387<>\"\", RawData!J387,\"\")","v":""},"","","","","",false,false,false,false,false,"","",""]
[{"$f":"IF(RawData!A388<>\"\", RawData!A388,\"\")","v":""},{"$f":"IF(RawData!B388<>\"\", RawData!B388,\"\")","v":""},{"$f":"IF(RawData!C388<>\"\", RawData!C388,\"\")","v":""},{"$f":"IF(RawData!D388<>\"\", RawData!D388,\"\")","v":""},{"$f":"IF(RawData!E388<>\"\", RawData!E388,\"\")","v":""},{"$f":"IF(RawData!F388<>\"\", RawData!F388,\"\")","v":""},{"$f":"IF(RawData!G388<>\"\", RawData!G388,\"\")","v":""},{"$f":"IF(RawData!H388<>\"\", RawData!H388,\"\")","v":""},{"$f":"IF(RawData!I388<>\"\", RawData!I388,\"\")","v":""},{"$f":"IF(RawData!J388<>\"\", RawData!J388,\"\")","v":""},"","","","","",false,false,false,false,false,"","",""]
[{"$f":"IF(RawData!A389<>\"\", RawData!A389,\"\")","v":""},{"$f":"IF(RawData!B389<>\"\", RawData!B389,\"\")","v":""},{"$f":"IF(RawData!C389<>\"\", RawData!C389,\"\")","v":""},{"$f":"IF(RawData!D389<>\"\", RawData!D389,\"\")","v":""},{"$f":"IF(RawData!E389<>\"\", RawData!E389,\"\")","v":""},{"$f":"IF(RawData!F389<>\"\", RawData!F389,\"\")","v":""},{"$f":"IF(RawData!G389<>\"\", RawData!G389,\"\")","v":""},{"$f":"IF(RawData!H389<>\"\", RawData!H389,\"\")","v":""},{"$f":"IF(RawData!I389<>\"\", RawData!I389,\"\")","v":""},{"$f":"IF(RawData!J389<>\"\", RawData!J389,\"\")","v":""},"","","","","",false,false,false,false,false,"","",""]
[{"$f":"IF(RawData!A390<>\"\", RawData!A390,\"\")","v":""},{"$f":"IF(RawData!B390<>\"\", RawData!B390,\"\")","v":""},{"$f":"IF(RawData!C390<>\"\", RawData!C390,\"\")","v":""},{"$f":"IF(RawData!D390<>\"\", RawData!D390,\"\")","v":""},{"$f":"IF(RawData!E390<>\"\", RawData!E390,\"\")","v":""},{"$f":"IF(RawData!F390<>\"\", RawData!F390,\"\")","v":""},{"$f":"IF(RawData!G390<>\"\", RawData!G390,\"\")","v":""},{"$f":"IF(RawData!H390<>\"\", RawData!H390,\"\")","v":""},{"$f":"IF(RawData!I390<>\"\", RawData!I390,\"\")","v":""},{"$f":"IF(RawData!J390<>\"\", RawData!J390,\"\")","v":""},"","","","","",false,false,false,false,false,"","",""]
[{"$f":"IF(RawData!A391<>\"\", RawData!A391,\"\")","v":""},{"$f":"IF(RawData!B391<>\"\", RawData!B391,\"\")","v":""},{"$f":"IF(RawData!C391<>\"\", RawData!C391,\"\")","v":""},{"$f":"IF(RawData!D391<>\"\", RawData!D391,\"\")","v":""},{"$f":"IF(RawData!E391<>\"\", RawData!E391,\"\")","v":""},{"$f":"IF(RawData!F391<>\"\", RawData!F391,\"\")","v":""},{"$f":"IF(RawData!G391<>\"\", RawData!G391,\"\")","v":""},{"$f":"IF(RawData!H391<>\"\", RawData!H391,\"\")","v":""},{"$f":"IF(RawData!I391<>\"\", RawData!I391,\"\")","v":""},{"$f":"IF(RawData!J391<>\"\", RawData!J391,\"\")","v":""},"","","",{"$f":"IF(G391<>\"\",IF(G391>=4, 1, 0),\"\")","v":""},"",false,false,false,false,false,"","",""]
[{"$f":"IF(RawData!A392<>\"\", RawData!A392,\"\")","v":""},{"$f":"IF(RawData!B392<>\"\", RawData!B392,\"\")","v":""},{"$f":"IF(RawData!C392<>\"\", RawData!C392,\"\")","v":""},{"$f":"IF(RawData!D392<>\"\", RawData!D392,\"\")","v":""},{"$f":"IF(RawData!E392<>\"\", RawData!E392,\"\")","v":""},{"$f":"IF(RawData!F392<>\"\", RawData!F392,\"\")","v":""},{"$f":"IF(RawData!G392<>\"\", RawData!G392,\"\")","v":""},{"$f":"IF(RawData!H392<>\"\", RawData!H392,\"\")","v":""},{"$f":"IF(RawData!I392<>\"\", RawData!I392,\"\")","v":""},{"$f":"IF(RawData!J392<>\"\", RawData!J392,\"\")","v":""},"","","","","",false,false,false,false,false,"","",""]
[{"$f":"IF(RawData!A393<>\"\", RawData!A393,\"\")","v":""},{"$f":"IF(RawData!B393<>\"\", RawData!B393,\"\")","v":""},{"$f":"IF(RawData!C393<>\"\", RawData!C393,\"\")","v":""},{"$f":"IF(RawData!D393<>\"\", RawData!D393,\"\")","v":""},{"$f":"IF(RawData!E393<>\"\", RawData!E393,\"\")","v":""},{"$f":"IF(RawData!F393<>\"\", RawData!F393,\"\")","v":""},{"$f":"IF(RawData!G393<>\"\", RawData!G393,\"\")","v":""},{"$f":"IF(RawData!H393<>\"\", RawData!H393,\"\")","v":""},{"$f":"IF(RawData!I393<>\"\", RawData!I393,\"\")","v":""},{"$f":"IF(RawData!J393<>\"\", RawData!J393,\"\")","v":""},"","","","","",false,false,false,false,false,"","",""]
[{"$f":"IF(RawData!A394<>\"\", RawData!A394,\"\")","v":""},{"$f":"IF(RawData!B394<>\"\", RawData!B394,\"\")","v":""},{"$f":"IF(RawData!C394<>\"\", RawData!C394,\"\")","v":""},{"$f":"IF(RawData!D394<>\"\", RawData!D394,\"\")","v":""},{"$f":"IF(RawData!E394<>\"\", RawData!E394,\"\")","v":""},{"$f":"IF(RawData!F394<>\"\", RawData!F394,\"\")","v":""},{"$f":"IF(RawData!G394<>\"\", RawData!G394,\"\")","v":""},{"$f":"IF(RawData!H394<>\"\", RawData!H394,\"\")","v":""},{"$f":"IF(RawData!I394<>\"\", RawData!I394,\"\")","v":""},{"$f":"IF(RawData!J394<>\"\", RawData!J394,\"\")","v":""},"","","","","",false,false,false,false,false,"","",""]
[{"$f":"IF(RawData!A395<>\"\", RawData!A395,\"\")","v":""},{"$f":"IF(RawData!B395<>\"\", RawData!B395,\"\")","v":""},{"$f":"IF(RawData!C395<>\"\", RawData!C395,\"\")","v":""},{"$f":"IF(RawData!D395<>\"\", RawData!D395,\"\")","v":""},{"$f":"IF(RawData!E395<>\"\", RawData!E395,\"\")","v":""},{"$f":"IF(RawData!F395<>\"\", RawData!F395,\"\")","v":""},{"$f":"IF(RawData!G395<>\"\", RawData!G395,\"\")","v":""},{"$f":"IF(RawData!H395<>\"\", RawData!H395,\"\")","v":""},{"$f":"IF(RawData!I395<>\"\", RawData!I395,\"\")","v":""},{"$f":"IF(RawData!J395<>\"\", RawData!J395,\"\")","v":""},"","","","","",false,false,false,false,false,"","",""]
[{"$f":"IF(RawData!A396<>\"\", RawData!A396,\"\")","v":""},{"$f":"IF(RawData!B396<>\"\", RawData!B396,\"\")","v":""},{"$f":"IF(RawData!C396<>\"\", RawData!C396,\"\")","v":""},{"$f":"IF(RawData!D396<>\"\", RawData!D396,\"\")","v":""},{"$f":"IF(RawData!E396<>\"\", RawData!E396,\"\")","v":""},{"$f":"IF(RawData!F396<>\"\", RawData!F396,\"\")","v":""},{"$f":"IF(RawData!G396<>\"\", RawData!G396,\"\")","v":""},{"$f":"IF(RawData!H396<>\"\", RawData!H396,\"\")","v":""},{"$f":"IF(RawData!I396<>\"\", RawData!I396,\"\")","v":""},{"$f":"IF(RawData!J396<>\"\", RawData!J396,\"\")","v":""},"","","","","",false,false,false,false,false,"","",""]
[{"$f":"IF(RawData!A397<>\"\", RawData!A397,\"\")","v":""},{"$f":"IF(RawData!B397<>\"\", RawData!B397,\"\")","v":""},{"$f":"IF(RawData!C397<>\"\", RawData!C397,\"\")","v":""},{"$f":"IF(RawData!D397<>\"\", RawData!D397,\"\")","v":""},{"$f":"IF(RawData!E397<>\"\", RawData!E397,\"\")","v":""},{"$f":"IF(RawData!F397<>\"\", RawData!F397,\"\")","v":""},{"$f":"IF(RawData!G397<>\"\", RawData!G397,\"\")","v":""},{"$f":"IF(RawData!H397<>\"\", RawData!H397,\"\")","v":""},{"$f":"IF(RawData!I397<>\"\", RawData!I397,\"\")","v":""},{"$f":"IF(RawData!J397<>\"\", RawData!J397,\"\")","v":""},"","","","","",false,false,false,false,false,"","",""]
[{"$f":"IF(RawData!A398<>\"\", RawData!A398,\"\")","v":""},{"$f":"IF(RawData!B398<>\"\", RawData!B398,\"\")","v":""},{"$f":"IF(RawData!C398<>\"\", RawData!C398,\"\")","v":""},{"$f":"IF(RawData!D398<>\"\", RawData!D398,\"\")","v":""},{"$f":"IF(RawData!E398<>\"\", RawData!E398,\"\")","v":""},{"$f":"IF(RawData!F398<>\"\", RawData!F398,\"\")","v":""},{"$f":"IF(RawData!G398<>\"\", RawData!G398,\"\")","v":""},{"$f":"IF(RawData!H398<>\"\", RawData!H398,\"\")","v":""},{"$f":"IF(RawData!I398<>\"\", RawData!I398,\"\")","v":""},{"$f":"IF(RawData!J398<>\"\", RawData!J398,\"\")","v":""},"","","","","",false,false,false,false,false,"","",""]
[{"$f":"IF(RawData!A399<>\"\", RawData!A399,\"\")","v":""},{"$f":"IF(RawData!B399<>\"\", RawData!B399,\"\")","v":""},{"$f":"IF(RawData!C399<>\"\", RawData!C399,\"\")","v":""},{"$f":"IF(RawData!D399<>\"\", RawData!D399,\"\")","v":""},{"$f":"IF(RawData!E399<>\"\", RawData!E399,\"\")","v":""},{"$f":"IF(RawData!F399<>\"\", RawData!F399,\"\")","v":""},{"$f":"IF(RawData!G399<>\"\", RawData!G399,\"\")","v":""},{"$f":"IF(RawData!H399<>\"\", RawData!H399,\"\")","v":""},{"$f":"IF(RawData!I399<>\"\", RawData!I399,\"\")","v":""},{"$f":"IF(RawData!J399<>\"\", RawData!J399,\"\")","v":""},"","","","","",false,false,false,false,false,"","",""]
[{"$f":"IF(RawData!A400<>\"\", RawData!A400,\"\")","v":""},{"$f":"IF(RawData!B400<>\"\", RawData!B400,\"\")","v":""},{"$f":"IF(RawData!C400<>\"\", RawData!C400,\"\")","v":""},{"$f":"IF(RawData!D400<>\"\", RawData!D400,\"\")","v":""},{"$f":"IF(RawData!E400<>\"\", RawData!E400,\"\")","v":""},{"$f":"IF(RawData!F400<>\"\", RawData!F400,\"\")","v":""},{"$f":"IF(RawData!G400<>\"\", RawData!G400,\"\")","v":""},{"$f":"IF(RawData!H400<>\"\", RawData!H400,\"\")","v":""},{"$f":"IF(RawData!I400<>\"\", RawData!I400,\"\")","v":""},{"$f":"IF(RawData!J400<>\"\", RawData!J400,\"\")","v":""},"","","","","",false,false,false,false,false,"","",""]
[{"$f":"IF(RawData!A401<>\"\", RawData!A401,\"\")","v":""},{"$f":"IF(RawData!B401<>\"\", RawData!B401,\"\")","v":""},{"$f":"IF(RawData!C401<>\"\", RawData!C401,\"\")","v":""},{"$f":"IF(RawData!D401<>\"\", RawData!D401,\"\")","v":""},{"$f":"IF(RawData!E401<>\"\", RawData!E401,\"\")","v":""},{"$f":"IF(RawData!F401<>\"\", RawData!F401,\"\")","v":""},{"$f":"IF(RawData!G401<>\"\", RawData!G401,\"\")","v":""},{"$f":"IF(RawData!H401<>\"\", RawData!H401,\"\")","v":""},{"$f":"IF(RawData!I401<>\"\", RawData!I401,\"\")","v":""},{"$f":"IF(RawData!J401<>\"\", RawData!J401,\"\")","v":""},"","","","","",false,false,false,false,false,"","",""]
[{"$f":"IF(RawData!A402<>\"\", RawData!A402,\"\")","v":""},{"$f":"IF(RawData!B402<>\"\", RawData!B402,\"\")","v":""},{"$f":"IF(RawData!C402<>\"\", RawData!C402,\"\")","v":""},{"$f":"IF(RawData!D402<>\"\", RawData!D402,\"\")","v":""},{"$f":"IF(RawData!E402<>\"\", RawData!E402,\"\")","v":""},{"$f":"IF(RawData!F402<>\"\", RawData!F402,\"\")","v":""},{"$f":"IF(RawData!G402<>\"\", RawData!G402,\"\")","v":""},{"$f":"IF(RawData!H402<>\"\", RawData!H402,\"\")","v":""},{"$f":"IF(RawData!I402<>\"\", RawData!I402,\"\")","v":""},{"$f":"IF(RawData!J402<>\"\", RawData!J402,\"\")","v":""},"","","","","",false,false,false,false,false,"","",""]
[{"$f":"IF(RawData!A403<>\"\", RawData!A403,\"\")","v":""},{"$f":"IF(RawData!B403<>\"\", RawData!B403,\"\")","v":""},{"$f":"IF(RawData!C403<>\"\", RawData!C403,\"\")","v":""},{"$f":"IF(RawData!D403<>\"\", RawData!D403,\"\")","v":""},{"$f":"IF(RawData!E403<>\"\", RawData!E403,\"\")","v":""},{"$f":"IF(RawData!F403<>\"\", RawData!F403,\"\")","v":""},{"$f":"IF(RawData!G403<>\"\", RawData!G403,\"\")","v":""},{"$f":"IF(RawData!H403<>\"\", RawData!H403,\"\")","v":""},{"$f":"IF(RawData!I403<>\"\", RawData!I403,\"\")","v":""},{"$f":"IF(RawData!J403<>\"\", RawData!J403,\"\")","v":""},"","","","","",false,false,false,false,false,"","",""]
[{"$f":"IF(RawData!A404<>\"\", RawData!A404,\"\")","v":""},{"$f":"IF(RawData!B404<>\"\", RawData!B404,\"\")","v":""},{"$f":"IF(RawData!C404<>\"\", RawData!C404,\"\")","v":""},{"$f":"IF(RawData!D404<>\"\", RawData!D404,\"\")","v":""},{"$f":"IF(RawData!E404<>\"\", RawData!E404,\"\")","v":""},{"$f":"IF(RawData!F404<>\"\", RawData!F404,\"\")","v":""},{"$f":"IF(RawData!G404<>\"\", RawData!G404,\"\")","v":""},{"$f":"IF(RawData!H404<>\"\", RawData!H404,\"\")","v":""},{"$f":"IF(RawData!I404<>\"\", RawData!I404,\"\")","v":""},{"$f":"IF(RawData!J404<>\"\", RawData!J404,\"\")","v":""},"","","","","",false,false,false,false,false,"","",""]
[{"$f":"IF(RawData!A405<>\"\", RawData!A405,\"\")","v":""},{"$f":"IF(RawData!B405<>\"\", RawData!B405,\"\")","v":""},{"$f":"IF(RawData!C405<>\"\", RawData!C405,\"\")","v":""},{"$f":"IF(RawData!D405<>\"\", RawData!D405,\"\")","v":""},{"$f":"IF(RawData!E405<>\"\", RawData!E405,\"\")","v":""},{"$f":"IF(RawData!F405<>\"\", RawData!F405,\"\")","v":""},{"$f":"IF(RawData!G405<>\"\", RawData!G405,\"\")","v":""},{"$f":"IF(RawData!H405<>\"\", RawData!H405,\"\")","v":""},{"$f":"IF(RawData!I405<>\"\", RawData!I405,\"\")","v":""},{"$f":"IF(RawData!J405<>\"\", RawData!J405,\"\")","v":""},"","","","","",false,false,false,false,false,"","",""]
[{"$f":"IF(RawData!A406<>\"\", RawData!A406,\"\")","v":""},{"$f":"IF(RawData!B406<>\"\", RawData!B406,\"\")","v":""},{"$f":"IF(RawData!C406<>\"\", RawData!C406,\"\")","v":""},{"$f":"IF(RawData!D406<>\"\", RawData!D406,\"\")","v":""},{"$f":"IF(RawData!E406<>\"\", RawData!E406,\"\")","v":""},{"$f":"IF(RawData!F406<>\"\", RawData!F406,\"\")","v":""},{"$f":"IF(RawData!G406<>\"\", RawData!G406,\"\")","v":""},{"$f":"IF(RawData!H406<>\"\", RawData!H406,\"\")","v":""},{"$f":"IF(RawData!I406<>\"\", RawData!I406,\"\")","v":""},{"$f":"IF(RawData!J406<>\"\", RawData!J406,\"\")","v":""},"","","","","",false,false,false,false,false,"","",""]
[{"$f":"IF(RawData!A407<>\"\", RawData!A407,\"\")","v":""},{"$f":"IF(RawData!B407<>\"\", RawData!B407,\"\")","v":""},{"$f":"IF(RawData!C407<>\"\", RawData!C407,\"\")","v":""},{"$f":"IF(RawData!D407<>\"\", RawData!D407,\"\")","v":""},{"$f":"IF(RawData!E407<>\"\", RawData!E407,\"\")","v":""},{"$f":"IF(RawData!F407<>\"\", RawData!F407,\"\")","v":""},{"$f":"IF(RawData!G407<>\"\", RawData!G407,\"\")","v":""},{"$f":"IF(RawData!H407<>\"\", RawData!H407,\"\")","v":""},{"$f":"IF(RawData!I407<>\"\", RawData!I407,\"\")","v":""},{"$f":"IF(RawData!J407<>\"\", RawData!J407,\"\")","v":""},"","","","","",false,false,false,false,false,"","",""]
[{"$f":"IF(RawData!A408<>\"\", RawData!A408,\"\")","v":""},{"$f":"IF(RawData!B408<>\"\", RawData!B408,\"\")","v":""},{"$f":"IF(RawData!C408<>\"\", RawData!C408,\"\")","v":""},{"$f":"IF(RawData!D408<>\"\", RawData!D408,\"\")","v":""},{"$f":"IF(RawData!E408<>\"\", RawData!E408,\"\")","v":""},{"$f":"IF(RawData!F408<>\"\", RawData!F408,\"\")","v":""},{"$f":"IF(RawData!G408<>\"\", RawData!G408,\"\")","v":""},{"$f":"IF(RawData!H408<>\"\", RawData!H408,\"\")","v":""},{"$f":"IF(RawData!I408<>\"\", RawData!I408,\"\")","v":""},{"$f":"IF(RawData!J408<>\"\", RawData!J408,\"\")","v":""},"","","","","",false,false,false,false,false,"","",""]
[{"$f":"IF(RawData!A409<>\"\", RawData!A409,\"\")","v":""},{"$f":"IF(RawData!B409<>\"\", RawData!B409,\"\")","v":""},{"$f":"IF(RawData!C409<>\"\", RawData!C409,\"\")","v":""},{"$f":"IF(RawData!D409<>\"\", RawData!D409,\"\")","v":""},{"$f":"IF(RawData!E409<>\"\", RawData!E409,\"\")","v":""},{"$f":"IF(RawData!F409<>\"\", RawData!F409,\"\")","v":""},{"$f":"IF(RawData!G409<>\"\", RawData!G409,\"\")","v":""},{"$f":"IF(RawData!H409<>\"\", RawData!H409,\"\")","v":""},{"$f":"IF(RawData!I409<>\"\", RawData!I409,\"\")","v":""},{"$f":"IF(RawData!J409<>\"\", RawData!J409,\"\")","v":""},"","","","","",false,false,false,false,false,"","",""]
[{"$f":"IF(RawData!A410<>\"\", RawData!A410,\"\")","v":""},{"$f":"IF(RawData!B410<>\"\", RawData!B410,\"\")","v":""},{"$f":"IF(RawData!C410<>\"\", RawData!C410,\"\")","v":""},{"$f":"IF(RawData!D410<>\"\", RawData!D410,\"\")","v":""},{"$f":"IF(RawData!E410<>\"\", RawData!E410,\"\")","v":""},{"$f":"IF(RawData!F410<>\"\", RawData!F410,\"\")","v":""},{"$f":"IF(RawData!G410<>\"\", RawData!G410,\"\")","v":""},{"$f":"IF(RawData!H410<>\"\", RawData!H410,\"\")","v":""},{"$f":"IF(RawData!I410<>\"\", RawData!I410,\"\")","v":""},{"$f":"IF(RawData!J410<>\"\", RawData!J410,\"\")","v":""},"","","","","",false,false,false,false,false,"","",""]
[{"$f":"IF(RawData!A411<>\"\", RawData!A411,\"\")","v":""},{"$f":"IF(RawData!B411<>\"\", RawData!B411,\"\")","v":""},{"$f":"IF(RawData!C411<>\"\", RawData!C411,\"\")","v":""},{"$f":"IF(RawData!D411<>\"\", RawData!D411,\"\")","v":""},{"$f":"IF(RawData!E411<>\"\", RawData!E411,\"\")","v":""},{"$f":"IF(RawData!F411<>\"\", RawData!F411,\"\")","v":""},{"$f":"IF(RawData!G411<>\"\", RawData!G411,\"\")","v":""},{"$f":"IF(RawData!H411<>\"\", RawData!H411,\"\")","v":""},{"$f":"IF(RawData!I411<>\"\", RawData!I411,\"\")","v":""},{"$f":"IF(RawData!J411<>\"\", RawData!J411,\"\")","v":""},"","","","","",false,false,false,false,false,"","",""]
[{"$f":"IF(RawData!A412<>\"\", RawData!A412,\"\")","v":""},{"$f":"IF(RawData!B412<>\"\", RawData!B412,\"\")","v":""},{"$f":"IF(RawData!C412<>\"\", RawData!C412,\"\")","v":""},{"$f":"IF(RawData!D412<>\"\", RawData!D412,\"\")","v":""},{"$f":"IF(RawData!E412<>\"\", RawData!E412,\"\")","v":""},{"$f":"IF(RawData!F412<>\"\", RawData!F412,\"\")","v":""},{"$f":"IF(RawData!G412<>\"\", RawData!G412,\"\")","v":""},{"$f":"IF(RawData!H412<>\"\", RawData!H412,\"\")","v":""},{"$f":"IF(RawData!I412<>\"\", RawData!I412,\"\")","v":""},{"$f":"IF(RawData!J412<>\"\", RawData!J412,\"\")","v":""},"","","","","",false,false,false,false,false,"","",""]
[{"$f":"IF(RawData!A413<>\"\", RawData!A413,\"\")","v":""},{"$f":"IF(RawData!B413<>\"\", RawData!B413,\"\")","v":""},{"$f":"IF(RawData!C413<>\"\", RawData!C413,\"\")","v":""},{"$f":"IF(RawData!D413<>\"\", RawData!D413,\"\")","v":""},{"$f":"IF(RawData!E413<>\"\", RawData!E413,\"\")","v":""},{"$f":"IF(RawData!F413<>\"\", RawData!F413,\"\")","v":""},{"$f":"IF(RawData!G413<>\"\", RawData!G413,\"\")","v":""},{"$f":"IF(RawData!H413<>\"\", RawData!H413,\"\")","v":""},{"$f":"IF(RawData!I413<>\"\", RawData!I413,\"\")","v":""},{"$f":"IF(RawData!J413<>\"\", RawData!J413,\"\")","v":""},"","","","","",false,false,false,false,false,"","",""]
[{"$f":"IF(RawData!A414<>\"\", RawData!A414,\"\")","v":""},{"$f":"IF(RawData!B414<>\"\", RawData!B414,\"\")","v":""},{"$f":"IF(RawData!C414<>\"\", RawData!C414,\"\")","v":""},{"$f":"IF(RawData!D414<>\"\", RawData!D414,\"\")","v":""},{"$f":"IF(RawData!E414<>\"\", RawData!E414,\"\")","v":""},{"$f":"IF(RawData!F414<>\"\", RawData!F414,\"\")","v":""},{"$f":"IF(RawData!G414<>\"\", RawData!G414,\"\")","v":""},{"$f":"IF(RawData!H414<>\"\", RawData!H414,\"\")","v":""},{"$f":"IF(RawData!I414<>\"\", RawData!I414,\"\")","v":""},{"$f":"IF(RawData!J414<>\"\", RawData!J414,\"\")","v":""},"","","","","",false,false,false,false,false,"","",""]
[{"$f":"IF(RawData!A415<>\"\", RawData!A415,\"\")","v":""},{"$f":"IF(RawData!B415<>\"\", RawData!B415,\"\")","v":""},{"$f":"IF(RawData!C415<>\"\", RawData!C415,\"\")","v":""},{"$f":"IF(RawData!D415<>\"\", RawData!D415,\"\")","v":""},{"$f":"IF(RawData!E415<>\"\", RawData!E415,\"\")","v":""},{"$f":"IF(RawData!F415<>\"\", RawData!F415,\"\")","v":""},{"$f":"IF(RawData!G415<>\"\", RawData!G415,\"\")","v":""},{"$f":"IF(RawData!H415<>\"\", RawData!H415,\"\")","v":""},{"$f":"IF(RawData!I415<>\"\", RawData!I415,\"\")","v":""},{"$f":"IF(RawData!J415<>\"\", RawData!J415,\"\")","v":""},"","","","","",false,false,false,false,false,"","",""]
[{"$f":"IF(RawData!A416<>\"\", RawData!A416,\"\")","v":""},{"$f":"IF(RawData!B416<>\"\", RawData!B416,\"\")","v":""},{"$f":"IF(RawData!C416<>\"\", RawData!C416,\"\")","v":""},{"$f":"IF(RawData!D416<>\"\", RawData!D416,\"\")","v":""},{"$f":"IF(RawData!E416<>\"\", RawData!E416,\"\")","v":""},{"$f":"IF(RawData!F416<>\"\", RawData!F416,\"\")","v":""},{"$f":"IF(RawData!G416<>\"\", RawData!G416,\"\")","v":""},{"$f":"IF(RawData!H416<>\"\", RawData!H416,\"\")","v":""},{"$f":"IF(RawData!I416<>\"\", RawData!I416,\"\")","v":""},{"$f":"IF(RawData!J416<>\"\", RawData!J416,\"\")","v":""},"","","","","",false,false,false,false,false,"","",""]
[{"$f":"IF(RawData!A417<>\"\", RawData!A417,\"\")","v":""},{"$f":"IF(RawData!B417<>\"\", RawData!B417,\"\")","v":""},{"$f":"IF(RawData!C417<>\"\", RawData!C417,\"\")","v":""},{"$f":"IF(RawData!D417<>\"\", RawData!D417,\"\")","v":""},{"$f":"IF(RawData!E417<>\"\", RawData!E417,\"\")","v":""},{"$f":"IF(RawData!F417<>\"\", RawData!F417,\"\")","v":""},{"$f":"IF(RawData!G417<>\"\", RawData!G417,\"\")","v":""},{"$f":"IF(RawData!H417<>\"\", RawData!H417,\"\")","v":""},{"$f":"IF(RawData!I417<>\"\", RawData!I417,\"\")","v":""},{"$f":"IF(RawData!J417<>\"\", RawData!J417,\"\")","v":""},"","","","","",false,false,false,false,false,"","",""]
[{"$f":"IF(RawData!A418<>\"\", RawData!A418,\"\")","v":""},{"$f":"IF(RawData!B418<>\"\", RawData!B418,\"\")","v":""},{"$f":"IF(RawData!C418<>\"\", RawData!C418,\"\")","v":""},{"$f":"IF(RawData!D418<>\"\", RawData!D418,\"\")","v":""},{"$f":"IF(RawData!E418<>\"\", RawData!E418,\"\")","v":""},{"$f":"IF(RawData!F418<>\"\", RawData!F418,\"\")","v":""},{"$f":"IF(RawData!G418<>\"\", RawData!G418,\"\")","v":""},{"$f":"IF(RawData!H418<>\"\", RawData!H418,\"\")","v":""},{"$f":"IF(RawData!I418<>\"\", RawData!I418,\"\")","v":""},{"$f":"IF(RawData!J418<>\"\", RawData!J418,\"\")","v":""},"","","","","",false,false,false,false,false,"","",""]
[{"$f":"IF(RawData!A419<>\"\", RawData!A419,\"\")","v":""},{"$f":"IF(RawData!B419<>\"\", RawData!B419,\"\")","v":""},{"$f":"IF(RawData!C419<>\"\", RawData!C419,\"\")","v":""},{"$f":"IF(RawData!D419<>\"\", RawData!D419,\"\")","v":""},{"$f":"IF(RawData!E419<>\"\", RawData!E419,\"\")","v":""},{"$f":"IF(RawData!F419<>\"\", RawData!F419,\"\")","v":""},{"$f":"IF(RawData!G419<>\"\", RawData!G419,\"\")","v":""},{"$f":"IF(RawData!H419<>\"\", RawData!H419,\"\")","v":""},{"$f":"IF(RawData!I419<>\"\", RawData!I419,\"\")","v":""},{"$f":"IF(RawData!J419<>\"\", RawData!J419,\"\")","v":""},"","","","","",false,false,false,false,false,"","",""]
[{"$f":"IF(RawData!A420<>\"\", RawData!A420,\"\")","v":""},{"$f":"IF(RawData!B420<>\"\", RawData!B420,\"\")","v":""},{"$f":"IF(RawData!C420<>\"\", RawData!C420,\"\")","v":""},{"$f":"IF(RawData!D420<>\"\", RawData!D420,\"\")","v":""},{"$f":"IF(RawData!E420<>\"\", RawData!E420,\"\")","v":""},{"$f":"IF(RawData!F420<>\"\", RawData!F420,\"\")","v":""},{"$f":"IF(RawData!G420<>\"\", RawData!G420,\"\")","v":""},{"$f":"IF(RawData!H420<>\"\", RawData!H420,\"\")","v":""},{"$f":"IF(RawData!I420<>\"\", RawData!I420,\"\")","v":""},{"$f":"IF(RawData!J420<>\"\", RawData!J420,\"\")","v":""},"","","","","",false,false,false,false,false,"","",""]
[{"$f":"IF(RawData!A421<>\"\", RawData!A421,\"\")","v":""},{"$f":"IF(RawData!B421<>\"\", RawData!B421,\"\")","v":""},{"$f":"IF(RawData!C421<>\"\", RawData!C421,\"\")","v":""},{"$f":"IF(RawData!D421<>\"\", RawData!D421,\"\")","v":""},{"$f":"IF(RawData!E421<>\"\", RawData!E421,\"\")","v":""},{"$f":"IF(RawData!F421<>\"\", RawData!F421,\"\")","v":""},{"$f":"IF(RawData!G421<>\"\", RawData!G421,\"\")","v":""},{"$f":"IF(RawData!H421<>\"\", RawData!H421,\"\")","v":""},{"$f":"IF(RawData!I421<>\"\", RawData!I421,\"\")","v":""},{"$f":"IF(RawData!J421<>\"\", RawData!J421,\"\")","v":""},"","","","","",false,false,false,false,false,"","",""]
[{"$f":"IF(RawData!A422<>\"\", RawData!A422,\"\")","v":""},{"$f":"IF(RawData!B422<>\"\", RawData!B422,\"\")","v":""},{"$f":"IF(RawData!C422<>\"\", RawData!C422,\"\")","v":""},{"$f":"IF(RawData!D422<>\"\", RawData!D422,\"\")","v":""},{"$f":"IF(RawData!E422<>\"\", RawData!E422,\"\")","v":""},{"$f":"IF(RawData!F422<>\"\", RawData!F422,\"\")","v":""},{"$f":"IF(RawData!G422<>\"\", RawData!G422,\"\")","v":""},{"$f":"IF(RawData!H422<>\"\", RawData!H422,\"\")","v":""},{"$f":"IF(RawData!I422<>\"\", RawData!I422,\"\")","v":""},{"$f":"IF(RawData!J422<>\"\", RawData!J422,\"\")","v":""},"","","","","",false,false,false,false,false,"","",""]
[{"$f":"IF(RawData!A423<>\"\", RawData!A423,\"\")","v":""},{"$f":"IF(RawData!B423<>\"\", RawData!B423,\"\")","v":""},{"$f":"IF(RawData!C423<>\"\", RawData!C423,\"\")","v":""},{"$f":"IF(RawData!D423<>\"\", RawData!D423,\"\")","v":""},{"$f":"IF(RawData!E423<>\"\", RawData!E423,\"\")","v":""},{"$f":"IF(RawData!F423<>\"\", RawData!F423,\"\")","v":""},{"$f":"IF(RawData!G423<>\"\", RawData!G423,\"\")","v":""},{"$f":"IF(RawData!H423<>\"\", RawData!H423,\"\")","v":""},{"$f":"IF(RawData!I423<>\"\", RawData!I423,\"\")","v":""},{"$f":"IF(RawData!J423<>\"\", RawData!J423,\"\")","v":""},"","","","","",false,false,false,false,false,"","",""]
[{"$f":"IF(RawData!A424<>\"\", RawData!A424,\"\")","v":""},{"$f":"IF(RawData!B424<>\"\", RawData!B424,\"\")","v":""},{"$f":"IF(RawData!C424<>\"\", RawData!C424,\"\")","v":""},{"$f":"IF(RawData!D424<>\"\", RawData!D424,\"\")","v":""},{"$f":"IF(RawData!E424<>\"\", RawData!E424,\"\")","v":""},{"$f":"IF(RawData!F424<>\"\", RawData!F424,\"\")","v":""},{"$f":"IF(RawData!G424<>\"\", RawData!G424,\"\")","v":""},{"$f":"IF(RawData!H424<>\"\", RawData!H424,\"\")","v":""},{"$f":"IF(RawData!I424<>\"\", RawData!I424,\"\")","v":""},{"$f":"IF(RawData!J424<>\"\", RawData!J424,\"\")","v":""},"","","","","",false,false,false,false,false,"","",""]
[{"$f":"IF(RawData!A425<>\"\", RawData!A425,\"\")","v":""},{"$f":"IF(RawData!B425<>\"\", RawData!B425,\"\")","v":""},{"$f":"IF(RawData!C425<>\"\", RawData!C425,\"\")","v":""},{"$f":"IF(RawData!D425<>\"\", RawData!D425,\"\")","v":""},{"$f":"IF(RawData!E425<>\"\", RawData!E425,\"\")","v":""},{"$f":"IF(RawData!F425<>\"\", RawData!F425,\"\")","v":""},{"$f":"IF(RawData!G425<>\"\", RawData!G425,\"\")","v":""},{"$f":"IF(RawData!H425<>\"\", RawData!H425,\"\")","v":""},{"$f":"IF(RawData!I425<>\"\", RawData!I425,\"\")","v":""},{"$f":"IF(RawData!J425<>\"\", RawData!J425,\"\")","v":""},"","","","","",false,false,false,false,false,"","",""]
[{"$f":"IF(RawData!A426<>\"\", RawData!A426,\"\")","v":""},{"$f":"IF(RawData!B426<>\"\", RawData!B426,\"\")","v":""},{"$f":"IF(RawData!C426<>\"\", RawData!C426,\"\")","v":""},{"$f":"IF(RawData!D426<>\"\", RawData!D426,\"\")","v":""},{"$f":"IF(RawData!E426<>\"\", RawData!E426,\"\")","v":""},{"$f":"IF(RawData!F426<>\"\", RawData!F426,\"\")","v":""},{"$f":"IF(RawData!G426<>\"\", RawData!G426,\"\")","v":""},{"$f":"IF(RawData!H426<>\"\", RawData!H426,\"\")","v":""},{"$f":"IF(RawData!I426<>\"\", RawData!I426,\"\")","v":""},{"$f":"IF(RawData!J426<>\"\", RawData!J426,\"\")","v":""},"","","","","",false,false,false,false,false,"","",""]
[{"$f":"IF(RawData!A427<>\"\", RawData!A427,\"\")","v":""},{"$f":"IF(RawData!B427<>\"\", RawData!B427,\"\")","v":""},{"$f":"IF(RawData!C427<>\"\", RawData!C427,\"\")","v":""},{"$f":"IF(RawData!D427<>\"\", RawData!D427,\"\")","v":""},{"$f":"IF(RawData!E427<>\"\", RawData!E427,\"\")","v":""},{"$f":"IF(RawData!F427<>\"\", RawData!F427,\"\")","v":""},{"$f":"IF(RawData!G427<>\"\", RawData!G427,\"\")","v":""},{"$f":"IF(RawData!H427<>\"\", RawData!H427,\"\")","v":""},{"$f":"IF(RawData!I427<>\"\", RawData!I427,\"\")","v":""},{"$f":"IF(RawData!J427<>\"\", RawData!J427,\"\")","v":""},"","","","","",false,false,false,false,false,"","",""]
[{"$f":"IF(RawData!A428<>\"\", RawData!A428,\"\")","v":""},{"$f":"IF(RawData!B428<>\"\", RawData!B428,\"\")","v":""},{"$f":"IF(RawData!C428<>\"\", RawData!C428,\"\")","v":""},{"$f":"IF(RawData!D428<>\"\", RawData!D428,\"\")","v":""},{"$f":"IF(RawData!E428<>\"\", RawData!E428,\"\")","v":""},{"$f":"IF(RawData!F428<>\"\", RawData!F428,\"\")","v":""},{"$f":"IF(RawData!G428<>\"\", RawData!G428,\"\")","v":""},{"$f":"IF(RawData!H428<>\"\", RawData!H428,\"\")","v":""},{"$f":"IF(RawData!I428<>\"\", RawData!I428,\"\")","v":""},{"$f":"IF(RawData!J428<>\"\", RawData!J428,\"\")","v":""},"","","","","",false,false,false,false,false,"","",""]
[{"$f":"IF(RawData!A429<>\"\", RawData!A429,\"\")","v":""},{"$f":"IF(RawData!B429<>\"\", RawData!B429,\"\")","v":""},{"$f":"IF(RawData!C429<>\"\", RawData!C429,\"\")","v":""},{"$f":"IF(RawData!D429<>\"\", RawData!D429,\"\")","v":""},{"$f":"IF(RawData!E429<>\"\", RawData!E429,\"\")","v":""},{"$f":"IF(RawData!F429<>\"\", RawData!F429,\"\")","v":""},{"$f":"IF(RawData!G429<>\"\", RawData!G429,\"\")","v":""},{"$f":"IF(RawData!H429<>\"\", RawData!H429,\"\")","v":""},{"$f":"IF(RawData!I429<>\"\", RawData!I429,\"\")","v":""},{"$f":"IF(RawData!J429<>\"\", RawData!J429,\"\")","v":""},"","","","","",false,false,false,false,false,"","",""]
[{"$f":"IF(RawData!A430<>\"\", RawData!A430,\"\")","v":""},{"$f":"IF(RawData!B430<>\"\", RawData!B430,\"\")","v":""},{"$f":"IF(RawData!C430<>\"\", RawData!C430,\"\")","v":""},{"$f":"IF(RawData!D430<>\"\", RawData!D430,\"\")","v":""},{"$f":"IF(RawData!E430<>\"\", RawData!E430,\"\")","v":""},{"$f":"IF(RawData!F430<>\"\", RawData!F430,\"\")","v":""},{"$f":"IF(RawData!G430<>\"\", RawData!G430,\"\")","v":""},{"$f":"IF(RawData!H430<>\"\", RawData!H430,\"\")","v":""},{"$f":"IF(RawData!I430<>\"\", RawData!I430,\"\")","v":""},{"$f":"IF(RawData!J430<>\"\", RawData!J430,\"\")","v":""},"","","","","",false,false,false,false,false,"","",""]
[{"$f":"IF(RawData!A431<>\"\", RawData!A431,\"\")","v":""},{"$f":"IF(RawData!B431<>\"\", RawData!B431,\"\")","v":""},{"$f":"IF(RawData!C431<>\"\", RawData!C431,\"\")","v":""},{"$f":"IF(RawData!D431<>\"\", RawData!D431,\"\")","v":""},{"$f":"IF(RawData!E431<>\"\", RawData!E431,\"\")","v":""},{"$f":"IF(RawData!F431<>\"\", RawData!F431,\"\")","v":""},{"$f":"IF(RawData!G431<>\"\", RawData!G431,\"\")","v":""},{"$f":"IF(RawData!H431<>\"\", RawData!H431,\"\")","v":""},{"$f":"IF(RawData!I431<>\"\", RawData!I431,\"\")","v":""},{"$f":"IF(RawData!J431<>\"\", RawData!J431,\"\")","v":""},"","","","","",false,false,false,false,false,"","",""]
[{"$f":"IF(RawData!A432<>\"\", RawData!A432,\"\")","v":""},{"$f":"IF(RawData!B432<>\"\", RawData!B432,\"\")","v":""},{"$f":"IF(RawData!C432<>\"\", RawData!C432,\"\")","v":""},{"$f":"IF(RawData!D432<>\"\", RawData!D432,\"\")","v":""},{"$f":"IF(RawData!E432<>\"\", RawData!E432,\"\")","v":""},{"$f":"IF(RawData!F432<>\"\", RawData!F432,\"\")","v":""},{"$f":"IF(RawData!G432<>\"\", RawData!G432,\"\")","v":""},{"$f":"IF(RawData!H432<>\"\", RawData!H432,\"\")","v":""},{"$f":"IF(RawData!I432<>\"\", RawData!I432,\"\")","v":""},{"$f":"IF(RawData!J432<>\"\", RawData!J432,\"\")","v":""},"","","","","",false,false,false,false,false,"","",""]
[{"$f":"IF(RawData!A433<>\"\", RawData!A433,\"\")","v":""},{"$f":"IF(RawData!B433<>\"\", RawData!B433,\"\")","v":""},{"$f":"IF(RawData!C433<>\"\", RawData!C433,\"\")","v":""},{"$f":"IF(RawData!D433<>\"\", RawData!D433,\"\")","v":""},{"$f":"IF(RawData!E433<>\"\", RawData!E433,\"\")","v":""},{"$f":"IF(RawData!F433<>\"\", RawData!F433,\"\")","v":""},{"$f":"IF(RawData!G433<>\"\", RawData!G433,\"\")","v":""},{"$f":"IF(RawData!H433<>\"\", RawData!H433,\"\")","v":""},{"$f":"IF(RawData!I433<>\"\", RawData!I433,\"\")","v":""},{"$f":"IF(RawData!J433<>\"\", RawData!J433,\"\")","v":""},"","","","","",false,false,false,false,false,"","",""]
[{"$f":"IF(RawData!A434<>\"\", RawData!A434,\"\")","v":""},{"$f":"IF(RawData!B434<>\"\", RawData!B434,\"\")","v":""},{"$f":"IF(RawData!C434<>\"\", RawData!C434,\"\")","v":""},{"$f":"IF(RawData!D434<>\"\", RawData!D434,\"\")","v":""},{"$f":"IF(RawData!E434<>\"\", RawData!E434,\"\")","v":""},{"$f":"IF(RawData!F434<>\"\", RawData!F434,\"\")","v":""},{"$f":"IF(RawData!G434<>\"\", RawData!G434,\"\")","v":""},{"$f":"IF(RawData!H434<>\"\", RawData!H434,\"\")","v":""},{"$f":"IF(RawData!I434<>\"\", RawData!I434,\"\")","v":""},{"$f":"IF(RawData!J434<>\"\", RawData!J434,\"\")","v":""},{"$f":"IF(G434<>\"\",IF(G434<3, 1, 0),\"\")","v":""},{"$f":"IF(G434<>\"\",IF(G434>=1, 1, 0),\"\")","v":""},{"$f":"IF(G434<>\"\",IF(AND(G434>=1,G434<=7), 1, 0),\"\")","v":""},"",{"$f":"IF(G434<>\"\",IF(G434>=8, 1, 0),\"\")","v":""},false,false,false,false,false,{"$f":"IF(H434<>\"\",IF(H434=1,IF(J434=4, 1, 0),\"\"),\"\")","v":""},"",""]
[{"$f":"IF(RawData!A435<>\"\", RawData!A435,\"\")","v":""},{"$f":"IF(RawData!B435<>\"\", RawData!B435,\"\")","v":""},{"$f":"IF(RawData!C435<>\"\", RawData!C435,\"\")","v":""},{"$f":"IF(RawData!D435<>\"\", RawData!D435,\"\")","v":""},{"$f":"IF(RawData!E435<>\"\", RawData!E435,\"\")","v":""},{"$f":"IF(RawData!F435<>\"\", RawData!F435,\"\")","v":""},{"$f":"IF(RawData!G435<>\"\", RawData!G435,\"\")","v":""},{"$f":"IF(RawData!H435<>\"\", RawData!H435,\"\")","v":""},{"$f":"IF(RawData!I435<>\"\", RawData!I435,\"\")","v":""},{"$f":"IF(RawData!J435<>\"\", RawData!J435,\"\")","v":""},"","","","","",{"$f":"IF(L435<>\"\", IF(J435<>\"\",IF(L435=0,IF(J435=1, 1, 0),\"\")))","v":false},{"$f":"IF(K435<>\"\",IF(J435<>\"\",IF(K435=1,IF(J435=1, 1, 0),\"\")))","v":false},{"$f":"IF(M435<>\"\",IF(J435<>\"\",IF(M435=1,IF(J435=2, 1, 0),\"\")))","v":false},{"$f":"IF(N435<>\"\",IF(J435<>\"\",IF(N435=1,IF(J435=3, 1, 0),\"\")))","v":false},{"$f":"IF(O435<>\"\",IF(J435<>\"\",IF(O435=1,IF(J435=4, 1, 0),\"\")))","v":false},"",{"$f":"IF(J435<>\"\",IF(OR(P435=1,Q435=1,R435=1,S435=1, T435=1, U435=1),1,0),\"\")","v":""},{"$f":"IF(J435<>\"\",IF(AND(J435<>0,V435=0),1,0),\"\")","v":""}]
[{"$f":"IF(RawData!A436<>\"\", RawData!A436,\"\")","v":""},{"$f":"IF(RawData!B436<>\"\", RawData!B436,\"\")","v":""},{"$f":"IF(RawData!C436<>\"\", RawData!C436,\"\")","v":""},{"$f":"IF(RawData!D436<>\"\", RawData!D436,\"\")","v":""},{"$f":"IF(RawData!E436<>\"\", RawData!E436,\"\")","v":""},{"$f":"IF(RawData!F436<>\"\", RawData!F436,\"\")","v":""},{"$f":"IF(RawData!G436<>\"\", RawData!G436,\"\")","v":""},{"$f":"IF(RawData!H436<>\"\", RawData!H436,\"\")","v":""},{"$f":"IF(RawData!I436<>\"\", RawData!I436,\"\")","v":""},{"$f":"IF(RawData!J436<>\"\", RawData!J436,\"\")","v":""},"","","","","",false,false,false,false,false,"","",""]
[{"$f":"IF(RawData!A437<>\"\", RawData!A437,\"\")","v":""},{"$f":"IF(RawData!B437<>\"\", RawData!B437,\"\")","v":""},{"$f":"IF(RawData!C437<>\"\", RawData!C437,\"\")","v":""},{"$f":"IF(RawData!D437<>\"\", RawData!D437,\"\")","v":""},{"$f":"IF(RawData!E437<>\"\", RawData!E437,\"\")","v":""},{"$f":"IF(RawData!F437<>\"\", RawData!F437,\"\")","v":""},{"$f":"IF(RawData!G437<>\"\", RawData!G437,\"\")","v":""},{"$f":"IF(RawData!H437<>\"\", RawData!H437,\"\")","v":""},{"$f":"IF(RawData!I437<>\"\", RawData!I437,\"\")","v":""},{"$f":"IF(RawData!J437<>\"\", RawData!J437,\"\")","v":""},"","","","","",false,false,false,false,false,"","",""]
[{"$f":"IF(RawData!A438<>\"\", RawData!A438,\"\")","v":""},{"$f":"IF(RawData!B438<>\"\", RawData!B438,\"\")","v":""},{"$f":"IF(RawData!C438<>\"\", RawData!C438,\"\")","v":""},{"$f":"IF(RawData!D438<>\"\", RawData!D438,\"\")","v":""},{"$f":"IF(RawData!E438<>\"\", RawData!E438,\"\")","v":""},{"$f":"IF(RawData!F438<>\"\", RawData!F438,\"\")","v":""},{"$f":"IF(RawData!G438<>\"\", RawData!G438,\"\")","v":""},{"$f":"IF(RawData!H438<>\"\", RawData!H438,\"\")","v":""},{"$f":"IF(RawData!I438<>\"\", RawData!I438,\"\")","v":""},{"$f":"IF(RawData!J438<>\"\", RawData!J438,\"\")","v":""},"","","","","",false,false,false,false,false,"","",""]
[{"$f":"IF(RawData!A439<>\"\", RawData!A439,\"\")","v":""},{"$f":"IF(RawData!B439<>\"\", RawData!B439,\"\")","v":""},{"$f":"IF(RawData!C439<>\"\", RawData!C439,\"\")","v":""},{"$f":"IF(RawData!D439<>\"\", RawData!D439,\"\")","v":""},{"$f":"IF(RawData!E439<>\"\", RawData!E439,\"\")","v":""},{"$f":"IF(RawData!F439<>\"\", RawData!F439,\"\")","v":""},{"$f":"IF(RawData!G439<>\"\", RawData!G439,\"\")","v":""},{"$f":"IF(RawData!H439<>\"\", RawData!H439,\"\")","v":""},{"$f":"IF(RawData!I439<>\"\", RawData!I439,\"\")","v":""},{"$f":"IF(RawData!J439<>\"\", RawData!J439,\"\")","v":""},"","","","","",false,false,false,false,false,"","",""]
[{"$f":"IF(RawData!A440<>\"\", RawData!A440,\"\")","v":""},{"$f":"IF(RawData!B440<>\"\", RawData!B440,\"\")","v":""},{"$f":"IF(RawData!C440<>\"\", RawData!C440,\"\")","v":""},{"$f":"IF(RawData!D440<>\"\", RawData!D440,\"\")","v":""},{"$f":"IF(RawData!E440<>\"\", RawData!E440,\"\")","v":""},{"$f":"IF(RawData!F440<>\"\", RawData!F440,\"\")","v":""},{"$f":"IF(RawData!G440<>\"\", RawData!G440,\"\")","v":""},{"$f":"IF(RawData!H440<>\"\", RawData!H440,\"\")","v":""},{"$f":"IF(RawData!I440<>\"\", RawData!I440,\"\")","v":""},{"$f":"IF(RawData!J440<>\"\", RawData!J440,\"\")","v":""},"","","","","",false,false,false,false,false,"","",""]
[{"$f":"IF(RawData!A441<>\"\", RawData!A441,\"\")","v":""},{"$f":"IF(RawData!B441<>\"\", RawData!B441,\"\")","v":""},{"$f":"IF(RawData!C441<>\"\", RawData!C441,\"\")","v":""},{"$f":"IF(RawData!D441<>\"\", RawData!D441,\"\")","v":""},{"$f":"IF(RawData!E441<>\"\", RawData!E441,\"\")","v":""},{"$f":"IF(RawData!F441<>\"\", RawData!F441,\"\")","v":""},{"$f":"IF(RawData!G441<>\"\", RawData!G441,\"\")","v":""},{"$f":"IF(RawData!H441<>\"\", RawData!H441,\"\")","v":""},{"$f":"IF(RawData!I441<>\"\", RawData!I441,\"\")","v":""},{"$f":"IF(RawData!J441<>\"\", RawData!J441,\"\")","v":""},"","","","","",false,false,false,false,false,"","",""]
[{"$f":"IF(RawData!A442<>\"\", RawData!A442,\"\")","v":""},{"$f":"IF(RawData!B442<>\"\", RawData!B442,\"\")","v":""},{"$f":"IF(RawData!C442<>\"\", RawData!C442,\"\")","v":""},{"$f":"IF(RawData!D442<>\"\", RawData!D442,\"\")","v":""},{"$f":"IF(RawData!E442<>\"\", RawData!E442,\"\")","v":""},{"$f":"IF(RawData!F442<>\"\", RawData!F442,\"\")","v":""},{"$f":"IF(RawData!G442<>\"\", RawData!G442,\"\")","v":""},{"$f":"IF(RawData!H442<>\"\", RawData!H442,\"\")","v":""},{"$f":"IF(RawData!I442<>\"\", RawData!I442,\"\")","v":""},{"$f":"IF(RawData!J442<>\"\", RawData!J442,\"\")","v":""},"","","","","",false,false,false,false,false,"","",""]
[{"$f":"IF(RawData!A443<>\"\", RawData!A443,\"\")","v":""},{"$f":"IF(RawData!B443<>\"\", RawData!B443,\"\")","v":""},{"$f":"IF(RawData!C443<>\"\", RawData!C443,\"\")","v":""},{"$f":"IF(RawData!D443<>\"\", RawData!D443,\"\")","v":""},{"$f":"IF(RawData!E443<>\"\", RawData!E443,\"\")","v":""},{"$f":"IF(RawData!F443<>\"\", RawData!F443,\"\")","v":""},{"$f":"IF(RawData!G443<>\"\", RawData!G443,\"\")","v":""},{"$f":"IF(RawData!H443<>\"\", RawData!H443,\"\")","v":""},{"$f":"IF(RawData!I443<>\"\", RawData!I443,\"\")","v":""},{"$f":"IF(RawData!J443<>\"\", RawData!J443,\"\")","v":""},"","","","","",false,false,false,false,false,"","",""]
[{"$f":"IF(RawData!A444<>\"\", RawData!A444,\"\")","v":""},{"$f":"IF(RawData!B444<>\"\", RawData!B444,\"\")","v":""},{"$f":"IF(RawData!C444<>\"\", RawData!C444,\"\")","v":""},{"$f":"IF(RawData!D444<>\"\", RawData!D444,\"\")","v":""},{"$f":"IF(RawData!E444<>\"\", RawData!E444,\"\")","v":""},{"$f":"IF(RawData!F444<>\"\", RawData!F444,\"\")","v":""},{"$f":"IF(RawData!G444<>\"\", RawData!G444,\"\")","v":""},{"$f":"IF(RawData!H444<>\"\", RawData!H444,\"\")","v":""},{"$f":"IF(RawData!I444<>\"\", RawData!I444,\"\")","v":""},{"$f":"IF(RawData!J444<>\"\", RawData!J444,\"\")","v":""},"","","","","",false,false,false,false,false,"","",""]
[{"$f":"IF(RawData!A445<>\"\", RawData!A445,\"\")","v":""},{"$f":"IF(RawData!B445<>\"\", RawData!B445,\"\")","v":""},{"$f":"IF(RawData!C445<>\"\", RawData!C445,\"\")","v":""},{"$f":"IF(RawData!D445<>\"\", RawData!D445,\"\")","v":""},{"$f":"IF(RawData!E445<>\"\", RawData!E445,\"\")","v":""},{"$f":"IF(RawData!F445<>\"\", RawData!F445,\"\")","v":""},{"$f":"IF(RawData!G445<>\"\", RawData!G445,\"\")","v":""},{"$f":"IF(RawData!H445<>\"\", RawData!H445,\"\")","v":""},{"$f":"IF(RawData!I445<>\"\", RawData!I445,\"\")","v":""},{"$f":"IF(RawData!J445<>\"\", RawData!J445,\"\")","v":""},"","","","","",false,false,false,false,false,"","",""]
[{"$f":"IF(RawData!A446<>\"\", RawData!A446,\"\")","v":""},{"$f":"IF(RawData!B446<>\"\", RawData!B446,\"\")","v":""},{"$f":"IF(RawData!C446<>\"\", RawData!C446,\"\")","v":""},{"$f":"IF(RawData!D446<>\"\", RawData!D446,\"\")","v":""},{"$f":"IF(RawData!E446<>\"\", RawData!E446,\"\")","v":""},{"$f":"IF(RawData!F446<>\"\", RawData!F446,\"\")","v":""},{"$f":"IF(RawData!G446<>\"\", RawData!G446,\"\")","v":""},{"$f":"IF(RawData!H446<>\"\", RawData!H446,\"\")","v":""},{"$f":"IF(RawData!I446<>\"\", RawData!I446,\"\")","v":""},{"$f":"IF(RawData!J446<>\"\", RawData!J446,\"\")","v":""},"","","","","",false,false,false,false,false,"","",""]
[{"$f":"IF(RawData!A447<>\"\", RawData!A447,\"\")","v":""},{"$f":"IF(RawData!B447<>\"\", RawData!B447,\"\")","v":""},{"$f":"IF(RawData!C447<>\"\", RawData!C447,\"\")","v":""},{"$f":"IF(RawData!D447<>\"\", RawData!D447,\"\")","v":""},{"$f":"IF(RawData!E447<>\"\", RawData!E447,\"\")","v":""},{"$f":"IF(RawData!F447<>\"\", RawData!F447,\"\")","v":""},{"$f":"IF(RawData!G447<>\"\", RawData!G447,\"\")","v":""},{"$f":"IF(RawData!H447<>\"\", RawData!H447,\"\")","v":""},{"$f":"IF(RawData!I447<>\"\", RawData!I447,\"\")","v":""},{"$f":"IF(RawData!J447<>\"\", RawData!J447,\"\")","v":""},"","","","","",false,false,false,false,false,"","",""]
[{"$f":"IF(RawData!A448<>\"\", RawData!A448,\"\")","v":""},{"$f":"IF(RawData!B448<>\"\", RawData!B448,\"\")","v":""},{"$f":"IF(RawData!C448<>\"\", RawData!C448,\"\")","v":""},{"$f":"IF(RawData!D448<>\"\", RawData!D448,\"\")","v":""},{"$f":"IF(RawData!E448<>\"\", RawData!E448,\"\")","v":""},{"$f":"IF(RawData!F448<>\"\", RawData!F448,\"\")","v":""},{"$f":"IF(RawData!G448<>\"\", RawData!G448,\"\")","v":""},{"$f":"IF(RawData!H448<>\"\", RawData!H448,\"\")","v":""},{"$f":"IF(RawData!I448<>\"\", RawData!I448,\"\")","v":""},{"$f":"IF(RawData!J448<>\"\", RawData!J448,\"\")","v":""},"","","","","",false,false,false,false,false,"","",""]
[{"$f":"IF(RawData!A449<>\"\", RawData!A449,\"\")","v":""},{"$f":"IF(RawData!B449<>\"\", RawData!B449,\"\")","v":""},{"$f":"IF(RawData!C449<>\"\", RawData!C449,\"\")","v":""},{"$f":"IF(RawData!D449<>\"\", RawData!D449,\"\")","v":""},{"$f":"IF(RawData!E449<>\"\", RawData!E449,\"\")","v":""},{"$f":"IF(RawData!F449<>\"\", RawData!F449,\"\")","v":""},{"$f":"IF(RawData!G449<>\"\", RawData!G449,\"\")","v":""},{"$f":"IF(RawData!H449<>\"\", RawData!H449,\"\")","v":""},{"$f":"IF(RawData!I449<>\"\", RawData!I449,\"\")","v":""},{"$f":"IF(RawData!J449<>\"\", RawData!J449,\"\")","v":""},"","","","","",false,false,false,false,false,"","",""]
[{"$f":"IF(RawData!A450<>\"\", RawData!A450,\"\")","v":""},{"$f":"IF(RawData!B450<>\"\", RawData!B450,\"\")","v":""},{"$f":"IF(RawData!C450<>\"\", RawData!C450,\"\")","v":""},{"$f":"IF(RawData!D450<>\"\", RawData!D450,\"\")","v":""},{"$f":"IF(RawData!E450<>\"\", RawData!E450,\"\")","v":""},{"$f":"IF(RawData!F450<>\"\", RawData!F450,\"\")","v":""},{"$f":"IF(RawData!G450<>\"\", RawData!G450,\"\")","v":""},{"$f":"IF(RawData!H450<>\"\", RawData!H450,\"\")","v":""},{"$f":"IF(RawData!I450<>\"\", RawData!I450,\"\")","v":""},{"$f":"IF(RawData!J450<>\"\", RawData!J450,\"\")","v":""},"","","","","",false,false,false,false,false,"","",""]
[{"$f":"IF(RawData!A451<>\"\", RawData!A451,\"\")","v":""},{"$f":"IF(RawData!B451<>\"\", RawData!B451,\"\")","v":""},{"$f":"IF(RawData!C451<>\"\", RawData!C451,\"\")","v":""},{"$f":"IF(RawData!D451<>\"\", RawData!D451,\"\")","v":""},{"$f":"IF(RawData!E451<>\"\", RawData!E451,\"\")","v":""},{"$f":"IF(RawData!F451<>\"\", RawData!F451,\"\")","v":""},{"$f":"IF(RawData!G451<>\"\", RawData!G451,\"\")","v":""},{"$f":"IF(RawData!H451<>\"\", RawData!H451,\"\")","v":""},{"$f":"IF(RawData!I451<>\"\", RawData!I451,\"\")","v":""},{"$f":"IF(RawData!J451<>\"\", RawData!J451,\"\")","v":""},"","","","","",false,false,false,false,false,"","",""]
[{"$f":"IF(RawData!A452<>\"\", RawData!A452,\"\")","v":""},{"$f":"IF(RawData!B452<>\"\", RawData!B452,\"\")","v":""},{"$f":"IF(RawData!C452<>\"\", RawData!C452,\"\")","v":""},{"$f":"IF(RawData!D452<>\"\", RawData!D452,\"\")","v":""},{"$f":"IF(RawData!E452<>\"\", RawData!E452,\"\")","v":""},{"$f":"IF(RawData!F452<>\"\", RawData!F452,\"\")","v":""},{"$f":"IF(RawData!G452<>\"\", RawData!G452,\"\")","v":""},{"$f":"IF(RawData!H452<>\"\", RawData!H452,\"\")","v":""},{"$f":"IF(RawData!I452<>\"\", RawData!I452,\"\")","v":""},{"$f":"IF(RawData!J452<>\"\", RawData!J452,\"\")","v":""},"","","","","",false,false,false,false,false,"","",""]
[{"$f":"IF(RawData!A453<>\"\", RawData!A453,\"\")","v":""},{"$f":"IF(RawData!B453<>\"\", RawData!B453,\"\")","v":""},{"$f":"IF(RawData!C453<>\"\", RawData!C453,\"\")","v":""},{"$f":"IF(RawData!D453<>\"\", RawData!D453,\"\")","v":""},{"$f":"IF(RawData!E453<>\"\", RawData!E453,\"\")","v":""},{"$f":"IF(RawData!F453<>\"\", RawData!F453,\"\")","v":""},{"$f":"IF(RawData!G453<>\"\", RawData!G453,\"\")","v":""},{"$f":"IF(RawData!H453<>\"\", RawData!H453,\"\")","v":""},{"$f":"IF(RawData!I453<>\"\", RawData!I453,\"\")","v":""},{"$f":"IF(RawData!J453<>\"\", RawData!J453,\"\")","v":""},"","","","","",false,false,false,false,false,"","",""]
[{"$f":"IF(RawData!A454<>\"\", RawData!A454,\"\")","v":""},{"$f":"IF(RawData!B454<>\"\", RawData!B454,\"\")","v":""},{"$f":"IF(RawData!C454<>\"\", RawData!C454,\"\")","v":""},{"$f":"IF(RawData!D454<>\"\", RawData!D454,\"\")","v":""},{"$f":"IF(RawData!E454<>\"\", RawData!E454,\"\")","v":""},{"$f":"IF(RawData!F454<>\"\", RawData!F454,\"\")","v":""},{"$f":"IF(RawData!G454<>\"\", RawData!G454,\"\")","v":""},{"$f":"IF(RawData!H454<>\"\", RawData!H454,\"\")","v":""},{"$f":"IF(RawData!I454<>\"\", RawData!I454,\"\")","v":""},{"$f":"IF(RawData!J454<>\"\", RawData!J454,\"\")","v":""},"","","","","",false,false,false,false,false,"","",""]
[{"$f":"IF(RawData!A455<>\"\", RawData!A455,\"\")","v":""},{"$f":"IF(RawData!B455<>\"\", RawData!B455,\"\")","v":""},{"$f":"IF(RawData!C455<>\"\", RawData!C455,\"\")","v":""},{"$f":"IF(RawData!D455<>\"\", RawData!D455,\"\")","v":""},{"$f":"IF(RawData!E455<>\"\", RawData!E455,\"\")","v":""},{"$f":"IF(RawData!F455<>\"\", RawData!F455,\"\")","v":""},{"$f":"IF(RawData!G455<>\"\", RawData!G455,\"\")","v":""},{"$f":"IF(RawData!H455<>\"\", RawData!H455,\"\")","v":""},{"$f":"IF(RawData!I455<>\"\", RawData!I455,\"\")","v":""},{"$f":"IF(RawData!J455<>\"\", RawData!J455,\"\")","v":""},"","","",{"$f":"IF(G455<>\"\",IF(G455>=4, 1, 0),\"\")","v":""},"",false,false,false,false,false,"","",""]
[{"$f":"IF(RawData!A456<>\"\", RawData!A456,\"\")","v":""},{"$f":"IF(RawData!B456<>\"\", RawData!B456,\"\")","v":""},{"$f":"IF(RawData!C456<>\"\", RawData!C456,\"\")","v":""},{"$f":"IF(RawData!D456<>\"\", RawData!D456,\"\")","v":""},{"$f":"IF(RawData!E456<>\"\", RawData!E456,\"\")","v":""},{"$f":"IF(RawData!F456<>\"\", RawData!F456,\"\")","v":""},{"$f":"IF(RawData!G456<>\"\", RawData!G456,\"\")","v":""},{"$f":"IF(RawData!H456<>\"\", RawData!H456,\"\")","v":""},{"$f":"IF(RawData!I456<>\"\", RawData!I456,\"\")","v":""},{"$f":"IF(RawData!J456<>\"\", RawData!J456,\"\")","v":""},"","","","","",false,false,false,false,false,"","",""]
[{"$f":"IF(RawData!A457<>\"\", RawData!A457,\"\")","v":""},{"$f":"IF(RawData!B457<>\"\", RawData!B457,\"\")","v":""},{"$f":"IF(RawData!C457<>\"\", RawData!C457,\"\")","v":""},{"$f":"IF(RawData!D457<>\"\", RawData!D457,\"\")","v":""},{"$f":"IF(RawData!E457<>\"\", RawData!E457,\"\")","v":""},{"$f":"IF(RawData!F457<>\"\", RawData!F457,\"\")","v":""},{"$f":"IF(RawData!G457<>\"\", RawData!G457,\"\")","v":""},{"$f":"IF(RawData!H457<>\"\", RawData!H457,\"\")","v":""},{"$f":"IF(RawData!I457<>\"\", RawData!I457,\"\")","v":""},{"$f":"IF(RawData!J457<>\"\", RawData!J457,\"\")","v":""},"","","","","",false,false,false,false,false,"","",""]
[{"$f":"IF(RawData!A458<>\"\", RawData!A458,\"\")","v":""},{"$f":"IF(RawData!B458<>\"\", RawData!B458,\"\")","v":""},{"$f":"IF(RawData!C458<>\"\", RawData!C458,\"\")","v":""},{"$f":"IF(RawData!D458<>\"\", RawData!D458,\"\")","v":""},{"$f":"IF(RawData!E458<>\"\", RawData!E458,\"\")","v":""},{"$f":"IF(RawData!F458<>\"\", RawData!F458,\"\")","v":""},{"$f":"IF(RawData!G458<>\"\", RawData!G458,\"\")","v":""},{"$f":"IF(RawData!H458<>\"\", RawData!H458,\"\")","v":""},{"$f":"IF(RawData!I458<>\"\", RawData!I458,\"\")","v":""},{"$f":"IF(RawData!J458<>\"\", RawData!J458,\"\")","v":""},"","","","","",false,false,false,false,false,"","",""]
[{"$f":"IF(RawData!A459<>\"\", RawData!A459,\"\")","v":""},{"$f":"IF(RawData!B459<>\"\", RawData!B459,\"\")","v":""},{"$f":"IF(RawData!C459<>\"\", RawData!C459,\"\")","v":""},{"$f":"IF(RawData!D459<>\"\", RawData!D459,\"\")","v":""},{"$f":"IF(RawData!E459<>\"\", RawData!E459,\"\")","v":""},{"$f":"IF(RawData!F459<>\"\", RawData!F459,\"\")","v":""},{"$f":"IF(RawData!G459<>\"\", RawData!G459,\"\")","v":""},{"$f":"IF(RawData!H459<>\"\", RawData!H459,\"\")","v":""},{"$f":"IF(RawData!I459<>\"\", RawData!I459,\"\")","v":""},{"$f":"IF(RawData!J459<>\"\", RawData!J459,\"\")","v":""},"","","","","",false,false,false,false,false,"","",""]
[{"$f":"IF(RawData!A460<>\"\", RawData!A460,\"\")","v":""},{"$f":"IF(RawData!B460<>\"\", RawData!B460,\"\")","v":""},{"$f":"IF(RawData!C460<>\"\", RawData!C460,\"\")","v":""},{"$f":"IF(RawData!D460<>\"\", RawData!D460,\"\")","v":""},{"$f":"IF(RawData!E460<>\"\", RawData!E460,\"\")","v":""},{"$f":"IF(RawData!F460<>\"\", RawData!F460,\"\")","v":""},{"$f":"IF(RawData!G460<>\"\", RawData!G460,\"\")","v":""},{"$f":"IF(RawData!H460<>\"\", RawData!H460,\"\")","v":""},{"$f":"IF(RawData!I460<>\"\", RawData!I460,\"\")","v":""},{"$f":"IF(RawData!J460<>\"\", RawData!J460,\"\")","v":""},"","","","","",false,false,false,false,false,"","",""]
[{"$f":"IF(RawData!A461<>\"\", RawData!A461,\"\")","v":""},{"$f":"IF(RawData!B461<>\"\", RawData!B461,\"\")","v":""},{"$f":"IF(RawData!C461<>\"\", RawData!C461,\"\")","v":""},{"$f":"IF(RawData!D461<>\"\", RawData!D461,\"\")","v":""},{"$f":"IF(RawData!E461<>\"\", RawData!E461,\"\")","v":""},{"$f":"IF(RawData!F461<>\"\", RawData!F461,\"\")","v":""},{"$f":"IF(RawData!G461<>\"\", RawData!G461,\"\")","v":""},{"$f":"IF(RawData!H461<>\"\", RawData!H461,\"\")","v":""},{"$f":"IF(RawData!I461<>\"\", RawData!I461,\"\")","v":""},{"$f":"IF(RawData!J461<>\"\", RawData!J461,\"\")","v":""},"","","","","",false,false,false,false,false,"","",""]
[{"$f":"IF(RawData!A462<>\"\", RawData!A462,\"\")","v":""},{"$f":"IF(RawData!B462<>\"\", RawData!B462,\"\")","v":""},{"$f":"IF(RawData!C462<>\"\", RawData!C462,\"\")","v":""},{"$f":"IF(RawData!D462<>\"\", RawData!D462,\"\")","v":""},{"$f":"IF(RawData!E462<>\"\", RawData!E462,\"\")","v":""},{"$f":"IF(RawData!F462<>\"\", RawData!F462,\"\")","v":""},{"$f":"IF(RawData!G462<>\"\", RawData!G462,\"\")","v":""},{"$f":"IF(RawData!H462<>\"\", RawData!H462,\"\")","v":""},{"$f":"IF(RawData!I462<>\"\", RawData!I462,\"\")","v":""},{"$f":"IF(RawData!J462<>\"\", RawData!J462,\"\")","v":""},"","","","","",false,false,false,false,false,"","",""]
[{"$f":"IF(RawData!A463<>\"\", RawData!A463,\"\")","v":""},{"$f":"IF(RawData!B463<>\"\", RawData!B463,\"\")","v":""},{"$f":"IF(RawData!C463<>\"\", RawData!C463,\"\")","v":""},{"$f":"IF(RawData!D463<>\"\", RawData!D463,\"\")","v":""},{"$f":"IF(RawData!E463<>\"\", RawData!E463,\"\")","v":""},{"$f":"IF(RawData!F463<>\"\", RawData!F463,\"\")","v":""},{"$f":"IF(RawData!G463<>\"\", RawData!G463,\"\")","v":""},{"$f":"IF(RawData!H463<>\"\", RawData!H463,\"\")","v":""},{"$f":"IF(RawData!I463<>\"\", RawData!I463,\"\")","v":""},{"$f":"IF(RawData!J463<>\"\", RawData!J463,\"\")","v":""},"","","","","",false,false,false,false,false,"","",""]
[{"$f":"IF(RawData!A464<>\"\", RawData!A464,\"\")","v":""},{"$f":"IF(RawData!B464<>\"\", RawData!B464,\"\")","v":""},{"$f":"IF(RawData!C464<>\"\", RawData!C464,\"\")","v":""},{"$f":"IF(RawData!D464<>\"\", RawData!D464,\"\")","v":""},{"$f":"IF(RawData!E464<>\"\", RawData!E464,\"\")","v":""},{"$f":"IF(RawData!F464<>\"\", RawData!F464,\"\")","v":""},{"$f":"IF(RawData!G464<>\"\", RawData!G464,\"\")","v":""},{"$f":"IF(RawData!H464<>\"\", RawData!H464,\"\")","v":""},{"$f":"IF(RawData!I464<>\"\", RawData!I464,\"\")","v":""},{"$f":"IF(RawData!J464<>\"\", RawData!J464,\"\")","v":""},"","","","","",false,false,false,false,false,"","",""]
[{"$f":"IF(RawData!A465<>\"\", RawData!A465,\"\")","v":""},{"$f":"IF(RawData!B465<>\"\", RawData!B465,\"\")","v":""},{"$f":"IF(RawData!C465<>\"\", RawData!C465,\"\")","v":""},{"$f":"IF(RawData!D465<>\"\", RawData!D465,\"\")","v":""},{"$f":"IF(RawData!E465<>\"\", RawData!E465,\"\")","v":""},{"$f":"IF(RawData!F465<>\"\", RawData!F465,\"\")","v":""},{"$f":"IF(RawData!G465<>\"\", RawData!G465,\"\")","v":""},{"$f":"IF(RawData!H465<>\"\", RawData!H465,\"\")","v":""},{"$f":"IF(RawData!I465<>\"\", RawData!I465,\"\")","v":""},{"$f":"IF(RawData!J465<>\"\", RawData!J465,\"\")","v":""},"","","","","",false,false,false,false,false,"","",""]
[{"$f":"IF(RawData!A466<>\"\", RawData!A466,\"\")","v":""},{"$f":"IF(RawData!B466<>\"\", RawData!B466,\"\")","v":""},{"$f":"IF(RawData!C466<>\"\", RawData!C466,\"\")","v":""},{"$f":"IF(RawData!D466<>\"\", RawData!D466,\"\")","v":""},{"$f":"IF(RawData!E466<>\"\", RawData!E466,\"\")","v":""},{"$f":"IF(RawData!F466<>\"\", RawData!F466,\"\")","v":""},{"$f":"IF(RawData!G466<>\"\", RawData!G466,\"\")","v":""},{"$f":"IF(RawData!H466<>\"\", RawData!H466,\"\")","v":""},{"$f":"IF(RawData!I466<>\"\", RawData!I466,\"\")","v":""},{"$f":"IF(RawData!J466<>\"\", RawData!J466,\"\")","v":""},"","","","","",false,false,false,false,false,"","",""]
[{"$f":"IF(RawData!A467<>\"\", RawData!A467,\"\")","v":""},{"$f":"IF(RawData!B467<>\"\", RawData!B467,\"\")","v":""},{"$f":"IF(RawData!C467<>\"\", RawData!C467,\"\")","v":""},{"$f":"IF(RawData!D467<>\"\", RawData!D467,\"\")","v":""},{"$f":"IF(RawData!E467<>\"\", RawData!E467,\"\")","v":""},{"$f":"IF(RawData!F467<>\"\", RawData!F467,\"\")","v":""},{"$f":"IF(RawData!G467<>\"\", RawData!G467,\"\")","v":""},{"$f":"IF(RawData!H467<>\"\", RawData!H467,\"\")","v":""},{"$f":"IF(RawData!I467<>\"\", RawData!I467,\"\")","v":""},{"$f":"IF(RawData!J467<>\"\", RawData!J467,\"\")","v":""},"","","","","",false,false,false,false,false,"","",""]
[{"$f":"IF(RawData!A468<>\"\", RawData!A468,\"\")","v":""},{"$f":"IF(RawData!B468<>\"\", RawData!B468,\"\")","v":""},{"$f":"IF(RawData!C468<>\"\", RawData!C468,\"\")","v":""},{"$f":"IF(RawData!D468<>\"\", RawData!D468,\"\")","v":""},{"$f":"IF(RawData!E468<>\"\", RawData!E468,\"\")","v":""},{"$f":"IF(RawData!F468<>\"\", RawData!F468,\"\")","v":""},{"$f":"IF(RawData!G468<>\"\", RawData!G468,\"\")","v":""},{"$f":"IF(RawData!H468<>\"\", RawData!H468,\"\")","v":""},{"$f":"IF(RawData!I468<>\"\", RawData!I468,\"\")","v":""},{"$f":"IF(RawData!J468<>\"\", RawData!J468,\"\")","v":""},"","","","","",false,false,false,false,false,"","",""]
[{"$f":"IF(RawData!A469<>\"\", RawData!A469,\"\")","v":""},{"$f":"IF(RawData!B469<>\"\", RawData!B469,\"\")","v":""},{"$f":"IF(RawData!C469<>\"\", RawData!C469,\"\")","v":""},{"$f":"IF(RawData!D469<>\"\", RawData!D469,\"\")","v":""},{"$f":"IF(RawData!E469<>\"\", RawData!E469,\"\")","v":""},{"$f":"IF(RawData!F469<>\"\", RawData!F469,\"\")","v":""},{"$f":"IF(RawData!G469<>\"\", RawData!G469,\"\")","v":""},{"$f":"IF(RawData!H469<>\"\", RawData!H469,\"\")","v":""},{"$f":"IF(RawData!I469<>\"\", RawData!I469,\"\")","v":""},{"$f":"IF(RawData!J469<>\"\", RawData!J469,\"\")","v":""},"","","","","",false,false,false,false,false,"","",""]
[{"$f":"IF(RawData!A470<>\"\", RawData!A470,\"\")","v":""},{"$f":"IF(RawData!B470<>\"\", RawData!B470,\"\")","v":""},{"$f":"IF(RawData!C470<>\"\", RawData!C470,\"\")","v":""},{"$f":"IF(RawData!D470<>\"\", RawData!D470,\"\")","v":""},{"$f":"IF(RawData!E470<>\"\", RawData!E470,\"\")","v":""},{"$f":"IF(RawData!F470<>\"\", RawData!F470,\"\")","v":""},{"$f":"IF(RawData!G470<>\"\", RawData!G470,\"\")","v":""},{"$f":"IF(RawData!H470<>\"\", RawData!H470,\"\")","v":""},{"$f":"IF(RawData!I470<>\"\", RawData!I470,\"\")","v":""},{"$f":"IF(RawData!J470<>\"\", RawData!J470,\"\")","v":""},"","","","","",false,false,false,false,false,"","",""]
[{"$f":"IF(RawData!A471<>\"\", RawData!A471,\"\")","v":""},{"$f":"IF(RawData!B471<>\"\", RawData!B471,\"\")","v":""},{"$f":"IF(RawData!C471<>\"\", RawData!C471,\"\")","v":""},{"$f":"IF(RawData!D471<>\"\", RawData!D471,\"\")","v":""},{"$f":"IF(RawData!E471<>\"\", RawData!E471,\"\")","v":""},{"$f":"IF(RawData!F471<>\"\", RawData!F471,\"\")","v":""},{"$f":"IF(RawData!G471<>\"\", RawData!G471,\"\")","v":""},{"$f":"IF(RawData!H471<>\"\", RawData!H471,\"\")","v":""},{"$f":"IF(RawData!I471<>\"\", RawData!I471,\"\")","v":""},{"$f":"IF(RawData!J471<>\"\", RawData!J471,\"\")","v":""},"","","","","",false,false,false,false,false,"","",""]
[{"$f":"IF(RawData!A472<>\"\", RawData!A472,\"\")","v":""},{"$f":"IF(RawData!B472<>\"\", RawData!B472,\"\")","v":""},{"$f":"IF(RawData!C472<>\"\", RawData!C472,\"\")","v":""},{"$f":"IF(RawData!D472<>\"\", RawData!D472,\"\")","v":""},{"$f":"IF(RawData!E472<>\"\", RawData!E472,\"\")","v":""},{"$f":"IF(RawData!F472<>\"\", RawData!F472,\"\")","v":""},{"$f":"IF(RawData!G472<>\"\", RawData!G472,\"\")","v":""},{"$f":"IF(RawData!H472<>\"\", RawData!H472,\"\")","v":""},{"$f":"IF(RawData!I472<>\"\", RawData!I472,\"\")","v":""},{"$f":"IF(RawData!J472<>\"\", RawData!J472,\"\")","v":""},"","","","","",false,false,false,false,false,"","",""]
[{"$f":"IF(RawData!A473<>\"\", RawData!A473,\"\")","v":""},{"$f":"IF(RawData!B473<>\"\", RawData!B473,\"\")","v":""},{"$f":"IF(RawData!C473<>\"\", RawData!C473,\"\")","v":""},{"$f":"IF(RawData!D473<>\"\", RawData!D473,\"\")","v":""},{"$f":"IF(RawData!E473<>\"\", RawData!E473,\"\")","v":""},{"$f":"IF(RawData!F473<>\"\", RawData!F473,\"\")","v":""},{"$f":"IF(RawData!G473<>\"\", RawData!G473,\"\")","v":""},{"$f":"IF(RawData!H473<>\"\", RawData!H473,\"\")","v":""},{"$f":"IF(RawData!I473<>\"\", RawData!I473,\"\")","v":""},{"$f":"IF(RawData!J473<>\"\", RawData!J473,\"\")","v":""},"","","","","",false,false,false,false,false,"","",""]
[{"$f":"IF(RawData!A474<>\"\", RawData!A474,\"\")","v":""},{"$f":"IF(RawData!B474<>\"\", RawData!B474,\"\")","v":""},{"$f":"IF(RawData!C474<>\"\", RawData!C474,\"\")","v":""},{"$f":"IF(RawData!D474<>\"\", RawData!D474,\"\")","v":""},{"$f":"IF(RawData!E474<>\"\", RawData!E474,\"\")","v":""},{"$f":"IF(RawData!F474<>\"\", RawData!F474,\"\")","v":""},{"$f":"IF(RawData!G474<>\"\", RawData!G474,\"\")","v":""},{"$f":"IF(RawData!H474<>\"\", RawData!H474,\"\")","v":""},{"$f":"IF(RawData!I474<>\"\", RawData!I474,\"\")","v":""},{"$f":"IF(RawData!J474<>\"\", RawData!J474,\"\")","v":""},"","","","","",false,false,false,false,false,"","",""]
[{"$f":"IF(RawData!A475<>\"\", RawData!A475,\"\")","v":""},{"$f":"IF(RawData!B475<>\"\", RawData!B475,\"\")","v":""},{"$f":"IF(RawData!C475<>\"\", RawData!C475,\"\")","v":""},{"$f":"IF(RawData!D475<>\"\", RawData!D475,\"\")","v":""},{"$f":"IF(RawData!E475<>\"\", RawData!E475,\"\")","v":""},{"$f":"IF(RawData!F475<>\"\", RawData!F475,\"\")","v":""},{"$f":"IF(RawData!G475<>\"\", RawData!G475,\"\")","v":""},{"$f":"IF(RawData!H475<>\"\", RawData!H475,\"\")","v":""},{"$f":"IF(RawData!I475<>\"\", RawData!I475,\"\")","v":""},{"$f":"IF(RawData!J475<>\"\", RawData!J475,\"\")","v":""},"","","","","",false,false,false,false,false,"","",""]
[{"$f":"IF(RawData!A476<>\"\", RawData!A476,\"\")","v":""},{"$f":"IF(RawData!B476<>\"\", RawData!B476,\"\")","v":""},{"$f":"IF(RawData!C476<>\"\", RawData!C476,\"\")","v":""},{"$f":"IF(RawData!D476<>\"\", RawData!D476,\"\")","v":""},{"$f":"IF(RawData!E476<>\"\", RawData!E476,\"\")","v":""},{"$f":"IF(RawData!F476<>\"\", RawData!F476,\"\")","v":""},{"$f":"IF(RawData!G476<>\"\", RawData!G476,\"\")","v":""},{"$f":"IF(RawData!H476<>\"\", RawData!H476,\"\")","v":""},{"$f":"IF(RawData!I476<>\"\", RawData!I476,\"\")","v":""},{"$f":"IF(RawData!J476<>\"\", RawData!J476,\"\")","v":""},"","","","","",false,false,false,false,false,"","",""]
[{"$f":"IF(RawData!A477<>\"\", RawData!A477,\"\")","v":""},{"$f":"IF(RawData!B477<>\"\", RawData!B477,\"\")","v":""},{"$f":"IF(RawData!C477<>\"\", RawData!C477,\"\")","v":""},{"$f":"IF(RawData!D477<>\"\", RawData!D477,\"\")","v":""},{"$f":"IF(RawData!E477<>\"\", RawData!E477,\"\")","v":""},{"$f":"IF(RawData!F477<>\"\", RawData!F477,\"\")","v":""},{"$f":"IF(RawData!G477<>\"\", RawData!G477,\"\")","v":""},{"$f":"IF(RawData!H477<>\"\", RawData!H477,\"\")","v":""},{"$f":"IF(RawData!I477<>\"\", RawData!I477,\"\")","v":""},{"$f":"IF(RawData!J477<>\"\", RawData!J477,\"\")","v":""},"","","","","",false,false,false,false,false,"","",""]
[{"$f":"IF(RawData!A478<>\"\", RawData!A478,\"\")","v":""},{"$f":"IF(RawData!B478<>\"\", RawData!B478,\"\")","v":""},{"$f":"IF(RawData!C478<>\"\", RawData!C478,\"\")","v":""},{"$f":"IF(RawData!D478<>\"\", RawData!D478,\"\")","v":""},{"$f":"IF(RawData!E478<>\"\", RawData!E478,\"\")","v":""},{"$f":"IF(RawData!F478<>\"\", RawData!F478,\"\")","v":""},{"$f":"IF(RawData!G478<>\"\", RawData!G478,\"\")","v":""},{"$f":"IF(RawData!H478<>\"\", RawData!H478,\"\")","v":""},{"$f":"IF(RawData!I478<>\"\", RawData!I478,\"\")","v":""},{"$f":"IF(RawData!J478<>\"\", RawData!J478,\"\")","v":""},"","","","","",false,false,false,false,false,"","",""]
[{"$f":"IF(RawData!A479<>\"\", RawData!A479,\"\")","v":""},{"$f":"IF(RawData!B479<>\"\", RawData!B479,\"\")","v":""},{"$f":"IF(RawData!C479<>\"\", RawData!C479,\"\")","v":""},{"$f":"IF(RawData!D479<>\"\", RawData!D479,\"\")","v":""},{"$f":"IF(RawData!E479<>\"\", RawData!E479,\"\")","v":""},{"$f":"IF(RawData!F479<>\"\", RawData!F479,\"\")","v":""},{"$f":"IF(RawData!G479<>\"\", RawData!G479,\"\")","v":""},{"$f":"IF(RawData!H479<>\"\", RawData!H479,\"\")","v":""},{"$f":"IF(RawData!I479<>\"\", RawData!I479,\"\")","v":""},{"$f":"IF(RawData!J479<>\"\", RawData!J479,\"\")","v":""},"","","","","",false,false,false,false,false,"","",""]
[{"$f":"IF(RawData!A480<>\"\", RawData!A480,\"\")","v":""},{"$f":"IF(RawData!B480<>\"\", RawData!B480,\"\")","v":""},{"$f":"IF(RawData!C480<>\"\", RawData!C480,\"\")","v":""},{"$f":"IF(RawData!D480<>\"\", RawData!D480,\"\")","v":""},{"$f":"IF(RawData!E480<>\"\", RawData!E480,\"\")","v":""},{"$f":"IF(RawData!F480<>\"\", RawData!F480,\"\")","v":""},{"$f":"IF(RawData!G480<>\"\", RawData!G480,\"\")","v":""},{"$f":"IF(RawData!H480<>\"\", RawData!H480,\"\")","v":""},{"$f":"IF(RawData!I480<>\"\", RawData!I480,\"\")","v":""},{"$f":"IF(RawData!J480<>\"\", RawData!J480,\"\")","v":""},"","","","","",false,false,false,false,false,"","",""]
[{"$f":"IF(RawData!A481<>\"\", RawData!A481,\"\")","v":""},{"$f":"IF(RawData!B481<>\"\", RawData!B481,\"\")","v":""},{"$f":"IF(RawData!C481<>\"\", RawData!C481,\"\")","v":""},{"$f":"IF(RawData!D481<>\"\", RawData!D481,\"\")","v":""},{"$f":"IF(RawData!E481<>\"\", RawData!E481,\"\")","v":""},{"$f":"IF(RawData!F481<>\"\", RawData!F481,\"\")","v":""},{"$f":"IF(RawData!G481<>\"\", RawData!G481,\"\")","v":""},{"$f":"IF(RawData!H481<>\"\", RawData!H481,\"\")","v":""},{"$f":"IF(RawData!I481<>\"\", RawData!I481,\"\")","v":""},{"$f":"IF(RawData!J481<>\"\", RawData!J481,\"\")","v":""},"","","","","",false,false,false,false,false,"","",""]
[{"$f":"IF(RawData!A482<>\"\", RawData!A482,\"\")","v":""},{"$f":"IF(RawData!B482<>\"\", RawData!B482,\"\")","v":""},{"$f":"IF(RawData!C482<>\"\", RawData!C482,\"\")","v":""},{"$f":"IF(RawData!D482<>\"\", RawData!D482,\"\")","v":""},{"$f":"IF(RawData!E482<>\"\", RawData!E482,\"\")","v":""},{"$f":"IF(RawData!F482<>\"\", RawData!F482,\"\")","v":""},{"$f":"IF(RawData!G482<>\"\", RawData!G482,\"\")","v":""},{"$f":"IF(RawData!H482<>\"\", RawData!H482,\"\")","v":""},{"$f":"IF(RawData!I482<>\"\", RawData!I482,\"\")","v":""},{"$f":"IF(RawData!J482<>\"\", RawData!J482,\"\")","v":""},"","","","","",false,false,false,false,false,"","",""]
[{"$f":"IF(RawData!A483<>\"\", RawData!A483,\"\")","v":""},{"$f":"IF(RawData!B483<>\"\", RawData!B483,\"\")","v":""},{"$f":"IF(RawData!C483<>\"\", RawData!C483,\"\")","v":""},{"$f":"IF(RawData!D483<>\"\", RawData!D483,\"\")","v":""},{"$f":"IF(RawData!E483<>\"\", RawData!E483,\"\")","v":""},{"$f":"IF(RawData!F483<>\"\", RawData!F483,\"\")","v":""},{"$f":"IF(RawData!G483<>\"\", RawData!G483,\"\")","v":""},{"$f":"IF(RawData!H483<>\"\", RawData!H483,\"\")","v":""},{"$f":"IF(RawData!I483<>\"\", RawData!I483,\"\")","v":""},{"$f":"IF(RawData!J483<>\"\", RawData!J483,\"\")","v":""},"","","","","",false,false,false,false,false,"","",""]
[{"$f":"IF(RawData!A484<>\"\", RawData!A484,\"\")","v":""},{"$f":"IF(RawData!B484<>\"\", RawData!B484,\"\")","v":""},{"$f":"IF(RawData!C484<>\"\", RawData!C484,\"\")","v":""},{"$f":"IF(RawData!D484<>\"\", RawData!D484,\"\")","v":""},{"$f":"IF(RawData!E484<>\"\", RawData!E484,\"\")","v":""},{"$f":"IF(RawData!F484<>\"\", RawData!F484,\"\")","v":""},{"$f":"IF(RawData!G484<>\"\", RawData!G484,\"\")","v":""},{"$f":"IF(RawData!H484<>\"\", RawData!H484,\"\")","v":""},{"$f":"IF(RawData!I484<>\"\", RawData!I484,\"\")","v":""},{"$f":"IF(RawData!J484<>\"\", RawData!J484,\"\")","v":""},"","","","","",false,false,false,false,false,"","",""]
[{"$f":"IF(RawData!A485<>\"\", RawData!A485,\"\")","v":""},{"$f":"IF(RawData!B485<>\"\", RawData!B485,\"\")","v":""},{"$f":"IF(RawData!C485<>\"\", RawData!C485,\"\")","v":""},{"$f":"IF(RawData!D485<>\"\", RawData!D485,\"\")","v":""},{"$f":"IF(RawData!E485<>\"\", RawData!E485,\"\")","v":""},{"$f":"IF(RawData!F485<>\"\", RawData!F485,\"\")","v":""},{"$f":"IF(RawData!G485<>\"\", RawData!G485,\"\")","v":""},{"$f":"IF(RawData!H485<>\"\", RawData!H485,\"\")","v":""},{"$f":"IF(RawData!I485<>\"\", RawData!I485,\"\")","v":""},{"$f":"IF(RawData!J485<>\"\", RawData!J485,\"\")","v":""},"","","","","",false,false,false,false,false,"","",""]
[{"$f":"IF(RawData!A486<>\"\", RawData!A486,\"\")","v":""},{"$f":"IF(RawData!B486<>\"\", RawData!B486,\"\")","v":""},{"$f":"IF(RawData!C486<>\"\", RawData!C486,\"\")","v":""},{"$f":"IF(RawData!D486<>\"\", RawData!D486,\"\")","v":""},{"$f":"IF(RawData!E486<>\"\", RawData!E486,\"\")","v":""},{"$f":"IF(RawData!F486<>\"\", RawData!F486,\"\")","v":""},{"$f":"IF(RawData!G486<>\"\", RawData!G486,\"\")","v":""},{"$f":"IF(RawData!H486<>\"\", RawData!H486,\"\")","v":""},{"$f":"IF(RawData!I486<>\"\", RawData!I486,\"\")","v":""},{"$f":"IF(RawData!J486<>\"\", RawData!J486,\"\")","v":""},"","","","","",false,false,false,false,false,"","",""]
[{"$f":"IF(RawData!A487<>\"\", RawData!A487,\"\")","v":""},{"$f":"IF(RawData!B487<>\"\", RawData!B487,\"\")","v":""},{"$f":"IF(RawData!C487<>\"\", RawData!C487,\"\")","v":""},{"$f":"IF(RawData!D487<>\"\", RawData!D487,\"\")","v":""},{"$f":"IF(RawData!E487<>\"\", RawData!E487,\"\")","v":""},{"$f":"IF(RawData!F487<>\"\", RawData!F487,\"\")","v":""},{"$f":"IF(RawData!G487<>\"\", RawData!G487,\"\")","v":""},{"$f":"IF(RawData!H487<>\"\", RawData!H487,\"\")","v":""},{"$f":"IF(RawData!I487<>\"\", RawData!I487,\"\")","v":""},{"$f":"IF(RawData!J487<>\"\", RawData!J487,\"\")","v":""},"","","","","",false,false,false,false,false,"","",""]
[{"$f":"IF(RawData!A488<>\"\", RawData!A488,\"\")","v":""},{"$f":"IF(RawData!B488<>\"\", RawData!B488,\"\")","v":""},{"$f":"IF(RawData!C488<>\"\", RawData!C488,\"\")","v":""},{"$f":"IF(RawData!D488<>\"\", RawData!D488,\"\")","v":""},{"$f":"IF(RawData!E488<>\"\", RawData!E488,\"\")","v":""},{"$f":"IF(RawData!F488<>\"\", RawData!F488,\"\")","v":""},{"$f":"IF(RawData!G488<>\"\", RawData!G488,\"\")","v":""},{"$f":"IF(RawData!H488<>\"\", RawData!H488,\"\")","v":""},{"$f":"IF(RawData!I488<>\"\", RawData!I488,\"\")","v":""},{"$f":"IF(RawData!J488<>\"\", RawData!J488,\"\")","v":""},"","","","","",false,false,false,false,false,"","",""]
[{"$f":"IF(RawData!A489<>\"\", RawData!A489,\"\")","v":""},{"$f":"IF(RawData!B489<>\"\", RawData!B489,\"\")","v":""},{"$f":"IF(RawData!C489<>\"\", RawData!C489,\"\")","v":""},{"$f":"IF(RawData!D489<>\"\", RawData!D489,\"\")","v":""},{"$f":"IF(RawData!E489<>\"\", RawData!E489,\"\")","v":""},{"$f":"IF(RawData!F489<>\"\", RawData!F489,\"\")","v":""},{"$f":"IF(RawData!G489<>\"\", RawData!G489,\"\")","v":""},{"$f":"IF(RawData!H489<>\"\", RawData!H489,\"\")","v":""},{"$f":"IF(RawData!I489<>\"\", RawData!I489,\"\")","v":""},{"$f":"IF(RawData!J489<>\"\", RawData!J489,\"\")","v":""},"","","","","",false,false,false,false,false,"","",""]
[{"$f":"IF(RawData!A490<>\"\", RawData!A490,\"\")","v":""},{"$f":"IF(RawData!B490<>\"\", RawData!B490,\"\")","v":""},{"$f":"IF(RawData!C490<>\"\", RawData!C490,\"\")","v":""},{"$f":"IF(RawData!D490<>\"\", RawData!D490,\"\")","v":""},{"$f":"IF(RawData!E490<>\"\", RawData!E490,\"\")","v":""},{"$f":"IF(RawData!F490<>\"\", RawData!F490,\"\")","v":""},{"$f":"IF(RawData!G490<>\"\", RawData!G490,\"\")","v":""},{"$f":"IF(RawData!H490<>\"\", RawData!H490,\"\")","v":""},{"$f":"IF(RawData!I490<>\"\", RawData!I490,\"\")","v":""},{"$f":"IF(RawData!J490<>\"\", RawData!J490,\"\")","v":""},"","","","","",false,false,false,false,false,"","",""]
[{"$f":"IF(RawData!A491<>\"\", RawData!A491,\"\")","v":""},{"$f":"IF(RawData!B491<>\"\", RawData!B491,\"\")","v":""},{"$f":"IF(RawData!C491<>\"\", RawData!C491,\"\")","v":""},{"$f":"IF(RawData!D491<>\"\", RawData!D491,\"\")","v":""},{"$f":"IF(RawData!E491<>\"\", RawData!E491,\"\")","v":""},{"$f":"IF(RawData!F491<>\"\", RawData!F491,\"\")","v":""},{"$f":"IF(RawData!G491<>\"\", RawData!G491,\"\")","v":""},{"$f":"IF(RawData!H491<>\"\", RawData!H491,\"\")","v":""},{"$f":"IF(RawData!I491<>\"\", RawData!I491,\"\")","v":""},{"$f":"IF(RawData!J491<>\"\", RawData!J491,\"\")","v":""},"","","","","",false,false,false,false,false,"","",""]
[{"$f":"IF(RawData!A492<>\"\", RawData!A492,\"\")","v":""},{"$f":"IF(RawData!B492<>\"\", RawData!B492,\"\")","v":""},{"$f":"IF(RawData!C492<>\"\", RawData!C492,\"\")","v":""},{"$f":"IF(RawData!D492<>\"\", RawData!D492,\"\")","v":""},{"$f":"IF(RawData!E492<>\"\", RawData!E492,\"\")","v":""},{"$f":"IF(RawData!F492<>\"\", RawData!F492,\"\")","v":""},{"$f":"IF(RawData!G492<>\"\", RawData!G492,\"\")","v":""},{"$f":"IF(RawData!H492<>\"\", RawData!H492,\"\")","v":""},{"$f":"IF(RawData!I492<>\"\", RawData!I492,\"\")","v":""},{"$f":"IF(RawData!J492<>\"\", RawData!J492,\"\")","v":""},"","","","","",false,false,false,false,false,"","",""]
[{"$f":"IF(RawData!A493<>\"\", RawData!A493,\"\")","v":""},{"$f":"IF(RawData!B493<>\"\", RawData!B493,\"\")","v":""},{"$f":"IF(RawData!C493<>\"\", RawData!C493,\"\")","v":""},{"$f":"IF(RawData!D493<>\"\", RawData!D493,\"\")","v":""},{"$f":"IF(RawData!E493<>\"\", RawData!E493,\"\")","v":""},{"$f":"IF(RawData!F493<>\"\", RawData!F493,\"\")","v":""},{"$f":"IF(RawData!G493<>\"\", RawData!G493,\"\")","v":""},{"$f":"IF(RawData!H493<>\"\", RawData!H493,\"\")","v":""},{"$f":"IF(RawData!I493<>\"\", RawData!I493,\"\")","v":""},{"$f":"IF(RawData!J493<>\"\", RawData!J493,\"\")","v":""},"","","","","",false,false,false,false,false,"","",""]
[{"$f":"IF(RawData!A494<>\"\", RawData!A494,\"\")","v":""},{"$f":"IF(RawData!B494<>\"\", RawData!B494,\"\")","v":""},{"$f":"IF(RawData!C494<>\"\", RawData!C494,\"\")","v":""},{"$f":"IF(RawData!D494<>\"\", RawData!D494,\"\")","v":""},{"$f":"IF(RawData!E494<>\"\", RawData!E494,\"\")","v":""},{"$f":"IF(RawData!F494<>\"\", RawData!F494,\"\")","v":""},{"$f":"IF(RawData!G494<>\"\", RawData!G494,\"\")","v":""},{"$f":"IF(RawData!H494<>\"\", RawData!H494,\"\")","v":""},{"$f":"IF(RawData!I494<>\"\", RawData!I494,\"\")","v":""},{"$f":"IF(RawData!J494<>\"\", RawData!J494,\"\")","v":""},"","","","","",false,false,false,false,false,"","",""]
[{"$f":"IF(RawData!A495<>\"\", RawData!A495,\"\")","v":""},{"$f":"IF(RawData!B495<>\"\", RawData!B495,\"\")","v":""},{"$f":"IF(RawData!C495<>\"\", RawData!C495,\"\")","v":""},{"$f":"IF(RawData!D495<>\"\", RawData!D495,\"\")","v":""},{"$f":"IF(RawData!E495<>\"\", RawData!E495,\"\")","v":""},{"$f":"IF(RawData!F495<>\"\", RawData!F495,\"\")","v":""},{"$f":"IF(RawData!G495<>\"\", RawData!G495,\"\")","v":""},{"$f":"IF(RawData!H495<>\"\", RawData!H495,\"\")","v":""},{"$f":"IF(RawData!I495<>\"\", RawData!I495,\"\")","v":""},{"$f":"IF(RawData!J495<>\"\", RawData!J495,\"\")","v":""},"","","","","",false,false,false,false,false,"","",""]
[{"$f":"IF(RawData!A496<>\"\", RawData!A496,\"\")","v":""},{"$f":"IF(RawData!B496<>\"\", RawData!B496,\"\")","v":""},{"$f":"IF(RawData!C496<>\"\", RawData!C496,\"\")","v":""},{"$f":"IF(RawData!D496<>\"\", RawData!D496,\"\")","v":""},{"$f":"IF(RawData!E496<>\"\", RawData!E496,\"\")","v":""},{"$f":"IF(RawData!F496<>\"\", RawData!F496,\"\")","v":""},{"$f":"IF(RawData!G496<>\"\", RawData!G496,\"\")","v":""},{"$f":"IF(RawData!H496<>\"\", RawData!H496,\"\")","v":""},{"$f":"IF(RawData!I496<>\"\", RawData!I496,\"\")","v":""},{"$f":"IF(RawData!J496<>\"\", RawData!J496,\"\")","v":""},"","","","","",false,false,false,false,false,"","",""]
[{"$f":"IF(RawData!A497<>\"\", RawData!A497,\"\")","v":""},{"$f":"IF(RawData!B497<>\"\", RawData!B497,\"\")","v":""},{"$f":"IF(RawData!C497<>\"\", RawData!C497,\"\")","v":""},{"$f":"IF(RawData!D497<>\"\", RawData!D497,\"\")","v":""},{"$f":"IF(RawData!E497<>\"\", RawData!E497,\"\")","v":""},{"$f":"IF(RawData!F497<>\"\", RawData!F497,\"\")","v":""},{"$f":"IF(RawData!G497<>\"\", RawData!G497,\"\")","v":""},{"$f":"IF(RawData!H497<>\"\", RawData!H497,\"\")","v":""},{"$f":"IF(RawData!I497<>\"\", RawData!I497,\"\")","v":""},{"$f":"IF(RawData!J497<>\"\", RawData!J497,\"\")","v":""},"","","","","",false,false,false,false,false,"","",""]
[{"$f":"IF(RawData!A498<>\"\", RawData!A498,\"\")","v":""},{"$f":"IF(RawData!B498<>\"\", RawData!B498,\"\")","v":""},{"$f":"IF(RawData!C498<>\"\", RawData!C498,\"\")","v":""},{"$f":"IF(RawData!D498<>\"\", RawData!D498,\"\")","v":""},{"$f":"IF(RawData!E498<>\"\", RawData!E498,\"\")","v":""},{"$f":"IF(RawData!F498<>\"\", RawData!F498,\"\")","v":""},{"$f":"IF(RawData!G498<>\"\", RawData!G498,\"\")","v":""},{"$f":"IF(RawData!H498<>\"\", RawData!H498,\"\")","v":""},{"$f":"IF(RawData!I498<>\"\", RawData!I498,\"\")","v":""},{"$f":"IF(RawData!J498<>\"\", RawData!J498,\"\")","v":""},{"$f":"IF(G498<>\"\",IF(G498<3, 1, 0),\"\")","v":""},{"$f":"IF(G498<>\"\",IF(G498>=1, 1, 0),\"\")","v":""},{"$f":"IF(G498<>\"\",IF(AND(G498>=1,G498<=7), 1, 0),\"\")","v":""},"",{"$f":"IF(G498<>\"\",IF(G498>=8, 1, 0),\"\")","v":""},false,false,false,false,false,{"$f":"IF(H498<>\"\",IF(H498=1,IF(J498=4, 1, 0),\"\"),\"\")","v":""},"",""]
[{"$f":"IF(RawData!A499<>\"\", RawData!A499,\"\")","v":""},{"$f":"IF(RawData!B499<>\"\", RawData!B499,\"\")","v":""},{"$f":"IF(RawData!C499<>\"\", RawData!C499,\"\")","v":""},{"$f":"IF(RawData!D499<>\"\", RawData!D499,\"\")","v":""},{"$f":"IF(RawData!E499<>\"\", RawData!E499,\"\")","v":""},{"$f":"IF(RawData!F499<>\"\", RawData!F499,\"\")","v":""},{"$f":"IF(RawData!G499<>\"\", RawData!G499,\"\")","v":""},{"$f":"IF(RawData!H499<>\"\", RawData!H499,\"\")","v":""},{"$f":"IF(RawData!I499<>\"\", RawData!I499,\"\")","v":""},{"$f":"IF(RawData!J499<>\"\", RawData!J499,\"\")","v":""},"","","","","",{"$f":"IF(L499<>\"\", IF(J499<>\"\",IF(L499=0,IF(J499=1, 1, 0),\"\")))","v":false},{"$f":"IF(K499<>\"\",IF(J499<>\"\",IF(K499=1,IF(J499=1, 1, 0),\"\")))","v":false},{"$f":"IF(M499<>\"\",IF(J499<>\"\",IF(M499=1,IF(J499=2, 1, 0),\"\")))","v":false},{"$f":"IF(N499<>\"\",IF(J499<>\"\",IF(N499=1,IF(J499=3, 1, 0),\"\")))","v":false},{"$f":"IF(O499<>\"\",IF(J499<>\"\",IF(O499=1,IF(J499=4, 1, 0),\"\")))","v":false},"",{"$f":"IF(J499<>\"\",IF(OR(P499=1,Q499=1,R499=1,S499=1, T499=1, U499=1),1,0),\"\")","v":""},{"$f":"IF(J499<>\"\",IF(AND(J499<>0,V499=0),1,0),\"\")","v":""}]
[{"$f":"IF(RawData!A500<>\"\", RawData!A500,\"\")","v":""},{"$f":"IF(RawData!B500<>\"\", RawData!B500,\"\")","v":""},{"$f":"IF(RawData!C500<>\"\", RawData!C500,\"\")","v":""},{"$f":"IF(RawData!D500<>\"\", RawData!D500,\"\")","v":""},{"$f":"IF(RawData!E500<>\"\", RawData!E500,\"\")","v":""},{"$f":"IF(RawData!F500<>\"\", RawData!F500,\"\")","v":""},{"$f":"IF(RawData!G500<>\"\", RawData!G500,\"\")","v":""},{"$f":"IF(RawData!H500<>\"\", RawData!H500,\"\")","v":""},{"$f":"IF(RawData!I500<>\"\", RawData!I500,\"\")","v":""},{"$f":"IF(RawData!J500<>\"\", RawData!J500,\"\")","v":""},"","","","","",false,false,false,false,false,"","",""]
[{"$f":"IF(RawData!A501<>\"\", RawData!A501,\"\")","v":""},{"$f":"IF(RawData!B501<>\"\", RawData!B501,\"\")","v":""},{"$f":"IF(RawData!C501<>\"\", RawData!C501,\"\")","v":""},{"$f":"IF(RawData!D501<>\"\", RawData!D501,\"\")","v":""},{"$f":"IF(RawData!E501<>\"\", RawData!E501,\"\")","v":""},{"$f":"IF(RawData!F501<>\"\", RawData!F501,\"\")","v":""},{"$f":"IF(RawData!G501<>\"\", RawData!G501,\"\")","v":""},{"$f":"IF(RawData!H501<>\"\", RawData!H501,\"\")","v":""},{"$f":"IF(RawData!I501<>\"\", RawData!I501,\"\")","v":""},{"$f":"IF(RawData!J501<>\"\", RawData!J501,\"\")","v":""},"","","","","",false,false,false,false,false,"","",""]
[{"$f":"IF(RawData!A502<>\"\", RawData!A502,\"\")","v":""},{"$f":"IF(RawData!B502<>\"\", RawData!B502,\"\")","v":""},{"$f":"IF(RawData!C502<>\"\", RawData!C502,\"\")","v":""},{"$f":"IF(RawData!D502<>\"\", RawData!D502,\"\")","v":""},{"$f":"IF(RawData!E502<>\"\", RawData!E502,\"\")","v":""},{"$f":"IF(RawData!F502<>\"\", RawData!F502,\"\")","v":""},{"$f":"IF(RawData!G502<>\"\", RawData!G502,\"\")","v":""},{"$f":"IF(RawData!H502<>\"\", RawData!H502,\"\")","v":""},{"$f":"IF(RawData!I502<>\"\", RawData!I502,\"\")","v":""},{"$f":"IF(RawData!J502<>\"\", RawData!J502,\"\")","v":""},"","","","","",false,false,false,false,false,"","",""]
[{"$f":"IF(RawData!A503<>\"\", RawData!A503,\"\")","v":""},{"$f":"IF(RawData!B503<>\"\", RawData!B503,\"\")","v":""},{"$f":"IF(RawData!C503<>\"\", RawData!C503,\"\")","v":""},{"$f":"IF(RawData!D503<>\"\", RawData!D503,\"\")","v":""},{"$f":"IF(RawData!E503<>\"\", RawData!E503,\"\")","v":""},{"$f":"IF(RawData!F503<>\"\", RawData!F503,\"\")","v":""},{"$f":"IF(RawData!G503<>\"\", RawData!G503,\"\")","v":""},{"$f":"IF(RawData!H503<>\"\", RawData!H503,\"\")","v":""},{"$f":"IF(RawData!I503<>\"\", RawData!I503,\"\")","v":""},{"$f":"IF(RawData!J503<>\"\", RawData!J503,\"\")","v":""},"","","","","",false,false,false,false,false,"","",""]
[{"$f":"IF(RawData!A504<>\"\", RawData!A504,\"\")","v":""},{"$f":"IF(RawData!B504<>\"\", RawData!B504,\"\")","v":""},{"$f":"IF(RawData!C504<>\"\", RawData!C504,\"\")","v":""},{"$f":"IF(RawData!D504<>\"\", RawData!D504,\"\")","v":""},{"$f":"IF(RawData!E504<>\"\", RawData!E504,\"\")","v":""},{"$f":"IF(RawData!F504<>\"\", RawData!F504,\"\")","v":""},{"$f":"IF(RawData!G504<>\"\", RawData!G504,\"\")","v":""},{"$f":"IF(RawData!H504<>\"\", RawData!H504,\"\")","v":""},{"$f":"IF(RawData!I504<>\"\", RawData!I504,\"\")","v":""},{"$f":"IF(RawData!J504<>\"\", RawData!J504,\"\")","v":""},"","","","","",false,false,false,false,false,"","",""]
[{"$f":"IF(RawData!A505<>\"\", RawData!A505,\"\")","v":""},{"$f":"IF(RawData!B505<>\"\", RawData!B505,\"\")","v":""},{"$f":"IF(RawData!C505<>\"\", RawData!C505,\"\")","v":""},{"$f":"IF(RawData!D505<>\"\", RawData!D505,\"\")","v":""},{"$f":"IF(RawData!E505<>\"\", RawData!E505,\"\")","v":""},{"$f":"IF(RawData!F505<>\"\", RawData!F505,\"\")","v":""},{"$f":"IF(RawData!G505<>\"\", RawData!G505,\"\")","v":""},{"$f":"IF(RawData!H505<>\"\", RawData!H505,\"\")","v":""},{"$f":"IF(RawData!I505<>\"\", RawData!I505,\"\")","v":""},{"$f":"IF(RawData!J505<>\"\", RawData!J505,\"\")","v":""},"","","","","",false,false,false,false,false,"","",""]
[{"$f":"IF(RawData!A506<>\"\", RawData!A506,\"\")","v":""},{"$f":"IF(RawData!B506<>\"\", RawData!B506,\"\")","v":""},{"$f":"IF(RawData!C506<>\"\", RawData!C506,\"\")","v":""},{"$f":"IF(RawData!D506<>\"\", RawData!D506,\"\")","v":""},{"$f":"IF(RawData!E506<>\"\", RawData!E506,\"\")","v":""},{"$f":"IF(RawData!F506<>\"\", RawData!F506,\"\")","v":""},{"$f":"IF(RawData!G506<>\"\", RawData!G506,\"\")","v":""},{"$f":"IF(RawData!H506<>\"\", RawData!H506,\"\")","v":""},{"$f":"IF(RawData!I506<>\"\", RawData!I506,\"\")","v":""},{"$f":"IF(RawData!J506<>\"\", RawData!J506,\"\")","v":""},"","","","","",false,false,false,false,false,"","",""]
[{"$f":"IF(RawData!A507<>\"\", RawData!A507,\"\")","v":""},{"$f":"IF(RawData!B507<>\"\", RawData!B507,\"\")","v":""},{"$f":"IF(RawData!C507<>\"\", RawData!C507,\"\")","v":""},{"$f":"IF(RawData!D507<>\"\", RawData!D507,\"\")","v":""},{"$f":"IF(RawData!E507<>\"\", RawData!E507,\"\")","v":""},{"$f":"IF(RawData!F507<>\"\", RawData!F507,\"\")","v":""},{"$f":"IF(RawData!G507<>\"\", RawData!G507,\"\")","v":""},{"$f":"IF(RawData!H507<>\"\", RawData!H507,\"\")","v":""},{"$f":"IF(RawData!I507<>\"\", RawData!I507,\"\")","v":""},{"$f":"IF(RawData!J507<>\"\", RawData!J507,\"\")","v":""},"","","","","",false,false,false,false,false,"","",""]
[{"$f":"IF(RawData!A508<>\"\", RawData!A508,\"\")","v":""},{"$f":"IF(RawData!B508<>\"\", RawData!B508,\"\")","v":""},{"$f":"IF(RawData!C508<>\"\", RawData!C508,\"\")","v":""},{"$f":"IF(RawData!D508<>\"\", RawData!D508,\"\")","v":""},{"$f":"IF(RawData!E508<>\"\", RawData!E508,\"\")","v":""},{"$f":"IF(RawData!F508<>\"\", RawData!F508,\"\")","v":""},{"$f":"IF(RawData!G508<>\"\", RawData!G508,\"\")","v":""},{"$f":"IF(RawData!H508<>\"\", RawData!H508,\"\")","v":""},{"$f":"IF(RawData!I508<>\"\", RawData!I508,\"\")","v":""},{"$f":"IF(RawData!J508<>\"\", RawData!J508,\"\")","v":""},"","","","","",false,false,false,false,false,"","",""]
[{"$f":"IF(RawData!A509<>\"\", RawData!A509,\"\")","v":""},{"$f":"IF(RawData!B509<>\"\", RawData!B509,\"\")","v":""},{"$f":"IF(RawData!C509<>\"\", RawData!C509,\"\")","v":""},{"$f":"IF(RawData!D509<>\"\", RawData!D509,\"\")","v":""},{"$f":"IF(RawData!E509<>\"\", RawData!E509,\"\")","v":""},{"$f":"IF(RawData!F509<>\"\", RawData!F509,\"\")","v":""},{"$f":"IF(RawData!G509<>\"\", RawData!G509,\"\")","v":""},{"$f":"IF(RawData!H509<>\"\", RawData!H509,\"\")","v":""},{"$f":"IF(RawData!I509<>\"\", RawData!I509,\"\")","v":""},{"$f":"IF(RawData!J509<>\"\", RawData!J509,\"\")","v":""},"","","","","",false,false,false,false,false,"","",""]
[{"$f":"IF(RawData!A510<>\"\", RawData!A510,\"\")","v":""},{"$f":"IF(RawData!B510<>\"\", RawData!B510,\"\")","v":""},{"$f":"IF(RawData!C510<>\"\", RawData!C510,\"\")","v":""},{"$f":"IF(RawData!D510<>\"\", RawData!D510,\"\")","v":""},{"$f":"IF(RawData!E510<>\"\", RawData!E510,\"\")","v":""},{"$f":"IF(RawData!F510<>\"\", RawData!F510,\"\")","v":""},{"$f":"IF(RawData!G510<>\"\", RawData!G510,\"\")","v":""},{"$f":"IF(RawData!H510<>\"\", RawData!H510,\"\")","v":""},{"$f":"IF(RawData!I510<>\"\", RawData!I510,\"\")","v":""},{"$f":"IF(RawData!J510<>\"\", RawData!J510,\"\")","v":""},"","","","","",false,false,false,false,false,"","",""]
[{"$f":"IF(RawData!A511<>\"\", RawData!A511,\"\")","v":""},{"$f":"IF(RawData!B511<>\"\", RawData!B511,\"\")","v":""},{"$f":"IF(RawData!C511<>\"\", RawData!C511,\"\")","v":""},{"$f":"IF(RawData!D511<>\"\", RawData!D511,\"\")","v":""},{"$f":"IF(RawData!E511<>\"\", RawData!E511,\"\")","v":""},{"$f":"IF(RawData!F511<>\"\", RawData!F511,\"\")","v":""},{"$f":"IF(RawData!G511<>\"\", RawData!G511,\"\")","v":""},{"$f":"IF(RawData!H511<>\"\", RawData!H511,\"\")","v":""},{"$f":"IF(RawData!I511<>\"\", RawData!I511,\"\")","v":""},{"$f":"IF(RawData!J511<>\"\", RawData!J511,\"\")","v":""},"","","","","",false,false,false,false,false,"","",""]
[{"$f":"IF(RawData!A512<>\"\", RawData!A512,\"\")","v":""},{"$f":"IF(RawData!B512<>\"\", RawData!B512,\"\")","v":""},{"$f":"IF(RawData!C512<>\"\", RawData!C512,\"\")","v":""},{"$f":"IF(RawData!D512<>\"\", RawData!D512,\"\")","v":""},{"$f":"IF(RawData!E512<>\"\", RawData!E512,\"\")","v":""},{"$f":"IF(RawData!F512<>\"\", RawData!F512,\"\")","v":""},{"$f":"IF(RawData!G512<>\"\", RawData!G512,\"\")","v":""},{"$f":"IF(RawData!H512<>\"\", RawData!H512,\"\")","v":""},{"$f":"IF(RawData!I512<>\"\", RawData!I512,\"\")","v":""},{"$f":"IF(RawData!J512<>\"\", RawData!J512,\"\")","v":""},"","","","","",false,false,false,false,false,"","",""]
[{"$f":"IF(RawData!A513<>\"\", RawData!A513,\"\")","v":""},{"$f":"IF(RawData!B513<>\"\", RawData!B513,\"\")","v":""},{"$f":"IF(RawData!C513<>\"\", RawData!C513,\"\")","v":""},{"$f":"IF(RawData!D513<>\"\", RawData!D513,\"\")","v":""},{"$f":"IF(RawData!E513<>\"\", RawData!E513,\"\")","v":""},{"$f":"IF(RawData!F513<>\"\", RawData!F513,\"\")","v":""},{"$f":"IF(RawData!G513<>\"\", RawData!G513,\"\")","v":""},{"$f":"IF(RawData!H513<>\"\", RawData!H513,\"\")","v":""},{"$f":"IF(RawData!I513<>\"\", RawData!I513,\"\")","v":""},{"$f":"IF(RawData!J513<>\"\", RawData!J513,\"\")","v":""},"","","","","",false,false,false,false,false,"","",""]
[{"$f":"IF(RawData!A514<>\"\", RawData!A514,\"\")","v":""},{"$f":"IF(RawData!B514<>\"\", RawData!B514,\"\")","v":""},{"$f":"IF(RawData!C514<>\"\", RawData!C514,\"\")","v":""},{"$f":"IF(RawData!D514<>\"\", RawData!D514,\"\")","v":""},{"$f":"IF(RawData!E514<>\"\", RawData!E514,\"\")","v":""},{"$f":"IF(RawData!F514<>\"\", RawData!F514,\"\")","v":""},{"$f":"IF(RawData!G514<>\"\", RawData!G514,\"\")","v":""},{"$f":"IF(RawData!H514<>\"\", RawData!H514,\"\")","v":""},{"$f":"IF(RawData!I514<>\"\", RawData!I514,\"\")","v":""},{"$f":"IF(RawData!J514<>\"\", RawData!J514,\"\")","v":""},"","","","","",false,false,false,false,false,"","",""]
[{"$f":"IF(RawData!A515<>\"\", RawData!A515,\"\")","v":""},{"$f":"IF(RawData!B515<>\"\", RawData!B515,\"\")","v":""},{"$f":"IF(RawData!C515<>\"\", RawData!C515,\"\")","v":""},{"$f":"IF(RawData!D515<>\"\", RawData!D515,\"\")","v":""},{"$f":"IF(RawData!E515<>\"\", RawData!E515,\"\")","v":""},{"$f":"IF(RawData!F515<>\"\", RawData!F515,\"\")","v":""},{"$f":"IF(RawData!G515<>\"\", RawData!G515,\"\")","v":""},{"$f":"IF(RawData!H515<>\"\", RawData!H515,\"\")","v":""},{"$f":"IF(RawData!I515<>\"\", RawData!I515,\"\")","v":""},{"$f":"IF(RawData!J515<>\"\", RawData!J515,\"\")","v":""},"","","","","",false,false,false,false,false,"","",""]
[{"$f":"IF(RawData!A516<>\"\", RawData!A516,\"\")","v":""},{"$f":"IF(RawData!B516<>\"\", RawData!B516,\"\")","v":""},{"$f":"IF(RawData!C516<>\"\", RawData!C516,\"\")","v":""},{"$f":"IF(RawData!D516<>\"\", RawData!D516,\"\")","v":""},{"$f":"IF(RawData!E516<>\"\", RawData!E516,\"\")","v":""},{"$f":"IF(RawData!F516<>\"\", RawData!F516,\"\")","v":""},{"$f":"IF(RawData!G516<>\"\", RawData!G516,\"\")","v":""},{"$f":"IF(RawData!H516<>\"\", RawData!H516,\"\")","v":""},{"$f":"IF(RawData!I516<>\"\", RawData!I516,\"\")","v":""},{"$f":"IF(RawData!J516<>\"\", RawData!J516,\"\")","v":""},"","","","","",false,false,false,false,false,"","",""]
[{"$f":"IF(RawData!A517<>\"\", RawData!A517,\"\")","v":""},{"$f":"IF(RawData!B517<>\"\", RawData!B517,\"\")","v":""},{"$f":"IF(RawData!C517<>\"\", RawData!C517,\"\")","v":""},{"$f":"IF(RawData!D517<>\"\", RawData!D517,\"\")","v":""},{"$f":"IF(RawData!E517<>\"\", RawData!E517,\"\")","v":""},{"$f":"IF(RawData!F517<>\"\", RawData!F517,\"\")","v":""},{"$f":"IF(RawData!G517<>\"\", RawData!G517,\"\")","v":""},{"$f":"IF(RawData!H517<>\"\", RawData!H517,\"\")","v":""},{"$f":"IF(RawData!I517<>\"\", RawData!I517,\"\")","v":""},{"$f":"IF(RawData!J517<>\"\", RawData!J517,\"\")","v":""},"","","","","",false,false,false,false,false,"","",""]
[{"$f":"IF(RawData!A518<>\"\", RawData!A518,\"\")","v":""},{"$f":"IF(RawData!B518<>\"\", RawData!B518,\"\")","v":""},{"$f":"IF(RawData!C518<>\"\", RawData!C518,\"\")","v":""},{"$f":"IF(RawData!D518<>\"\", RawData!D518,\"\")","v":""},{"$f":"IF(RawData!E518<>\"\", RawData!E518,\"\")","v":""},{"$f":"IF(RawData!F518<>\"\", RawData!F518,\"\")","v":""},{"$f":"IF(RawData!G518<>\"\", RawData!G518,\"\")","v":""},{"$f":"IF(RawData!H518<>\"\", RawData!H518,\"\")","v":""},{"$f":"IF(RawData!I518<>\"\", RawData!I518,\"\")","v":""},{"$f":"IF(RawData!J518<>\"\", RawData!J518,\"\")","v":""},"","","","","",false,false,false,false,false,"","",""]
[{"$f":"IF(RawData!A519<>\"\", RawData!A519,\"\")","v":""},{"$f":"IF(RawData!B519<>\"\", RawData!B519,\"\")","v":""},{"$f":"IF(RawData!C519<>\"\", RawData!C519,\"\")","v":""},{"$f":"IF(RawData!D519<>\"\", RawData!D519,\"\")","v":""},{"$f":"IF(RawData!E519<>\"\", RawData!E519,\"\")","v":""},{"$f":"IF(RawData!F519<>\"\", RawData!F519,\"\")","v":""},{"$f":"IF(RawData!G519<>\"\", RawData!G519,\"\")","v":""},{"$f":"IF(RawData!H519<>\"\", RawData!H519,\"\")","v":""},{"$f":"IF(RawData!I519<>\"\", RawData!I519,\"\")","v":""},{"$f":"IF(RawData!J519<>\"\", RawData!J519,\"\")","v":""},"","","",{"$f":"IF(G519<>\"\",IF(G519>=4, 1, 0),\"\")","v":""},"",false,false,false,false,false,"","",""]
[{"$f":"IF(RawData!A520<>\"\", RawData!A520,\"\")","v":""},{"$f":"IF(RawData!B520<>\"\", RawData!B520,\"\")","v":""},{"$f":"IF(RawData!C520<>\"\", RawData!C520,\"\")","v":""},{"$f":"IF(RawData!D520<>\"\", RawData!D520,\"\")","v":""},{"$f":"IF(RawData!E520<>\"\", RawData!E520,\"\")","v":""},{"$f":"IF(RawData!F520<>\"\", RawData!F520,\"\")","v":""},{"$f":"IF(RawData!G520<>\"\", RawData!G520,\"\")","v":""},{"$f":"IF(RawData!H520<>\"\", RawData!H520,\"\")","v":""},{"$f":"IF(RawData!I520<>\"\", RawData!I520,\"\")","v":""},{"$f":"IF(RawData!J520<>\"\", RawData!J520,\"\")","v":""},"","","","","",false,false,false,false,false,"","",""]
[{"$f":"IF(RawData!A521<>\"\", RawData!A521,\"\")","v":""},{"$f":"IF(RawData!B521<>\"\", RawData!B521,\"\")","v":""},{"$f":"IF(RawData!C521<>\"\", RawData!C521,\"\")","v":""},{"$f":"IF(RawData!D521<>\"\", RawData!D521,\"\")","v":""},{"$f":"IF(RawData!E521<>\"\", RawData!E521,\"\")","v":""},{"$f":"IF(RawData!F521<>\"\", RawData!F521,\"\")","v":""},{"$f":"IF(RawData!G521<>\"\", RawData!G521,\"\")","v":""},{"$f":"IF(RawData!H521<>\"\", RawData!H521,\"\")","v":""},{"$f":"IF(RawData!I521<>\"\", RawData!I521,\"\")","v":""},{"$f":"IF(RawData!J521<>\"\", RawData!J521,\"\")","v":""},"","","","","",false,false,false,false,false,"","",""]
[{"$f":"IF(RawData!A522<>\"\", RawData!A522,\"\")","v":""},{"$f":"IF(RawData!B522<>\"\", RawData!B522,\"\")","v":""},{"$f":"IF(RawData!C522<>\"\", RawData!C522,\"\")","v":""},{"$f":"IF(RawData!D522<>\"\", RawData!D522,\"\")","v":""},{"$f":"IF(RawData!E522<>\"\", RawData!E522,\"\")","v":""},{"$f":"IF(RawData!F522<>\"\", RawData!F522,\"\")","v":""},{"$f":"IF(RawData!G522<>\"\", RawData!G522,\"\")","v":""},{"$f":"IF(RawData!H522<>\"\", RawData!H522,\"\")","v":""},{"$f":"IF(RawData!I522<>\"\", RawData!I522,\"\")","v":""},{"$f":"IF(RawData!J522<>\"\", RawData!J522,\"\")","v":""},"","","","","",false,false,false,false,false,"","",""]
[{"$f":"IF(RawData!A523<>\"\", RawData!A523,\"\")","v":""},{"$f":"IF(RawData!B523<>\"\", RawData!B523,\"\")","v":""},{"$f":"IF(RawData!C523<>\"\", RawData!C523,\"\")","v":""},{"$f":"IF(RawData!D523<>\"\", RawData!D523,\"\")","v":""},{"$f":"IF(RawData!E523<>\"\", RawData!E523,\"\")","v":""},{"$f":"IF(RawData!F523<>\"\", RawData!F523,\"\")","v":""},{"$f":"IF(RawData!G523<>\"\", RawData!G523,\"\")","v":""},{"$f":"IF(RawData!H523<>\"\", RawData!H523,\"\")","v":""},{"$f":"IF(RawData!I523<>\"\", RawData!I523,\"\")","v":""},{"$f":"IF(RawData!J523<>\"\", RawData!J523,\"\")","v":""},"","","","","",false,false,false,false,false,"","",""]
[{"$f":"IF(RawData!A524<>\"\", RawData!A524,\"\")","v":""},{"$f":"IF(RawData!B524<>\"\", RawData!B524,\"\")","v":""},{"$f":"IF(RawData!C524<>\"\", RawData!C524,\"\")","v":""},{"$f":"IF(RawData!D524<>\"\", RawData!D524,\"\")","v":""},{"$f":"IF(RawData!E524<>\"\", RawData!E524,\"\")","v":""},{"$f":"IF(RawData!F524<>\"\", RawData!F524,\"\")","v":""},{"$f":"IF(RawData!G524<>\"\", RawData!G524,\"\")","v":""},{"$f":"IF(RawData!H524<>\"\", RawData!H524,\"\")","v":""},{"$f":"IF(RawData!I524<>\"\", RawData!I524,\"\")","v":""},{"$f":"IF(RawData!J524<>\"\", RawData!J524,\"\")","v":""},"","","","","",false,false,false,false,false,"","",""]
[{"$f":"IF(RawData!A525<>\"\", RawData!A525,\"\")","v":""},{"$f":"IF(RawData!B525<>\"\", RawData!B525,\"\")","v":""},{"$f":"IF(RawData!C525<>\"\", RawData!C525,\"\")","v":""},{"$f":"IF(RawData!D525<>\"\", RawData!D525,\"\")","v":""},{"$f":"IF(RawData!E525<>\"\", RawData!E525,\"\")","v":""},{"$f":"IF(RawData!F525<>\"\", RawData!F525,\"\")","v":""},{"$f":"IF(RawData!G525<>\"\", RawData!G525,\"\")","v":""},{"$f":"IF(RawData!H525<>\"\", RawData!H525,\"\")","v":""},{"$f":"IF(RawData!I525<>\"\", RawData!I525,\"\")","v":""},{"$f":"IF(RawData!J525<>\"\", RawData!J525,\"\")","v":""},"","","","","",false,false,false,false,false,"","",""]
[{"$f":"IF(RawData!A526<>\"\", RawData!A526,\"\")","v":""},{"$f":"IF(RawData!B526<>\"\", RawData!B526,\"\")","v":""},{"$f":"IF(RawData!C526<>\"\", RawData!C526,\"\")","v":""},{"$f":"IF(RawData!D526<>\"\", RawData!D526,\"\")","v":""},{"$f":"IF(RawData!E526<>\"\", RawData!E526,\"\")","v":""},{"$f":"IF(RawData!F526<>\"\", RawData!F526,\"\")","v":""},{"$f":"IF(RawData!G526<>\"\", RawData!G526,\"\")","v":""},{"$f":"IF(RawData!H526<>\"\", RawData!H526,\"\")","v":""},{"$f":"IF(RawData!I526<>\"\", RawData!I526,\"\")","v":""},{"$f":"IF(RawData!J526<>\"\", RawData!J526,\"\")","v":""},"","","","","",false,false,false,false,false,"","",""]
[{"$f":"IF(RawData!A527<>\"\", RawData!A527,\"\")","v":""},{"$f":"IF(RawData!B527<>\"\", RawData!B527,\"\")","v":""},{"$f":"IF(RawData!C527<>\"\", RawData!C527,\"\")","v":""},{"$f":"IF(RawData!D527<>\"\", RawData!D527,\"\")","v":""},{"$f":"IF(RawData!E527<>\"\", RawData!E527,\"\")","v":""},{"$f":"IF(RawData!F527<>\"\", RawData!F527,\"\")","v":""},{"$f":"IF(RawData!G527<>\"\", RawData!G527,\"\")","v":""},{"$f":"IF(RawData!H527<>\"\", RawData!H527,\"\")","v":""},{"$f":"IF(RawData!I527<>\"\", RawData!I527,\"\")","v":""},{"$f":"IF(RawData!J527<>\"\", RawData!J527,\"\")","v":""},"","","","","",false,false,false,false,false,"","",""]
[{"$f":"IF(RawData!A528<>\"\", RawData!A528,\"\")","v":""},{"$f":"IF(RawData!B528<>\"\", RawData!B528,\"\")","v":""},{"$f":"IF(RawData!C528<>\"\", RawData!C528,\"\")","v":""},{"$f":"IF(RawData!D528<>\"\", RawData!D528,\"\")","v":""},{"$f":"IF(RawData!E528<>\"\", RawData!E528,\"\")","v":""},{"$f":"IF(RawData!F528<>\"\", RawData!F528,\"\")","v":""},{"$f":"IF(RawData!G528<>\"\", RawData!G528,\"\")","v":""},{"$f":"IF(RawData!H528<>\"\", RawData!H528,\"\")","v":""},{"$f":"IF(RawData!I528<>\"\", RawData!I528,\"\")","v":""},{"$f":"IF(RawData!J528<>\"\", RawData!J528,\"\")","v":""},"","","","","",false,false,false,false,false,"","",""]
[{"$f":"IF(RawData!A529<>\"\", RawData!A529,\"\")","v":""},{"$f":"IF(RawData!B529<>\"\", RawData!B529,\"\")","v":""},{"$f":"IF(RawData!C529<>\"\", RawData!C529,\"\")","v":""},{"$f":"IF(RawData!D529<>\"\", RawData!D529,\"\")","v":""},{"$f":"IF(RawData!E529<>\"\", RawData!E529,\"\")","v":""},{"$f":"IF(RawData!F529<>\"\", RawData!F529,\"\")","v":""},{"$f":"IF(RawData!G529<>\"\", RawData!G529,\"\")","v":""},{"$f":"IF(RawData!H529<>\"\", RawData!H529,\"\")","v":""},{"$f":"IF(RawData!I529<>\"\", RawData!I529,\"\")","v":""},{"$f":"IF(RawData!J529<>\"\", RawData!J529,\"\")","v":""},"","","","","",false,false,false,false,false,"","",""]
[{"$f":"IF(RawData!A530<>\"\", RawData!A530,\"\")","v":""},{"$f":"IF(RawData!B530<>\"\", RawData!B530,\"\")","v":""},{"$f":"IF(RawData!C530<>\"\", RawData!C530,\"\")","v":""},{"$f":"IF(RawData!D530<>\"\", RawData!D530,\"\")","v":""},{"$f":"IF(RawData!E530<>\"\", RawData!E530,\"\")","v":""},{"$f":"IF(RawData!F530<>\"\", RawData!F530,\"\")","v":""},{"$f":"IF(RawData!G530<>\"\", RawData!G530,\"\")","v":""},{"$f":"IF(RawData!H530<>\"\", RawData!H530,\"\")","v":""},{"$f":"IF(RawData!I530<>\"\", RawData!I530,\"\")","v":""},{"$f":"IF(RawData!J530<>\"\", RawData!J530,\"\")","v":""},"","","","","",false,false,false,false,false,"","",""]
[{"$f":"IF(RawData!A531<>\"\", RawData!A531,\"\")","v":""},{"$f":"IF(RawData!B531<>\"\", RawData!B531,\"\")","v":""},{"$f":"IF(RawData!C531<>\"\", RawData!C531,\"\")","v":""},{"$f":"IF(RawData!D531<>\"\", RawData!D531,\"\")","v":""},{"$f":"IF(RawData!E531<>\"\", RawData!E531,\"\")","v":""},{"$f":"IF(RawData!F531<>\"\", RawData!F531,\"\")","v":""},{"$f":"IF(RawData!G531<>\"\", RawData!G531,\"\")","v":""},{"$f":"IF(RawData!H531<>\"\", RawData!H531,\"\")","v":""},{"$f":"IF(RawData!I531<>\"\", RawData!I531,\"\")","v":""},{"$f":"IF(RawData!J531<>\"\", RawData!J531,\"\")","v":""},"","","","","",false,false,false,false,false,"","",""]
[{"$f":"IF(RawData!A532<>\"\", RawData!A532,\"\")","v":""},{"$f":"IF(RawData!B532<>\"\", RawData!B532,\"\")","v":""},{"$f":"IF(RawData!C532<>\"\", RawData!C532,\"\")","v":""},{"$f":"IF(RawData!D532<>\"\", RawData!D532,\"\")","v":""},{"$f":"IF(RawData!E532<>\"\", RawData!E532,\"\")","v":""},{"$f":"IF(RawData!F532<>\"\", RawData!F532,\"\")","v":""},{"$f":"IF(RawData!G532<>\"\", RawData!G532,\"\")","v":""},{"$f":"IF(RawData!H532<>\"\", RawData!H532,\"\")","v":""},{"$f":"IF(RawData!I532<>\"\", RawData!I532,\"\")","v":""},{"$f":"IF(RawData!J532<>\"\", RawData!J532,\"\")","v":""},"","","","","",false,false,false,false,false,"","",""]
[{"$f":"IF(RawData!A533<>\"\", RawData!A533,\"\")","v":""},{"$f":"IF(RawData!B533<>\"\", RawData!B533,\"\")","v":""},{"$f":"IF(RawData!C533<>\"\", RawData!C533,\"\")","v":""},{"$f":"IF(RawData!D533<>\"\", RawData!D533,\"\")","v":""},{"$f":"IF(RawData!E533<>\"\", RawData!E533,\"\")","v":""},{"$f":"IF(RawData!F533<>\"\", RawData!F533,\"\")","v":""},{"$f":"IF(RawData!G533<>\"\", RawData!G533,\"\")","v":""},{"$f":"IF(RawData!H533<>\"\", RawData!H533,\"\")","v":""},{"$f":"IF(RawData!I533<>\"\", RawData!I533,\"\")","v":""},{"$f":"IF(RawData!J533<>\"\", RawData!J533,\"\")","v":""},"","","","","",false,false,false,false,false,"","",""]
[{"$f":"IF(RawData!A534<>\"\", RawData!A534,\"\")","v":""},{"$f":"IF(RawData!B534<>\"\", RawData!B534,\"\")","v":""},{"$f":"IF(RawData!C534<>\"\", RawData!C534,\"\")","v":""},{"$f":"IF(RawData!D534<>\"\", RawData!D534,\"\")","v":""},{"$f":"IF(RawData!E534<>\"\", RawData!E534,\"\")","v":""},{"$f":"IF(RawData!F534<>\"\", RawData!F534,\"\")","v":""},{"$f":"IF(RawData!G534<>\"\", RawData!G534,\"\")","v":""},{"$f":"IF(RawData!H534<>\"\", RawData!H534,\"\")","v":""},{"$f":"IF(RawData!I534<>\"\", RawData!I534,\"\")","v":""},{"$f":"IF(RawData!J534<>\"\", RawData!J534,\"\")","v":""},"","","","","",false,false,false,false,false,"","",""]
[{"$f":"IF(RawData!A535<>\"\", RawData!A535,\"\")","v":""},{"$f":"IF(RawData!B535<>\"\", RawData!B535,\"\")","v":""},{"$f":"IF(RawData!C535<>\"\", RawData!C535,\"\")","v":""},{"$f":"IF(RawData!D535<>\"\", RawData!D535,\"\")","v":""},{"$f":"IF(RawData!E535<>\"\", RawData!E535,\"\")","v":""},{"$f":"IF(RawData!F535<>\"\", RawData!F535,\"\")","v":""},{"$f":"IF(RawData!G535<>\"\", RawData!G535,\"\")","v":""},{"$f":"IF(RawData!H535<>\"\", RawData!H535,\"\")","v":""},{"$f":"IF(RawData!I535<>\"\", RawData!I535,\"\")","v":""},{"$f":"IF(RawData!J535<>\"\", RawData!J535,\"\")","v":""},"","","","","",false,false,false,false,false,"","",""]
[{"$f":"IF(RawData!A536<>\"\", RawData!A536,\"\")","v":""},{"$f":"IF(RawData!B536<>\"\", RawData!B536,\"\")","v":""},{"$f":"IF(RawData!C536<>\"\", RawData!C536,\"\")","v":""},{"$f":"IF(RawData!D536<>\"\", RawData!D536,\"\")","v":""},{"$f":"IF(RawData!E536<>\"\", RawData!E536,\"\")","v":""},{"$f":"IF(RawData!F536<>\"\", RawData!F536,\"\")","v":""},{"$f":"IF(RawData!G536<>\"\", RawData!G536,\"\")","v":""},{"$f":"IF(RawData!H536<>\"\", RawData!H536,\"\")","v":""},{"$f":"IF(RawData!I536<>\"\", RawData!I536,\"\")","v":""},{"$f":"IF(RawData!J536<>\"\", RawData!J536,\"\")","v":""},"","","","","",false,false,false,false,false,"","",""]
[{"$f":"IF(RawData!A537<>\"\", RawData!A537,\"\")","v":""},{"$f":"IF(RawData!B537<>\"\", RawData!B537,\"\")","v":""},{"$f":"IF(RawData!C537<>\"\", RawData!C537,\"\")","v":""},{"$f":"IF(RawData!D537<>\"\", RawData!D537,\"\")","v":""},{"$f":"IF(RawData!E537<>\"\", RawData!E537,\"\")","v":""},{"$f":"IF(RawData!F537<>\"\", RawData!F537,\"\")","v":""},{"$f":"IF(RawData!G537<>\"\", RawData!G537,\"\")","v":""},{"$f":"IF(RawData!H537<>\"\", RawData!H537,\"\")","v":""},{"$f":"IF(RawData!I537<>\"\", RawData!I537,\"\")","v":""},{"$f":"IF(RawData!J537<>\"\", RawData!J537,\"\")","v":""},"","","","","",false,false,false,false,false,"","",""]
[{"$f":"IF(RawData!A538<>\"\", RawData!A538,\"\")","v":""},{"$f":"IF(RawData!B538<>\"\", RawData!B538,\"\")","v":""},{"$f":"IF(RawData!C538<>\"\", RawData!C538,\"\")","v":""},{"$f":"IF(RawData!D538<>\"\", RawData!D538,\"\")","v":""},{"$f":"IF(RawData!E538<>\"\", RawData!E538,\"\")","v":""},{"$f":"IF(RawData!F538<>\"\", RawData!F538,\"\")","v":""},{"$f":"IF(RawData!G538<>\"\", RawData!G538,\"\")","v":""},{"$f":"IF(RawData!H538<>\"\", RawData!H538,\"\")","v":""},{"$f":"IF(RawData!I538<>\"\", RawData!I538,\"\")","v":""},{"$f":"IF(RawData!J538<>\"\", RawData!J538,\"\")","v":""},"","","","","",false,false,false,false,false,"","",""]
[{"$f":"IF(RawData!A539<>\"\", RawData!A539,\"\")","v":""},{"$f":"IF(RawData!B539<>\"\", RawData!B539,\"\")","v":""},{"$f":"IF(RawData!C539<>\"\", RawData!C539,\"\")","v":""},{"$f":"IF(RawData!D539<>\"\", RawData!D539,\"\")","v":""},{"$f":"IF(RawData!E539<>\"\", RawData!E539,\"\")","v":""},{"$f":"IF(RawData!F539<>\"\", RawData!F539,\"\")","v":""},{"$f":"IF(RawData!G539<>\"\", RawData!G539,\"\")","v":""},{"$f":"IF(RawData!H539<>\"\", RawData!H539,\"\")","v":""},{"$f":"IF(RawData!I539<>\"\", RawData!I539,\"\")","v":""},{"$f":"IF(RawData!J539<>\"\", RawData!J539,\"\")","v":""},"","","","","",false,false,false,false,false,"","",""]
[{"$f":"IF(RawData!A540<>\"\", RawData!A540,\"\")","v":""},{"$f":"IF(RawData!B540<>\"\", RawData!B540,\"\")","v":""},{"$f":"IF(RawData!C540<>\"\", RawData!C540,\"\")","v":""},{"$f":"IF(RawData!D540<>\"\", RawData!D540,\"\")","v":""},{"$f":"IF(RawData!E540<>\"\", RawData!E540,\"\")","v":""},{"$f":"IF(RawData!F540<>\"\", RawData!F540,\"\")","v":""},{"$f":"IF(RawData!G540<>\"\", RawData!G540,\"\")","v":""},{"$f":"IF(RawData!H540<>\"\", RawData!H540,\"\")","v":""},{"$f":"IF(RawData!I540<>\"\", RawData!I540,\"\")","v":""},{"$f":"IF(RawData!J540<>\"\", RawData!J540,\"\")","v":""},"","","","","",false,false,false,false,false,"","",""]
[{"$f":"IF(RawData!A541<>\"\", RawData!A541,\"\")","v":""},{"$f":"IF(RawData!B541<>\"\", RawData!B541,\"\")","v":""},{"$f":"IF(RawData!C541<>\"\", RawData!C541,\"\")","v":""},{"$f":"IF(RawData!D541<>\"\", RawData!D541,\"\")","v":""},{"$f":"IF(RawData!E541<>\"\", RawData!E541,\"\")","v":""},{"$f":"IF(RawData!F541<>\"\", RawData!F541,\"\")","v":""},{"$f":"IF(RawData!G541<>\"\", RawData!G541,\"\")","v":""},{"$f":"IF(RawData!H541<>\"\", RawData!H541,\"\")","v":""},{"$f":"IF(RawData!I541<>\"\", RawData!I541,\"\")","v":""},{"$f":"IF(RawData!J541<>\"\", RawData!J541,\"\")","v":""},"","","","","",false,false,false,false,false,"","",""]
[{"$f":"IF(RawData!A542<>\"\", RawData!A542,\"\")","v":""},{"$f":"IF(RawData!B542<>\"\", RawData!B542,\"\")","v":""},{"$f":"IF(RawData!C542<>\"\", RawData!C542,\"\")","v":""},{"$f":"IF(RawData!D542<>\"\", RawData!D542,\"\")","v":""},{"$f":"IF(RawData!E542<>\"\", RawData!E542,\"\")","v":""},{"$f":"IF(RawData!F542<>\"\", RawData!F542,\"\")","v":""},{"$f":"IF(RawData!G542<>\"\", RawData!G542,\"\")","v":""},{"$f":"IF(RawData!H542<>\"\", RawData!H542,\"\")","v":""},{"$f":"IF(RawData!I542<>\"\", RawData!I542,\"\")","v":""},{"$f":"IF(RawData!J542<>\"\", RawData!J542,\"\")","v":""},"","","","","",false,false,false,false,false,"","",""]
[{"$f":"IF(RawData!A543<>\"\", RawData!A543,\"\")","v":""},{"$f":"IF(RawData!B543<>\"\", RawData!B543,\"\")","v":""},{"$f":"IF(RawData!C543<>\"\", RawData!C543,\"\")","v":""},{"$f":"IF(RawData!D543<>\"\", RawData!D543,\"\")","v":""},{"$f":"IF(RawData!E543<>\"\", RawData!E543,\"\")","v":""},{"$f":"IF(RawData!F543<>\"\", RawData!F543,\"\")","v":""},{"$f":"IF(RawData!G543<>\"\", RawData!G543,\"\")","v":""},{"$f":"IF(RawData!H543<>\"\", RawData!H543,\"\")","v":""},{"$f":"IF(RawData!I543<>\"\", RawData!I543,\"\")","v":""},{"$f":"IF(RawData!J543<>\"\", RawData!J543,\"\")","v":""},"","","","","",false,false,false,false,false,"","",""]
[{"$f":"IF(RawData!A544<>\"\", RawData!A544,\"\")","v":""},{"$f":"IF(RawData!B544<>\"\", RawData!B544,\"\")","v":""},{"$f":"IF(RawData!C544<>\"\", RawData!C544,\"\")","v":""},{"$f":"IF(RawData!D544<>\"\", RawData!D544,\"\")","v":""},{"$f":"IF(RawData!E544<>\"\", RawData!E544,\"\")","v":""},{"$f":"IF(RawData!F544<>\"\", RawData!F544,\"\")","v":""},{"$f":"IF(RawData!G544<>\"\", RawData!G544,\"\")","v":""},{"$f":"IF(RawData!H544<>\"\", RawData!H544,\"\")","v":""},{"$f":"IF(RawData!I544<>\"\", RawData!I544,\"\")","v":""},{"$f":"IF(RawData!J544<>\"\", RawData!J544,\"\")","v":""},"","","","","",false,false,false,false,false,"","",""]
[{"$f":"IF(RawData!A545<>\"\", RawData!A545,\"\")","v":""},{"$f":"IF(RawData!B545<>\"\", RawData!B545,\"\")","v":""},{"$f":"IF(RawData!C545<>\"\", RawData!C545,\"\")","v":""},{"$f":"IF(RawData!D545<>\"\", RawData!D545,\"\")","v":""},{"$f":"IF(RawData!E545<>\"\", RawData!E545,\"\")","v":""},{"$f":"IF(RawData!F545<>\"\", RawData!F545,\"\")","v":""},{"$f":"IF(RawData!G545<>\"\", RawData!G545,\"\")","v":""},{"$f":"IF(RawData!H545<>\"\", RawData!H545,\"\")","v":""},{"$f":"IF(RawData!I545<>\"\", RawData!I545,\"\")","v":""},{"$f":"IF(RawData!J545<>\"\", RawData!J545,\"\")","v":""},"","","","","",false,false,false,false,false,"","",""]
[{"$f":"IF(RawData!A546<>\"\", RawData!A546,\"\")","v":""},{"$f":"IF(RawData!B546<>\"\", RawData!B546,\"\")","v":""},{"$f":"IF(RawData!C546<>\"\", RawData!C546,\"\")","v":""},{"$f":"IF(RawData!D546<>\"\", RawData!D546,\"\")","v":""},{"$f":"IF(RawData!E546<>\"\", RawData!E546,\"\")","v":""},{"$f":"IF(RawData!F546<>\"\", RawData!F546,\"\")","v":""},{"$f":"IF(RawData!G546<>\"\", RawData!G546,\"\")","v":""},{"$f":"IF(RawData!H546<>\"\", RawData!H546,\"\")","v":""},{"$f":"IF(RawData!I546<>\"\", RawData!I546,\"\")","v":""},{"$f":"IF(RawData!J546<>\"\", RawData!J546,\"\")","v":""},"","","","","",false,false,false,false,false,"","",""]
[{"$f":"IF(RawData!A547<>\"\", RawData!A547,\"\")","v":""},{"$f":"IF(RawData!B547<>\"\", RawData!B547,\"\")","v":""},{"$f":"IF(RawData!C547<>\"\", RawData!C547,\"\")","v":""},{"$f":"IF(RawData!D547<>\"\", RawData!D547,\"\")","v":""},{"$f":"IF(RawData!E547<>\"\", RawData!E547,\"\")","v":""},{"$f":"IF(RawData!F547<>\"\", RawData!F547,\"\")","v":""},{"$f":"IF(RawData!G547<>\"\", RawData!G547,\"\")","v":""},{"$f":"IF(RawData!H547<>\"\", RawData!H547,\"\")","v":""},{"$f":"IF(RawData!I547<>\"\", RawData!I547,\"\")","v":""},{"$f":"IF(RawData!J547<>\"\", RawData!J547,\"\")","v":""},"","","","","",false,false,false,false,false,"","",""]
[{"$f":"IF(RawData!A548<>\"\", RawData!A548,\"\")","v":""},{"$f":"IF(RawData!B548<>\"\", RawData!B548,\"\")","v":""},{"$f":"IF(RawData!C548<>\"\", RawData!C548,\"\")","v":""},{"$f":"IF(RawData!D548<>\"\", RawData!D548,\"\")","v":""},{"$f":"IF(RawData!E548<>\"\", RawData!E548,\"\")","v":""},{"$f":"IF(RawData!F548<>\"\", RawData!F548,\"\")","v":""},{"$f":"IF(RawData!G548<>\"\", RawData!G548,\"\")","v":""},{"$f":"IF(RawData!H548<>\"\", RawData!H548,\"\")","v":""},{"$f":"IF(RawData!I548<>\"\", RawData!I548,\"\")","v":""},{"$f":"IF(RawData!J548<>\"\", RawData!J548,\"\")","v":""},"","","","","",false,false,false,false,false,"","",""]
[{"$f":"IF(RawData!A549<>\"\", RawData!A549,\"\")","v":""},{"$f":"IF(RawData!B549<>\"\", RawData!B549,\"\")","v":""},{"$f":"IF(RawData!C549<>\"\", RawData!C549,\"\")","v":""},{"$f":"IF(RawData!D549<>\"\", RawData!D549,\"\")","v":""},{"$f":"IF(RawData!E549<>\"\", RawData!E549,\"\")","v":""},{"$f":"IF(RawData!F549<>\"\", RawData!F549,\"\")","v":""},{"$f":"IF(RawData!G549<>\"\", RawData!G549,\"\")","v":""},{"$f":"IF(RawData!H549<>\"\", RawData!H549,\"\")","v":""},{"$f":"IF(RawData!I549<>\"\", RawData!I549,\"\")","v":""},{"$f":"IF(RawData!J549<>\"\", RawData!J549,\"\")","v":""},"","","","","",false,false,false,false,false,"","",""]
[{"$f":"IF(RawData!A550<>\"\", RawData!A550,\"\")","v":""},{"$f":"IF(RawData!B550<>\"\", RawData!B550,\"\")","v":""},{"$f":"IF(RawData!C550<>\"\", RawData!C550,\"\")","v":""},{"$f":"IF(RawData!D550<>\"\", RawData!D550,\"\")","v":""},{"$f":"IF(RawData!E550<>\"\", RawData!E550,\"\")","v":""},{"$f":"IF(RawData!F550<>\"\", RawData!F550,\"\")","v":""},{"$f":"IF(RawData!G550<>\"\", RawData!G550,\"\")","v":""},{"$f":"IF(RawData!H550<>\"\", RawData!H550,\"\")","v":""},{"$f":"IF(RawData!I550<>\"\", RawData!I550,\"\")","v":""},{"$f":"IF(RawData!J550<>\"\", RawData!J550,\"\")","v":""},"","","","","",false,false,false,false,false,"","",""]
[{"$f":"IF(RawData!A551<>\"\", RawData!A551,\"\")","v":""},{"$f":"IF(RawData!B551<>\"\", RawData!B551,\"\")","v":""},{"$f":"IF(RawData!C551<>\"\", RawData!C551,\"\")","v":""},{"$f":"IF(RawData!D551<>\"\", RawData!D551,\"\")","v":""},{"$f":"IF(RawData!E551<>\"\", RawData!E551,\"\")","v":""},{"$f":"IF(RawData!F551<>\"\", RawData!F551,\"\")","v":""},{"$f":"IF(RawData!G551<>\"\", RawData!G551,\"\")","v":""},{"$f":"IF(RawData!H551<>\"\", RawData!H551,\"\")","v":""},{"$f":"IF(RawData!I551<>\"\", RawData!I551,\"\")","v":""},{"$f":"IF(RawData!J551<>\"\", RawData!J551,\"\")","v":""},"","","","","",false,false,false,false,false,"","",""]
[{"$f":"IF(RawData!A552<>\"\", RawData!A552,\"\")","v":""},{"$f":"IF(RawData!B552<>\"\", RawData!B552,\"\")","v":""},{"$f":"IF(RawData!C552<>\"\", RawData!C552,\"\")","v":""},{"$f":"IF(RawData!D552<>\"\", RawData!D552,\"\")","v":""},{"$f":"IF(RawData!E552<>\"\", RawData!E552,\"\")","v":""},{"$f":"IF(RawData!F552<>\"\", RawData!F552,\"\")","v":""},{"$f":"IF(RawData!G552<>\"\", RawData!G552,\"\")","v":""},{"$f":"IF(RawData!H552<>\"\", RawData!H552,\"\")","v":""},{"$f":"IF(RawData!I552<>\"\", RawData!I552,\"\")","v":""},{"$f":"IF(RawData!J552<>\"\", RawData!J552,\"\")","v":""},"","","","","",false,false,false,false,false,"","",""]
[{"$f":"IF(RawData!A553<>\"\", RawData!A553,\"\")","v":""},{"$f":"IF(RawData!B553<>\"\", RawData!B553,\"\")","v":""},{"$f":"IF(RawData!C553<>\"\", RawData!C553,\"\")","v":""},{"$f":"IF(RawData!D553<>\"\", RawData!D553,\"\")","v":""},{"$f":"IF(RawData!E553<>\"\", RawData!E553,\"\")","v":""},{"$f":"IF(RawData!F553<>\"\", RawData!F553,\"\")","v":""},{"$f":"IF(RawData!G553<>\"\", RawData!G553,\"\")","v":""},{"$f":"IF(RawData!H553<>\"\", RawData!H553,\"\")","v":""},{"$f":"IF(RawData!I553<>\"\", RawData!I553,\"\")","v":""},{"$f":"IF(RawData!J553<>\"\", RawData!J553,\"\")","v":""},"","","","","",false,false,false,false,false,"","",""]
[{"$f":"IF(RawData!A554<>\"\", RawData!A554,\"\")","v":""},{"$f":"IF(RawData!B554<>\"\", RawData!B554,\"\")","v":""},{"$f":"IF(RawData!C554<>\"\", RawData!C554,\"\")","v":""},{"$f":"IF(RawData!D554<>\"\", RawData!D554,\"\")","v":""},{"$f":"IF(RawData!E554<>\"\", RawData!E554,\"\")","v":""},{"$f":"IF(RawData!F554<>\"\", RawData!F554,\"\")","v":""},{"$f":"IF(RawData!G554<>\"\", RawData!G554,\"\")","v":""},{"$f":"IF(RawData!H554<>\"\", RawData!H554,\"\")","v":""},{"$f":"IF(RawData!I554<>\"\", RawData!I554,\"\")","v":""},{"$f":"IF(RawData!J554<>\"\", RawData!J554,\"\")","v":""},"","","","","",false,false,false,false,false,"","",""]
[{"$f":"IF(RawData!A555<>\"\", RawData!A555,\"\")","v":""},{"$f":"IF(RawData!B555<>\"\", RawData!B555,\"\")","v":""},{"$f":"IF(RawData!C555<>\"\", RawData!C555,\"\")","v":""},{"$f":"IF(RawData!D555<>\"\", RawData!D555,\"\")","v":""},{"$f":"IF(RawData!E555<>\"\", RawData!E555,\"\")","v":""},{"$f":"IF(RawData!F555<>\"\", RawData!F555,\"\")","v":""},{"$f":"IF(RawData!G555<>\"\", RawData!G555,\"\")","v":""},{"$f":"IF(RawData!H555<>\"\", RawData!H555,\"\")","v":""},{"$f":"IF(RawData!I555<>\"\", RawData!I555,\"\")","v":""},{"$f":"IF(RawData!J555<>\"\", RawData!J555,\"\")","v":""},"","","","","",false,false,false,false,false,"","",""]
[{"$f":"IF(RawData!A556<>\"\", RawData!A556,\"\")","v":""},{"$f":"IF(RawData!B556<>\"\", RawData!B556,\"\")","v":""},{"$f":"IF(RawData!C556<>\"\", RawData!C556,\"\")","v":""},{"$f":"IF(RawData!D556<>\"\", RawData!D556,\"\")","v":""},{"$f":"IF(RawData!E556<>\"\", RawData!E556,\"\")","v":""},{"$f":"IF(RawData!F556<>\"\", RawData!F556,\"\")","v":""},{"$f":"IF(RawData!G556<>\"\", RawData!G556,\"\")","v":""},{"$f":"IF(RawData!H556<>\"\", RawData!H556,\"\")","v":""},{"$f":"IF(RawData!I556<>\"\", RawData!I556,\"\")","v":""},{"$f":"IF(RawData!J556<>\"\", RawData!J556,\"\")","v":""},"","","","","",false,false,false,false,false,"","",""]
[{"$f":"IF(RawData!A557<>\"\", RawData!A557,\"\")","v":""},{"$f":"IF(RawData!B557<>\"\", RawData!B557,\"\")","v":""},{"$f":"IF(RawData!C557<>\"\", RawData!C557,\"\")","v":""},{"$f":"IF(RawData!D557<>\"\", RawData!D557,\"\")","v":""},{"$f":"IF(RawData!E557<>\"\", RawData!E557,\"\")","v":""},{"$f":"IF(RawData!F557<>\"\", RawData!F557,\"\")","v":""},{"$f":"IF(RawData!G557<>\"\", RawData!G557,\"\")","v":""},{"$f":"IF(RawData!H557<>\"\", RawData!H557,\"\")","v":""},{"$f":"IF(RawData!I557<>\"\", RawData!I557,\"\")","v":""},{"$f":"IF(RawData!J557<>\"\", RawData!J557,\"\")","v":""},"","","","","",false,false,false,false,false,"","",""]
[{"$f":"IF(RawData!A558<>\"\", RawData!A558,\"\")","v":""},{"$f":"IF(RawData!B558<>\"\", RawData!B558,\"\")","v":""},{"$f":"IF(RawData!C558<>\"\", RawData!C558,\"\")","v":""},{"$f":"IF(RawData!D558<>\"\", RawData!D558,\"\")","v":""},{"$f":"IF(RawData!E558<>\"\", RawData!E558,\"\")","v":""},{"$f":"IF(RawData!F558<>\"\", RawData!F558,\"\")","v":""},{"$f":"IF(RawData!G558<>\"\", RawData!G558,\"\")","v":""},{"$f":"IF(RawData!H558<>\"\", RawData!H558,\"\")","v":""},{"$f":"IF(RawData!I558<>\"\", RawData!I558,\"\")","v":""},{"$f":"IF(RawData!J558<>\"\", RawData!J558,\"\")","v":""},"","","","","",false,false,false,false,false,"","",""]
[{"$f":"IF(RawData!A559<>\"\", RawData!A559,\"\")","v":""},{"$f":"IF(RawData!B559<>\"\", RawData!B559,\"\")","v":""},{"$f":"IF(RawData!C559<>\"\", RawData!C559,\"\")","v":""},{"$f":"IF(RawData!D559<>\"\", RawData!D559,\"\")","v":""},{"$f":"IF(RawData!E559<>\"\", RawData!E559,\"\")","v":""},{"$f":"IF(RawData!F559<>\"\", RawData!F559,\"\")","v":""},{"$f":"IF(RawData!G559<>\"\", RawData!G559,\"\")","v":""},{"$f":"IF(RawData!H559<>\"\", RawData!H559,\"\")","v":""},{"$f":"IF(RawData!I559<>\"\", RawData!I559,\"\")","v":""},{"$f":"IF(RawData!J559<>\"\", RawData!J559,\"\")","v":""},"","","","","",false,false,false,false,false,"","",""]
[{"$f":"IF(RawData!A560<>\"\", RawData!A560,\"\")","v":""},{"$f":"IF(RawData!B560<>\"\", RawData!B560,\"\")","v":""},{"$f":"IF(RawData!C560<>\"\", RawData!C560,\"\")","v":""},{"$f":"IF(RawData!D560<>\"\", RawData!D560,\"\")","v":""},{"$f":"IF(RawData!E560<>\"\", RawData!E560,\"\")","v":""},{"$f":"IF(RawData!F560<>\"\", RawData!F560,\"\")","v":""},{"$f":"IF(RawData!G560<>\"\", RawData!G560,\"\")","v":""},{"$f":"IF(RawData!H560<>\"\", RawData!H560,\"\")","v":""},{"$f":"IF(RawData!I560<>\"\", RawData!I560,\"\")","v":""},{"$f":"IF(RawData!J560<>\"\", RawData!J560,\"\")","v":""},"","","","","",false,false,false,false,false,"","",""]
[{"$f":"IF(RawData!A561<>\"\", RawData!A561,\"\")","v":""},{"$f":"IF(RawData!B561<>\"\", RawData!B561,\"\")","v":""},{"$f":"IF(RawData!C561<>\"\", RawData!C561,\"\")","v":""},{"$f":"IF(RawData!D561<>\"\", RawData!D561,\"\")","v":""},{"$f":"IF(RawData!E561<>\"\", RawData!E561,\"\")","v":""},{"$f":"IF(RawData!F561<>\"\", RawData!F561,\"\")","v":""},{"$f":"IF(RawData!G561<>\"\", RawData!G561,\"\")","v":""},{"$f":"IF(RawData!H561<>\"\", RawData!H561,\"\")","v":""},{"$f":"IF(RawData!I561<>\"\", RawData!I561,\"\")","v":""},{"$f":"IF(RawData!J561<>\"\", RawData!J561,\"\")","v":""},"","","","","",false,false,false,false,false,"","",""]
[{"$f":"IF(RawData!A562<>\"\", RawData!A562,\"\")","v":""},{"$f":"IF(RawData!B562<>\"\", RawData!B562,\"\")","v":""},{"$f":"IF(RawData!C562<>\"\", RawData!C562,\"\")","v":""},{"$f":"IF(RawData!D562<>\"\", RawData!D562,\"\")","v":""},{"$f":"IF(RawData!E562<>\"\", RawData!E562,\"\")","v":""},{"$f":"IF(RawData!F562<>\"\", RawData!F562,\"\")","v":""},{"$f":"IF(RawData!G562<>\"\", RawData!G562,\"\")","v":""},{"$f":"IF(RawData!H562<>\"\", RawData!H562,\"\")","v":""},{"$f":"IF(RawData!I562<>\"\", RawData!I562,\"\")","v":""},{"$f":"IF(RawData!J562<>\"\", RawData!J562,\"\")","v":""},{"$f":"IF(G562<>\"\",IF(G562<3, 1, 0),\"\")","v":""},{"$f":"IF(G562<>\"\",IF(G562>=1, 1, 0),\"\")","v":""},{"$f":"IF(G562<>\"\",IF(AND(G562>=1,G562<=7), 1, 0),\"\")","v":""},"",{"$f":"IF(G562<>\"\",IF(G562>=8, 1, 0),\"\")","v":""},false,false,false,false,false,{"$f":"IF(H562<>\"\",IF(H562=1,IF(J562=4, 1, 0),\"\"),\"\")","v":""},"",""]
[{"$f":"IF(RawData!A563<>\"\", RawData!A563,\"\")","v":""},{"$f":"IF(RawData!B563<>\"\", RawData!B563,\"\")","v":""},{"$f":"IF(RawData!C563<>\"\", RawData!C563,\"\")","v":""},{"$f":"IF(RawData!D563<>\"\", RawData!D563,\"\")","v":""},{"$f":"IF(RawData!E563<>\"\", RawData!E563,\"\")","v":""},{"$f":"IF(RawData!F563<>\"\", RawData!F563,\"\")","v":""},{"$f":"IF(RawData!G563<>\"\", RawData!G563,\"\")","v":""},{"$f":"IF(RawData!H563<>\"\", RawData!H563,\"\")","v":""},{"$f":"IF(RawData!I563<>\"\", RawData!I563,\"\")","v":""},{"$f":"IF(RawData!J563<>\"\", RawData!J563,\"\")","v":""},"","","","","",{"$f":"IF(L563<>\"\", IF(J563<>\"\",IF(L563=0,IF(J563=1, 1, 0),\"\")))","v":false},{"$f":"IF(K563<>\"\",IF(J563<>\"\",IF(K563=1,IF(J563=1, 1, 0),\"\")))","v":false},{"$f":"IF(M563<>\"\",IF(J563<>\"\",IF(M563=1,IF(J563=2, 1, 0),\"\")))","v":false},{"$f":"IF(N563<>\"\",IF(J563<>\"\",IF(N563=1,IF(J563=3, 1, 0),\"\")))","v":false},{"$f":"IF(O563<>\"\",IF(J563<>\"\",IF(O563=1,IF(J563=4, 1, 0),\"\")))","v":false},"",{"$f":"IF(J563<>\"\",IF(OR(P563=1,Q563=1,R563=1,S563=1, T563=1, U563=1),1,0),\"\")","v":""},{"$f":"IF(J563<>\"\",IF(AND(J563<>0,V563=0),1,0),\"\")","v":""}]
[{"$f":"IF(RawData!A564<>\"\", RawData!A564,\"\")","v":""},{"$f":"IF(RawData!B564<>\"\", RawData!B564,\"\")","v":""},{"$f":"IF(RawData!C564<>\"\", RawData!C564,\"\")","v":""},{"$f":"IF(RawData!D564<>\"\", RawData!D564,\"\")","v":""},{"$f":"IF(RawData!E564<>\"\", RawData!E564,\"\")","v":""},{"$f":"IF(RawData!F564<>\"\", RawData!F564,\"\")","v":""},{"$f":"IF(RawData!G564<>\"\", RawData!G564,\"\")","v":""},{"$f":"IF(RawData!H564<>\"\", RawData!H564,\"\")","v":""},{"$f":"IF(RawData!I564<>\"\", RawData!I564,\"\")","v":""},{"$f":"IF(RawData!J564<>\"\", RawData!J564,\"\")","v":""},"","","","","",false,false,false,false,false,"","",""]
[{"$f":"IF(RawData!A565<>\"\", RawData!A565,\"\")","v":""},{"$f":"IF(RawData!B565<>\"\", RawData!B565,\"\")","v":""},{"$f":"IF(RawData!C565<>\"\", RawData!C565,\"\")","v":""},{"$f":"IF(RawData!D565<>\"\", RawData!D565,\"\")","v":""},{"$f":"IF(RawData!E565<>\"\", RawData!E565,\"\")","v":""},{"$f":"IF(RawData!F565<>\"\", RawData!F565,\"\")","v":""},{"$f":"IF(RawData!G565<>\"\", RawData!G565,\"\")","v":""},{"$f":"IF(RawData!H565<>\"\", RawData!H565,\"\")","v":""},{"$f":"IF(RawData!I565<>\"\", RawData!I565,\"\")","v":""},{"$f":"IF(RawData!J565<>\"\", RawData!J565,\"\")","v":""},"","","","","",false,false,false,false,false,"","",""]
[{"$f":"IF(RawData!A566<>\"\", RawData!A566,\"\")","v":""},{"$f":"IF(RawData!B566<>\"\", RawData!B566,\"\")","v":""},{"$f":"IF(RawData!C566<>\"\", RawData!C566,\"\")","v":""},{"$f":"IF(RawData!D566<>\"\", RawData!D566,\"\")","v":""},{"$f":"IF(RawData!E566<>\"\", RawData!E566,\"\")","v":""},{"$f":"IF(RawData!F566<>\"\", RawData!F566,\"\")","v":""},{"$f":"IF(RawData!G566<>\"\", RawData!G566,\"\")","v":""},{"$f":"IF(RawData!H566<>\"\", RawData!H566,\"\")","v":""},{"$f":"IF(RawData!I566<>\"\", RawData!I566,\"\")","v":""},{"$f":"IF(RawData!J566<>\"\", RawData!J566,\"\")","v":""},"","","","","",false,false,false,false,false,"","",""]
[{"$f":"IF(RawData!A567<>\"\", RawData!A567,\"\")","v":""},{"$f":"IF(RawData!B567<>\"\", RawData!B567,\"\")","v":""},{"$f":"IF(RawData!C567<>\"\", RawData!C567,\"\")","v":""},{"$f":"IF(RawData!D567<>\"\", RawData!D567,\"\")","v":""},{"$f":"IF(RawData!E567<>\"\", RawData!E567,\"\")","v":""},{"$f":"IF(RawData!F567<>\"\", RawData!F567,\"\")","v":""},{"$f":"IF(RawData!G567<>\"\", RawData!G567,\"\")","v":""},{"$f":"IF(RawData!H567<>\"\", RawData!H567,\"\")","v":""},{"$f":"IF(RawData!I567<>\"\", RawData!I567,\"\")","v":""},{"$f":"IF(RawData!J567<>\"\", RawData!J567,\"\")","v":""},"","","","","",false,false,false,false,false,"","",""]
[{"$f":"IF(RawData!A568<>\"\", RawData!A568,\"\")","v":""},{"$f":"IF(RawData!B568<>\"\", RawData!B568,\"\")","v":""},{"$f":"IF(RawData!C568<>\"\", RawData!C568,\"\")","v":""},{"$f":"IF(RawData!D568<>\"\", RawData!D568,\"\")","v":""},{"$f":"IF(RawData!E568<>\"\", RawData!E568,\"\")","v":""},{"$f":"IF(RawData!F568<>\"\", RawData!F568,\"\")","v":""},{"$f":"IF(RawData!G568<>\"\", RawData!G568,\"\")","v":""},{"$f":"IF(RawData!H568<>\"\", RawData!H568,\"\")","v":""},{"$f":"IF(RawData!I568<>\"\", RawData!I568,\"\")","v":""},{"$f":"IF(RawData!J568<>\"\", RawData!J568,\"\")","v":""},"","","","","",false,false,false,false,false,"","",""]
[{"$f":"IF(RawData!A569<>\"\", RawData!A569,\"\")","v":""},{"$f":"IF(RawData!B569<>\"\", RawData!B569,\"\")","v":""},{"$f":"IF(RawData!C569<>\"\", RawData!C569,\"\")","v":""},{"$f":"IF(RawData!D569<>\"\", RawData!D569,\"\")","v":""},{"$f":"IF(RawData!E569<>\"\", RawData!E569,\"\")","v":""},{"$f":"IF(RawData!F569<>\"\", RawData!F569,\"\")","v":""},{"$f":"IF(RawData!G569<>\"\", RawData!G569,\"\")","v":""},{"$f":"IF(RawData!H569<>\"\", RawData!H569,\"\")","v":""},{"$f":"IF(RawData!I569<>\"\", RawData!I569,\"\")","v":""},{"$f":"IF(RawData!J569<>\"\", RawData!J569,\"\")","v":""},"","","","","",false,false,false,false,false,"","",""]
[{"$f":"IF(RawData!A570<>\"\", RawData!A570,\"\")","v":""},{"$f":"IF(RawData!B570<>\"\", RawData!B570,\"\")","v":""},{"$f":"IF(RawData!C570<>\"\", RawData!C570,\"\")","v":""},{"$f":"IF(RawData!D570<>\"\", RawData!D570,\"\")","v":""},{"$f":"IF(RawData!E570<>\"\", RawData!E570,\"\")","v":""},{"$f":"IF(RawData!F570<>\"\", RawData!F570,\"\")","v":""},{"$f":"IF(RawData!G570<>\"\", RawData!G570,\"\")","v":""},{"$f":"IF(RawData!H570<>\"\", RawData!H570,\"\")","v":""},{"$f":"IF(RawData!I570<>\"\", RawData!I570,\"\")","v":""},{"$f":"IF(RawData!J570<>\"\", RawData!J570,\"\")","v":""},"","","","","",false,false,false,false,false,"","",""]
[{"$f":"IF(RawData!A571<>\"\", RawData!A571,\"\")","v":""},{"$f":"IF(RawData!B571<>\"\", RawData!B571,\"\")","v":""},{"$f":"IF(RawData!C571<>\"\", RawData!C571,\"\")","v":""},{"$f":"IF(RawData!D571<>\"\", RawData!D571,\"\")","v":""},{"$f":"IF(RawData!E571<>\"\", RawData!E571,\"\")","v":""},{"$f":"IF(RawData!F571<>\"\", RawData!F571,\"\")","v":""},{"$f":"IF(RawData!G571<>\"\", RawData!G571,\"\")","v":""},{"$f":"IF(RawData!H571<>\"\", RawData!H571,\"\")","v":""},{"$f":"IF(RawData!I571<>\"\", RawData!I571,\"\")","v":""},{"$f":"IF(RawData!J571<>\"\", RawData!J571,\"\")","v":""},"","","","","",false,false,false,false,false,"","",""]
[{"$f":"IF(RawData!A572<>\"\", RawData!A572,\"\")","v":""},{"$f":"IF(RawData!B572<>\"\", RawData!B572,\"\")","v":""},{"$f":"IF(RawData!C572<>\"\", RawData!C572,\"\")","v":""},{"$f":"IF(RawData!D572<>\"\", RawData!D572,\"\")","v":""},{"$f":"IF(RawData!E572<>\"\", RawData!E572,\"\")","v":""},{"$f":"IF(RawData!F572<>\"\", RawData!F572,\"\")","v":""},{"$f":"IF(RawData!G572<>\"\", RawData!G572,\"\")","v":""},{"$f":"IF(RawData!H572<>\"\", RawData!H572,\"\")","v":""},{"$f":"IF(RawData!I572<>\"\", RawData!I572,\"\")","v":""},{"$f":"IF(RawData!J572<>\"\", RawData!J572,\"\")","v":""},"","","","","",false,false,false,false,false,"","",""]
[{"$f":"IF(RawData!A573<>\"\", RawData!A573,\"\")","v":""},{"$f":"IF(RawData!B573<>\"\", RawData!B573,\"\")","v":""},{"$f":"IF(RawData!C573<>\"\", RawData!C573,\"\")","v":""},{"$f":"IF(RawData!D573<>\"\", RawData!D573,\"\")","v":""},{"$f":"IF(RawData!E573<>\"\", RawData!E573,\"\")","v":""},{"$f":"IF(RawData!F573<>\"\", RawData!F573,\"\")","v":""},{"$f":"IF(RawData!G573<>\"\", RawData!G573,\"\")","v":""},{"$f":"IF(RawData!H573<>\"\", RawData!H573,\"\")","v":""},{"$f":"IF(RawData!I573<>\"\", RawData!I573,\"\")","v":""},{"$f":"IF(RawData!J573<>\"\", RawData!J573,\"\")","v":""},"","","","","",false,false,false,false,false,"","",""]
[{"$f":"IF(RawData!A574<>\"\", RawData!A574,\"\")","v":""},{"$f":"IF(RawData!B574<>\"\", RawData!B574,\"\")","v":""},{"$f":"IF(RawData!C574<>\"\", RawData!C574,\"\")","v":""},{"$f":"IF(RawData!D574<>\"\", RawData!D574,\"\")","v":""},{"$f":"IF(RawData!E574<>\"\", RawData!E574,\"\")","v":""},{"$f":"IF(RawData!F574<>\"\", RawData!F574,\"\")","v":""},{"$f":"IF(RawData!G574<>\"\", RawData!G574,\"\")","v":""},{"$f":"IF(RawData!H574<>\"\", RawData!H574,\"\")","v":""},{"$f":"IF(RawData!I574<>\"\", RawData!I574,\"\")","v":""},{"$f":"IF(RawData!J574<>\"\", RawData!J574,\"\")","v":""},"","","","","",false,false,false,false,false,"","",""]
[{"$f":"IF(RawData!A575<>\"\", RawData!A575,\"\")","v":""},{"$f":"IF(RawData!B575<>\"\", RawData!B575,\"\")","v":""},{"$f":"IF(RawData!C575<>\"\", RawData!C575,\"\")","v":""},{"$f":"IF(RawData!D575<>\"\", RawData!D575,\"\")","v":""},{"$f":"IF(RawData!E575<>\"\", RawData!E575,\"\")","v":""},{"$f":"IF(RawData!F575<>\"\", RawData!F575,\"\")","v":""},{"$f":"IF(RawData!G575<>\"\", RawData!G575,\"\")","v":""},{"$f":"IF(RawData!H575<>\"\", RawData!H575,\"\")","v":""},{"$f":"IF(RawData!I575<>\"\", RawData!I575,\"\")","v":""},{"$f":"IF(RawData!J575<>\"\", RawData!J575,\"\")","v":""},"","","","","",false,false,false,false,false,"","",""]
[{"$f":"IF(RawData!A576<>\"\", RawData!A576,\"\")","v":""},{"$f":"IF(RawData!B576<>\"\", RawData!B576,\"\")","v":""},{"$f":"IF(RawData!C576<>\"\", RawData!C576,\"\")","v":""},{"$f":"IF(RawData!D576<>\"\", RawData!D576,\"\")","v":""},{"$f":"IF(RawData!E576<>\"\", RawData!E576,\"\")","v":""},{"$f":"IF(RawData!F576<>\"\", RawData!F576,\"\")","v":""},{"$f":"IF(RawData!G576<>\"\", RawData!G576,\"\")","v":""},{"$f":"IF(RawData!H576<>\"\", RawData!H576,\"\")","v":""},{"$f":"IF(RawData!I576<>\"\", RawData!I576,\"\")","v":""},{"$f":"IF(RawData!J576<>\"\", RawData!J576,\"\")","v":""},"","","","","",false,false,false,false,false,"","",""]
[{"$f":"IF(RawData!A577<>\"\", RawData!A577,\"\")","v":""},{"$f":"IF(RawData!B577<>\"\", RawData!B577,\"\")","v":""},{"$f":"IF(RawData!C577<>\"\", RawData!C577,\"\")","v":""},{"$f":"IF(RawData!D577<>\"\", RawData!D577,\"\")","v":""},{"$f":"IF(RawData!E577<>\"\", RawData!E577,\"\")","v":""},{"$f":"IF(RawData!F577<>\"\", RawData!F577,\"\")","v":""},{"$f":"IF(RawData!G577<>\"\", RawData!G577,\"\")","v":""},{"$f":"IF(RawData!H577<>\"\", RawData!H577,\"\")","v":""},{"$f":"IF(RawData!I577<>\"\", RawData!I577,\"\")","v":""},{"$f":"IF(RawData!J577<>\"\", RawData!J577,\"\")","v":""},"","","","","",false,false,false,false,false,"","",""]
[{"$f":"IF(RawData!A578<>\"\", RawData!A578,\"\")","v":""},{"$f":"IF(RawData!B578<>\"\", RawData!B578,\"\")","v":""},{"$f":"IF(RawData!C578<>\"\", RawData!C578,\"\")","v":""},{"$f":"IF(RawData!D578<>\"\", RawData!D578,\"\")","v":""},{"$f":"IF(RawData!E578<>\"\", RawData!E578,\"\")","v":""},{"$f":"IF(RawData!F578<>\"\", RawData!F578,\"\")","v":""},{"$f":"IF(RawData!G578<>\"\", RawData!G578,\"\")","v":""},{"$f":"IF(RawData!H578<>\"\", RawData!H578,\"\")","v":""},{"$f":"IF(RawData!I578<>\"\", RawData!I578,\"\")","v":""},{"$f":"IF(RawData!J578<>\"\", RawData!J578,\"\")","v":""},"","","","","",false,false,false,false,false,"","",""]
[{"$f":"IF(RawData!A579<>\"\", RawData!A579,\"\")","v":""},{"$f":"IF(RawData!B579<>\"\", RawData!B579,\"\")","v":""},{"$f":"IF(RawData!C579<>\"\", RawData!C579,\"\")","v":""},{"$f":"IF(RawData!D579<>\"\", RawData!D579,\"\")","v":""},{"$f":"IF(RawData!E579<>\"\", RawData!E579,\"\")","v":""},{"$f":"IF(RawData!F579<>\"\", RawData!F579,\"\")","v":""},{"$f":"IF(RawData!G579<>\"\", RawData!G579,\"\")","v":""},{"$f":"IF(RawData!H579<>\"\", RawData!H579,\"\")","v":""},{"$f":"IF(RawData!I579<>\"\", RawData!I579,\"\")","v":""},{"$f":"IF(RawData!J579<>\"\", RawData!J579,\"\")","v":""},"","","","","",false,false,false,false,false,"","",""]
[{"$f":"IF(RawData!A580<>\"\", RawData!A580,\"\")","v":""},{"$f":"IF(RawData!B580<>\"\", RawData!B580,\"\")","v":""},{"$f":"IF(RawData!C580<>\"\", RawData!C580,\"\")","v":""},{"$f":"IF(RawData!D580<>\"\", RawData!D580,\"\")","v":""},{"$f":"IF(RawData!E580<>\"\", RawData!E580,\"\")","v":""},{"$f":"IF(RawData!F580<>\"\", RawData!F580,\"\")","v":""},{"$f":"IF(RawData!G580<>\"\", RawData!G580,\"\")","v":""},{"$f":"IF(RawData!H580<>\"\", RawData!H580,\"\")","v":""},{"$f":"IF(RawData!I580<>\"\", RawData!I580,\"\")","v":""},{"$f":"IF(RawData!J580<>\"\", RawData!J580,\"\")","v":""},"","","","","",false,false,false,false,false,"","",""]
[{"$f":"IF(RawData!A581<>\"\", RawData!A581,\"\")","v":""},{"$f":"IF(RawData!B581<>\"\", RawData!B581,\"\")","v":""},{"$f":"IF(RawData!C581<>\"\", RawData!C581,\"\")","v":""},{"$f":"IF(RawData!D581<>\"\", RawData!D581,\"\")","v":""},{"$f":"IF(RawData!E581<>\"\", RawData!E581,\"\")","v":""},{"$f":"IF(RawData!F581<>\"\", RawData!F581,\"\")","v":""},{"$f":"IF(RawData!G581<>\"\", RawData!G581,\"\")","v":""},{"$f":"IF(RawData!H581<>\"\", RawData!H581,\"\")","v":""},{"$f":"IF(RawData!I581<>\"\", RawData!I581,\"\")","v":""},{"$f":"IF(RawData!J581<>\"\", RawData!J581,\"\")","v":""},"","","","","",false,false,false,false,false,"","",""]
[{"$f":"IF(RawData!A582<>\"\", RawData!A582,\"\")","v":""},{"$f":"IF(RawData!B582<>\"\", RawData!B582,\"\")","v":""},{"$f":"IF(RawData!C582<>\"\", RawData!C582,\"\")","v":""},{"$f":"IF(RawData!D582<>\"\", RawData!D582,\"\")","v":""},{"$f":"IF(RawData!E582<>\"\", RawData!E582,\"\")","v":""},{"$f":"IF(RawData!F582<>\"\", RawData!F582,\"\")","v":""},{"$f":"IF(RawData!G582<>\"\", RawData!G582,\"\")","v":""},{"$f":"IF(RawData!H582<>\"\", RawData!H582,\"\")","v":""},{"$f":"IF(RawData!I582<>\"\", RawData!I582,\"\")","v":""},{"$f":"IF(RawData!J582<>\"\", RawData!J582,\"\")","v":""},"","","","","",false,false,false,false,false,"","",""]
[{"$f":"IF(RawData!A583<>\"\", RawData!A583,\"\")","v":""},{"$f":"IF(RawData!B583<>\"\", RawData!B583,\"\")","v":""},{"$f":"IF(RawData!C583<>\"\", RawData!C583,\"\")","v":""},{"$f":"IF(RawData!D583<>\"\", RawData!D583,\"\")","v":""},{"$f":"IF(RawData!E583<>\"\", RawData!E583,\"\")","v":""},{"$f":"IF(RawData!F583<>\"\", RawData!F583,\"\")","v":""},{"$f":"IF(RawData!G583<>\"\", RawData!G583,\"\")","v":""},{"$f":"IF(RawData!H583<>\"\", RawData!H583,\"\")","v":""},{"$f":"IF(RawData!I583<>\"\", RawData!I583,\"\")","v":""},{"$f":"IF(RawData!J583<>\"\", RawData!J583,\"\")","v":""},"","","",{"$f":"IF(G583<>\"\",IF(G583>=4, 1, 0),\"\")","v":""},"",false,false,false,false,false,"","",""]
[{"$f":"IF(RawData!A584<>\"\", RawData!A584,\"\")","v":""},{"$f":"IF(RawData!B584<>\"\", RawData!B584,\"\")","v":""},{"$f":"IF(RawData!C584<>\"\", RawData!C584,\"\")","v":""},{"$f":"IF(RawData!D584<>\"\", RawData!D584,\"\")","v":""},{"$f":"IF(RawData!E584<>\"\", RawData!E584,\"\")","v":""},{"$f":"IF(RawData!F584<>\"\", RawData!F584,\"\")","v":""},{"$f":"IF(RawData!G584<>\"\", RawData!G584,\"\")","v":""},{"$f":"IF(RawData!H584<>\"\", RawData!H584,\"\")","v":""},{"$f":"IF(RawData!I584<>\"\", RawData!I584,\"\")","v":""},{"$f":"IF(RawData!J584<>\"\", RawData!J584,\"\")","v":""},"","","","","",false,false,false,false,false,"","",""]
[{"$f":"IF(RawData!A585<>\"\", RawData!A585,\"\")","v":""},{"$f":"IF(RawData!B585<>\"\", RawData!B585,\"\")","v":""},{"$f":"IF(RawData!C585<>\"\", RawData!C585,\"\")","v":""},{"$f":"IF(RawData!D585<>\"\", RawData!D585,\"\")","v":""},{"$f":"IF(RawData!E585<>\"\", RawData!E585,\"\")","v":""},{"$f":"IF(RawData!F585<>\"\", RawData!F585,\"\")","v":""},{"$f":"IF(RawData!G585<>\"\", RawData!G585,\"\")","v":""},{"$f":"IF(RawData!H585<>\"\", RawData!H585,\"\")","v":""},{"$f":"IF(RawData!I585<>\"\", RawData!I585,\"\")","v":""},{"$f":"IF(RawData!J585<>\"\", RawData!J585,\"\")","v":""},"","","","","",false,false,false,false,false,"","",""]
[{"$f":"IF(RawData!A586<>\"\", RawData!A586,\"\")","v":""},{"$f":"IF(RawData!B586<>\"\", RawData!B586,\"\")","v":""},{"$f":"IF(RawData!C586<>\"\", RawData!C586,\"\")","v":""},{"$f":"IF(RawData!D586<>\"\", RawData!D586,\"\")","v":""},{"$f":"IF(RawData!E586<>\"\", RawData!E586,\"\")","v":""},{"$f":"IF(RawData!F586<>\"\", RawData!F586,\"\")","v":""},{"$f":"IF(RawData!G586<>\"\", RawData!G586,\"\")","v":""},{"$f":"IF(RawData!H586<>\"\", RawData!H586,\"\")","v":""},{"$f":"IF(RawData!I586<>\"\", RawData!I586,\"\")","v":""},{"$f":"IF(RawData!J586<>\"\", RawData!J586,\"\")","v":""},"","","","","",false,false,false,false,false,"","",""]
[{"$f":"IF(RawData!A587<>\"\", RawData!A587,\"\")","v":""},{"$f":"IF(RawData!B587<>\"\", RawData!B587,\"\")","v":""},{"$f":"IF(RawData!C587<>\"\", RawData!C587,\"\")","v":""},{"$f":"IF(RawData!D587<>\"\", RawData!D587,\"\")","v":""},{"$f":"IF(RawData!E587<>\"\", RawData!E587,\"\")","v":""},{"$f":"IF(RawData!F587<>\"\", RawData!F587,\"\")","v":""},{"$f":"IF(RawData!G587<>\"\", RawData!G587,\"\")","v":""},{"$f":"IF(RawData!H587<>\"\", RawData!H587,\"\")","v":""},{"$f":"IF(RawData!I587<>\"\", RawData!I587,\"\")","v":""},{"$f":"IF(RawData!J587<>\"\", RawData!J587,\"\")","v":""},"","","","","",false,false,false,false,false,"","",""]
[{"$f":"IF(RawData!A588<>\"\", RawData!A588,\"\")","v":""},{"$f":"IF(RawData!B588<>\"\", RawData!B588,\"\")","v":""},{"$f":"IF(RawData!C588<>\"\", RawData!C588,\"\")","v":""},{"$f":"IF(RawData!D588<>\"\", RawData!D588,\"\")","v":""},{"$f":"IF(RawData!E588<>\"\", RawData!E588,\"\")","v":""},{"$f":"IF(RawData!F588<>\"\", RawData!F588,\"\")","v":""},{"$f":"IF(RawData!G588<>\"\", RawData!G588,\"\")","v":""},{"$f":"IF(RawData!H588<>\"\", RawData!H588,\"\")","v":""},{"$f":"IF(RawData!I588<>\"\", RawData!I588,\"\")","v":""},{"$f":"IF(RawData!J588<>\"\", RawData!J588,\"\")","v":""},"","","","","",false,false,false,false,false,"","",""]
[{"$f":"IF(RawData!A589<>\"\", RawData!A589,\"\")","v":""},{"$f":"IF(RawData!B589<>\"\", RawData!B589,\"\")","v":""},{"$f":"IF(RawData!C589<>\"\", RawData!C589,\"\")","v":""},{"$f":"IF(RawData!D589<>\"\", RawData!D589,\"\")","v":""},{"$f":"IF(RawData!E589<>\"\", RawData!E589,\"\")","v":""},{"$f":"IF(RawData!F589<>\"\", RawData!F589,\"\")","v":""},{"$f":"IF(RawData!G589<>\"\", RawData!G589,\"\")","v":""},{"$f":"IF(RawData!H589<>\"\", RawData!H589,\"\")","v":""},{"$f":"IF(RawData!I589<>\"\", RawData!I589,\"\")","v":""},{"$f":"IF(RawData!J589<>\"\", RawData!J589,\"\")","v":""},"","","","","",false,false,false,false,false,"","",""]
[{"$f":"IF(RawData!A590<>\"\", RawData!A590,\"\")","v":""},{"$f":"IF(RawData!B590<>\"\", RawData!B590,\"\")","v":""},{"$f":"IF(RawData!C590<>\"\", RawData!C590,\"\")","v":""},{"$f":"IF(RawData!D590<>\"\", RawData!D590,\"\")","v":""},{"$f":"IF(RawData!E590<>\"\", RawData!E590,\"\")","v":""},{"$f":"IF(RawData!F590<>\"\", RawData!F590,\"\")","v":""},{"$f":"IF(RawData!G590<>\"\", RawData!G590,\"\")","v":""},{"$f":"IF(RawData!H590<>\"\", RawData!H590,\"\")","v":""},{"$f":"IF(RawData!I590<>\"\", RawData!I590,\"\")","v":""},{"$f":"IF(RawData!J590<>\"\", RawData!J590,\"\")","v":""},"","","","","",false,false,false,false,false,"","",""]
[{"$f":"IF(RawData!A591<>\"\", RawData!A591,\"\")","v":""},{"$f":"IF(RawData!B591<>\"\", RawData!B591,\"\")","v":""},{"$f":"IF(RawData!C591<>\"\", RawData!C591,\"\")","v":""},{"$f":"IF(RawData!D591<>\"\", RawData!D591,\"\")","v":""},{"$f":"IF(RawData!E591<>\"\", RawData!E591,\"\")","v":""},{"$f":"IF(RawData!F591<>\"\", RawData!F591,\"\")","v":""},{"$f":"IF(RawData!G591<>\"\", RawData!G591,\"\")","v":""},{"$f":"IF(RawData!H591<>\"\", RawData!H591,\"\")","v":""},{"$f":"IF(RawData!I591<>\"\", RawData!I591,\"\")","v":""},{"$f":"IF(RawData!J591<>\"\", RawData!J591,\"\")","v":""},"","","","","",false,false,false,false,false,"","",""]
[{"$f":"IF(RawData!A592<>\"\", RawData!A592,\"\")","v":""},{"$f":"IF(RawData!B592<>\"\", RawData!B592,\"\")","v":""},{"$f":"IF(RawData!C592<>\"\", RawData!C592,\"\")","v":""},{"$f":"IF(RawData!D592<>\"\", RawData!D592,\"\")","v":""},{"$f":"IF(RawData!E592<>\"\", RawData!E592,\"\")","v":""},{"$f":"IF(RawData!F592<>\"\", RawData!F592,\"\")","v":""},{"$f":"IF(RawData!G592<>\"\", RawData!G592,\"\")","v":""},{"$f":"IF(RawData!H592<>\"\", RawData!H592,\"\")","v":""},{"$f":"IF(RawData!I592<>\"\", RawData!I592,\"\")","v":""},{"$f":"IF(RawData!J592<>\"\", RawData!J592,\"\")","v":""},"","","","","",false,false,false,false,false,"","",""]
[{"$f":"IF(RawData!A593<>\"\", RawData!A593,\"\")","v":""},{"$f":"IF(RawData!B593<>\"\", RawData!B593,\"\")","v":""},{"$f":"IF(RawData!C593<>\"\", RawData!C593,\"\")","v":""},{"$f":"IF(RawData!D593<>\"\", RawData!D593,\"\")","v":""},{"$f":"IF(RawData!E593<>\"\", RawData!E593,\"\")","v":""},{"$f":"IF(RawData!F593<>\"\", RawData!F593,\"\")","v":""},{"$f":"IF(RawData!G593<>\"\", RawData!G593,\"\")","v":""},{"$f":"IF(RawData!H593<>\"\", RawData!H593,\"\")","v":""},{"$f":"IF(RawData!I593<>\"\", RawData!I593,\"\")","v":""},{"$f":"IF(RawData!J593<>\"\", RawData!J593,\"\")","v":""},"","","","","",false,false,false,false,false,"","",""]
[{"$f":"IF(RawData!A594<>\"\", RawData!A594,\"\")","v":""},{"$f":"IF(RawData!B594<>\"\", RawData!B594,\"\")","v":""},{"$f":"IF(RawData!C594<>\"\", RawData!C594,\"\")","v":""},{"$f":"IF(RawData!D594<>\"\", RawData!D594,\"\")","v":""},{"$f":"IF(RawData!E594<>\"\", RawData!E594,\"\")","v":""},{"$f":"IF(RawData!F594<>\"\", RawData!F594,\"\")","v":""},{"$f":"IF(RawData!G594<>\"\", RawData!G594,\"\")","v":""},{"$f":"IF(RawData!H594<>\"\", RawData!H594,\"\")","v":""},{"$f":"IF(RawData!I594<>\"\", RawData!I594,\"\")","v":""},{"$f":"IF(RawData!J594<>\"\", RawData!J594,\"\")","v":""},"","","","","",false,false,false,false,false,"","",""]
[{"$f":"IF(RawData!A595<>\"\", RawData!A595,\"\")","v":""},{"$f":"IF(RawData!B595<>\"\", RawData!B595,\"\")","v":""},{"$f":"IF(RawData!C595<>\"\", RawData!C595,\"\")","v":""},{"$f":"IF(RawData!D595<>\"\", RawData!D595,\"\")","v":""},{"$f":"IF(RawData!E595<>\"\", RawData!E595,\"\")","v":""},{"$f":"IF(RawData!F595<>\"\", RawData!F595,\"\")","v":""},{"$f":"IF(RawData!G595<>\"\", RawData!G595,\"\")","v":""},{"$f":"IF(RawData!H595<>\"\", RawData!H595,\"\")","v":""},{"$f":"IF(RawData!I595<>\"\", RawData!I595,\"\")","v":""},{"$f":"IF(RawData!J595<>\"\", RawData!J595,\"\")","v":""},"","","","","",false,false,false,false,false,"","",""]
[{"$f":"IF(RawData!A596<>\"\", RawData!A596,\"\")","v":""},{"$f":"IF(RawData!B596<>\"\", RawData!B596,\"\")","v":""},{"$f":"IF(RawData!C596<>\"\", RawData!C596,\"\")","v":""},{"$f":"IF(RawData!D596<>\"\", RawData!D596,\"\")","v":""},{"$f":"IF(RawData!E596<>\"\", RawData!E596,\"\")","v":""},{"$f":"IF(RawData!F596<>\"\", RawData!F596,\"\")","v":""},{"$f":"IF(RawData!G596<>\"\", RawData!G596,\"\")","v":""},{"$f":"IF(RawData!H596<>\"\", RawData!H596,\"\")","v":""},{"$f":"IF(RawData!I596<>\"\", RawData!I596,\"\")","v":""},{"$f":"IF(RawData!J596<>\"\", RawData!J596,\"\")","v":""},"","","","","",false,false,false,false,false,"","",""]
[{"$f":"IF(RawData!A597<>\"\", RawData!A597,\"\")","v":""},{"$f":"IF(RawData!B597<>\"\", RawData!B597,\"\")","v":""},{"$f":"IF(RawData!C597<>\"\", RawData!C597,\"\")","v":""},{"$f":"IF(RawData!D597<>\"\", RawData!D597,\"\")","v":""},{"$f":"IF(RawData!E597<>\"\", RawData!E597,\"\")","v":""},{"$f":"IF(RawData!F597<>\"\", RawData!F597,\"\")","v":""},{"$f":"IF(RawData!G597<>\"\", RawData!G597,\"\")","v":""},{"$f":"IF(RawData!H597<>\"\", RawData!H597,\"\")","v":""},{"$f":"IF(RawData!I597<>\"\", RawData!I597,\"\")","v":""},{"$f":"IF(RawData!J597<>\"\", RawData!J597,\"\")","v":""},"","","","","",false,false,false,false,false,"","",""]
[{"$f":"IF(RawData!A598<>\"\", RawData!A598,\"\")","v":""},{"$f":"IF(RawData!B598<>\"\", RawData!B598,\"\")","v":""},{"$f":"IF(RawData!C598<>\"\", RawData!C598,\"\")","v":""},{"$f":"IF(RawData!D598<>\"\", RawData!D598,\"\")","v":""},{"$f":"IF(RawData!E598<>\"\", RawData!E598,\"\")","v":""},{"$f":"IF(RawData!F598<>\"\", RawData!F598,\"\")","v":""},{"$f":"IF(RawData!G598<>\"\", RawData!G598,\"\")","v":""},{"$f":"IF(RawData!H598<>\"\", RawData!H598,\"\")","v":""},{"$f":"IF(RawData!I598<>\"\", RawData!I598,\"\")","v":""},{"$f":"IF(RawData!J598<>\"\", RawData!J598,\"\")","v":""},"","","","","",false,false,false,false,false,"","",""]
[{"$f":"IF(RawData!A599<>\"\", RawData!A599,\"\")","v":""},{"$f":"IF(RawData!B599<>\"\", RawData!B599,\"\")","v":""},{"$f":"IF(RawData!C599<>\"\", RawData!C599,\"\")","v":""},{"$f":"IF(RawData!D599<>\"\", RawData!D599,\"\")","v":""},{"$f":"IF(RawData!E599<>\"\", RawData!E599,\"\")","v":""},{"$f":"IF(RawData!F599<>\"\", RawData!F599,\"\")","v":""},{"$f":"IF(RawData!G599<>\"\", RawData!G599,\"\")","v":""},{"$f":"IF(RawData!H599<>\"\", RawData!H599,\"\")","v":""},{"$f":"IF(RawData!I599<>\"\", RawData!I599,\"\")","v":""},{"$f":"IF(RawData!J599<>\"\", RawData!J599,\"\")","v":""},"","","","","",false,false,false,false,false,"","",""]
[{"$f":"IF(RawData!A600<>\"\", RawData!A600,\"\")","v":""},{"$f":"IF(RawData!B600<>\"\", RawData!B600,\"\")","v":""},{"$f":"IF(RawData!C600<>\"\", RawData!C600,\"\")","v":""},{"$f":"IF(RawData!D600<>\"\", RawData!D600,\"\")","v":""},{"$f":"IF(RawData!E600<>\"\", RawData!E600,\"\")","v":""},{"$f":"IF(RawData!F600<>\"\", RawData!F600,\"\")","v":""},{"$f":"IF(RawData!G600<>\"\", RawData!G600,\"\")","v":""},{"$f":"IF(RawData!H600<>\"\", RawData!H600,\"\")","v":""},{"$f":"IF(RawData!I600<>\"\", RawData!I600,\"\")","v":""},{"$f":"IF(RawData!J600<>\"\", RawData!J600,\"\")","v":""},"","","","","",false,false,false,false,false,"","",""]
[{"$f":"IF(RawData!A601<>\"\", RawData!A601,\"\")","v":""},{"$f":"IF(RawData!B601<>\"\", RawData!B601,\"\")","v":""},{"$f":"IF(RawData!C601<>\"\", RawData!C601,\"\")","v":""},{"$f":"IF(RawData!D601<>\"\", RawData!D601,\"\")","v":""},{"$f":"IF(RawData!E601<>\"\", RawData!E601,\"\")","v":""},{"$f":"IF(RawData!F601<>\"\", RawData!F601,\"\")","v":""},{"$f":"IF(RawData!G601<>\"\", RawData!G601,\"\")","v":""},{"$f":"IF(RawData!H601<>\"\", RawData!H601,\"\")","v":""},{"$f":"IF(RawData!I601<>\"\", RawData!I601,\"\")","v":""},{"$f":"IF(RawData!J601<>\"\", RawData!J601,\"\")","v":""},"","","","","",false,false,false,false,false,"","",""]
[{"$f":"IF(RawData!A602<>\"\", RawData!A602,\"\")","v":""},{"$f":"IF(RawData!B602<>\"\", RawData!B602,\"\")","v":""},{"$f":"IF(RawData!C602<>\"\", RawData!C602,\"\")","v":""},{"$f":"IF(RawData!D602<>\"\", RawData!D602,\"\")","v":""},{"$f":"IF(RawData!E602<>\"\", RawData!E602,\"\")","v":""},{"$f":"IF(RawData!F602<>\"\", RawData!F602,\"\")","v":""},{"$f":"IF(RawData!G602<>\"\", RawData!G602,\"\")","v":""},{"$f":"IF(RawData!H602<>\"\", RawData!H602,\"\")","v":""},{"$f":"IF(RawData!I602<>\"\", RawData!I602,\"\")","v":""},{"$f":"IF(RawData!J602<>\"\", RawData!J602,\"\")","v":""},"","","","","",false,false,false,false,false,"","",""]
[{"$f":"IF(RawData!A603<>\"\", RawData!A603,\"\")","v":""},{"$f":"IF(RawData!B603<>\"\", RawData!B603,\"\")","v":""},{"$f":"IF(RawData!C603<>\"\", RawData!C603,\"\")","v":""},{"$f":"IF(RawData!D603<>\"\", RawData!D603,\"\")","v":""},{"$f":"IF(RawData!E603<>\"\", RawData!E603,\"\")","v":""},{"$f":"IF(RawData!F603<>\"\", RawData!F603,\"\")","v":""},{"$f":"IF(RawData!G603<>\"\", RawData!G603,\"\")","v":""},{"$f":"IF(RawData!H603<>\"\", RawData!H603,\"\")","v":""},{"$f":"IF(RawData!I603<>\"\", RawData!I603,\"\")","v":""},{"$f":"IF(RawData!J603<>\"\", RawData!J603,\"\")","v":""},"","","","","",false,false,false,false,false,"","",""]
[{"$f":"IF(RawData!A604<>\"\", RawData!A604,\"\")","v":""},{"$f":"IF(RawData!B604<>\"\", RawData!B604,\"\")","v":""},{"$f":"IF(RawData!C604<>\"\", RawData!C604,\"\")","v":""},{"$f":"IF(RawData!D604<>\"\", RawData!D604,\"\")","v":""},{"$f":"IF(RawData!E604<>\"\", RawData!E604,\"\")","v":""},{"$f":"IF(RawData!F604<>\"\", RawData!F604,\"\")","v":""},{"$f":"IF(RawData!G604<>\"\", RawData!G604,\"\")","v":""},{"$f":"IF(RawData!H604<>\"\", RawData!H604,\"\")","v":""},{"$f":"IF(RawData!I604<>\"\", RawData!I604,\"\")","v":""},{"$f":"IF(RawData!J604<>\"\", RawData!J604,\"\")","v":""},"","","","","",false,false,false,false,false,"","",""]
[{"$f":"IF(RawData!A605<>\"\", RawData!A605,\"\")","v":""},{"$f":"IF(RawData!B605<>\"\", RawData!B605,\"\")","v":""},{"$f":"IF(RawData!C605<>\"\", RawData!C605,\"\")","v":""},{"$f":"IF(RawData!D605<>\"\", RawData!D605,\"\")","v":""},{"$f":"IF(RawData!E605<>\"\", RawData!E605,\"\")","v":""},{"$f":"IF(RawData!F605<>\"\", RawData!F605,\"\")","v":""},{"$f":"IF(RawData!G605<>\"\", RawData!G605,\"\")","v":""},{"$f":"IF(RawData!H605<>\"\", RawData!H605,\"\")","v":""},{"$f":"IF(RawData!I605<>\"\", RawData!I605,\"\")","v":""},{"$f":"IF(RawData!J605<>\"\", RawData!J605,\"\")","v":""},"","","","","",false,false,false,false,false,"","",""]
[{"$f":"IF(RawData!A606<>\"\", RawData!A606,\"\")","v":""},{"$f":"IF(RawData!B606<>\"\", RawData!B606,\"\")","v":""},{"$f":"IF(RawData!C606<>\"\", RawData!C606,\"\")","v":""},{"$f":"IF(RawData!D606<>\"\", RawData!D606,\"\")","v":""},{"$f":"IF(RawData!E606<>\"\", RawData!E606,\"\")","v":""},{"$f":"IF(RawData!F606<>\"\", RawData!F606,\"\")","v":""},{"$f":"IF(RawData!G606<>\"\", RawData!G606,\"\")","v":""},{"$f":"IF(RawData!H606<>\"\", RawData!H606,\"\")","v":""},{"$f":"IF(RawData!I606<>\"\", RawData!I606,\"\")","v":""},{"$f":"IF(RawData!J606<>\"\", RawData!J606,\"\")","v":""},"","","","","",false,false,false,false,false,"","",""]
[{"$f":"IF(RawData!A607<>\"\", RawData!A607,\"\")","v":""},{"$f":"IF(RawData!B607<>\"\", RawData!B607,\"\")","v":""},{"$f":"IF(RawData!C607<>\"\", RawData!C607,\"\")","v":""},{"$f":"IF(RawData!D607<>\"\", RawData!D607,\"\")","v":""},{"$f":"IF(RawData!E607<>\"\", RawData!E607,\"\")","v":""},{"$f":"IF(RawData!F607<>\"\", RawData!F607,\"\")","v":""},{"$f":"IF(RawData!G607<>\"\", RawData!G607,\"\")","v":""},{"$f":"IF(RawData!H607<>\"\", RawData!H607,\"\")","v":""},{"$f":"IF(RawData!I607<>\"\", RawData!I607,\"\")","v":""},{"$f":"IF(RawData!J607<>\"\", RawData!J607,\"\")","v":""},"","","","","",false,false,false,false,false,"","",""]
[{"$f":"IF(RawData!A608<>\"\", RawData!A608,\"\")","v":""},{"$f":"IF(RawData!B608<>\"\", RawData!B608,\"\")","v":""},{"$f":"IF(RawData!C608<>\"\", RawData!C608,\"\")","v":""},{"$f":"IF(RawData!D608<>\"\", RawData!D608,\"\")","v":""},{"$f":"IF(RawData!E608<>\"\", RawData!E608,\"\")","v":""},{"$f":"IF(RawData!F608<>\"\", RawData!F608,\"\")","v":""},{"$f":"IF(RawData!G608<>\"\", RawData!G608,\"\")","v":""},{"$f":"IF(RawData!H608<>\"\", RawData!H608,\"\")","v":""},{"$f":"IF(RawData!I608<>\"\", RawData!I608,\"\")","v":""},{"$f":"IF(RawData!J608<>\"\", RawData!J608,\"\")","v":""},"","","","","",false,false,false,false,false,"","",""]
[{"$f":"IF(RawData!A609<>\"\", RawData!A609,\"\")","v":""},{"$f":"IF(RawData!B609<>\"\", RawData!B609,\"\")","v":""},{"$f":"IF(RawData!C609<>\"\", RawData!C609,\"\")","v":""},{"$f":"IF(RawData!D609<>\"\", RawData!D609,\"\")","v":""},{"$f":"IF(RawData!E609<>\"\", RawData!E609,\"\")","v":""},{"$f":"IF(RawData!F609<>\"\", RawData!F609,\"\")","v":""},{"$f":"IF(RawData!G609<>\"\", RawData!G609,\"\")","v":""},{"$f":"IF(RawData!H609<>\"\", RawData!H609,\"\")","v":""},{"$f":"IF(RawData!I609<>\"\", RawData!I609,\"\")","v":""},{"$f":"IF(RawData!J609<>\"\", RawData!J609,\"\")","v":""},"","","","","",false,false,false,false,false,"","",""]
[{"$f":"IF(RawData!A610<>\"\", RawData!A610,\"\")","v":""},{"$f":"IF(RawData!B610<>\"\", RawData!B610,\"\")","v":""},{"$f":"IF(RawData!C610<>\"\", RawData!C610,\"\")","v":""},{"$f":"IF(RawData!D610<>\"\", RawData!D610,\"\")","v":""},{"$f":"IF(RawData!E610<>\"\", RawData!E610,\"\")","v":""},{"$f":"IF(RawData!F610<>\"\", RawData!F610,\"\")","v":""},{"$f":"IF(RawData!G610<>\"\", RawData!G610,\"\")","v":""},{"$f":"IF(RawData!H610<>\"\", RawData!H610,\"\")","v":""},{"$f":"IF(RawData!I610<>\"\", RawData!I610,\"\")","v":""},{"$f":"IF(RawData!J610<>\"\", RawData!J610,\"\")","v":""},"","","","","",false,false,false,false,false,"","",""]
[{"$f":"IF(RawData!A611<>\"\", RawData!A611,\"\")","v":""},{"$f":"IF(RawData!B611<>\"\", RawData!B611,\"\")","v":""},{"$f":"IF(RawData!C611<>\"\", RawData!C611,\"\")","v":""},{"$f":"IF(RawData!D611<>\"\", RawData!D611,\"\")","v":""},{"$f":"IF(RawData!E611<>\"\", RawData!E611,\"\")","v":""},{"$f":"IF(RawData!F611<>\"\", RawData!F611,\"\")","v":""},{"$f":"IF(RawData!G611<>\"\", RawData!G611,\"\")","v":""},{"$f":"IF(RawData!H611<>\"\", RawData!H611,\"\")","v":""},{"$f":"IF(RawData!I611<>\"\", RawData!I611,\"\")","v":""},{"$f":"IF(RawData!J611<>\"\", RawData!J611,\"\")","v":""},"","","","","",false,false,false,false,false,"","",""]
[{"$f":"IF(RawData!A612<>\"\", RawData!A612,\"\")","v":""},{"$f":"IF(RawData!B612<>\"\", RawData!B612,\"\")","v":""},{"$f":"IF(RawData!C612<>\"\", RawData!C612,\"\")","v":""},{"$f":"IF(RawData!D612<>\"\", RawData!D612,\"\")","v":""},{"$f":"IF(RawData!E612<>\"\", RawData!E612,\"\")","v":""},{"$f":"IF(RawData!F612<>\"\", RawData!F612,\"\")","v":""},{"$f":"IF(RawData!G612<>\"\", RawData!G612,\"\")","v":""},{"$f":"IF(RawData!H612<>\"\", RawData!H612,\"\")","v":""},{"$f":"IF(RawData!I612<>\"\", RawData!I612,\"\")","v":""},{"$f":"IF(RawData!J612<>\"\", RawData!J612,\"\")","v":""},"","","","","",false,false,false,false,false,"","",""]
[{"$f":"IF(RawData!A613<>\"\", RawData!A613,\"\")","v":""},{"$f":"IF(RawData!B613<>\"\", RawData!B613,\"\")","v":""},{"$f":"IF(RawData!C613<>\"\", RawData!C613,\"\")","v":""},{"$f":"IF(RawData!D613<>\"\", RawData!D613,\"\")","v":""},{"$f":"IF(RawData!E613<>\"\", RawData!E613,\"\")","v":""},{"$f":"IF(RawData!F613<>\"\", RawData!F613,\"\")","v":""},{"$f":"IF(RawData!G613<>\"\", RawData!G613,\"\")","v":""},{"$f":"IF(RawData!H613<>\"\", RawData!H613,\"\")","v":""},{"$f":"IF(RawData!I613<>\"\", RawData!I613,\"\")","v":""},{"$f":"IF(RawData!J613<>\"\", RawData!J613,\"\")","v":""},"","","","","",false,false,false,false,false,"","",""]
[{"$f":"IF(RawData!A614<>\"\", RawData!A614,\"\")","v":""},{"$f":"IF(RawData!B614<>\"\", RawData!B614,\"\")","v":""},{"$f":"IF(RawData!C614<>\"\", RawData!C614,\"\")","v":""},{"$f":"IF(RawData!D614<>\"\", RawData!D614,\"\")","v":""},{"$f":"IF(RawData!E614<>\"\", RawData!E614,\"\")","v":""},{"$f":"IF(RawData!F614<>\"\", RawData!F614,\"\")","v":""},{"$f":"IF(RawData!G614<>\"\", RawData!G614,\"\")","v":""},{"$f":"IF(RawData!H614<>\"\", RawData!H614,\"\")","v":""},{"$f":"IF(RawData!I614<>\"\", RawData!I614,\"\")","v":""},{"$f":"IF(RawData!J614<>\"\", RawData!J614,\"\")","v":""},"","","","","",false,false,false,false,false,"","",""]
[{"$f":"IF(RawData!A615<>\"\", RawData!A615,\"\")","v":""},{"$f":"IF(RawData!B615<>\"\", RawData!B615,\"\")","v":""},{"$f":"IF(RawData!C615<>\"\", RawData!C615,\"\")","v":""},{"$f":"IF(RawData!D615<>\"\", RawData!D615,\"\")","v":""},{"$f":"IF(RawData!E615<>\"\", RawData!E615,\"\")","v":""},{"$f":"IF(RawData!F615<>\"\", RawData!F615,\"\")","v":""},{"$f":"IF(RawData!G615<>\"\", RawData!G615,\"\")","v":""},{"$f":"IF(RawData!H615<>\"\", RawData!H615,\"\")","v":""},{"$f":"IF(RawData!I615<>\"\", RawData!I615,\"\")","v":""},{"$f":"IF(RawData!J615<>\"\", RawData!J615,\"\")","v":""},"","","","","",false,false,false,false,false,"","",""]
[{"$f":"IF(RawData!A616<>\"\", RawData!A616,\"\")","v":""},{"$f":"IF(RawData!B616<>\"\", RawData!B616,\"\")","v":""},{"$f":"IF(RawData!C616<>\"\", RawData!C616,\"\")","v":""},{"$f":"IF(RawData!D616<>\"\", RawData!D616,\"\")","v":""},{"$f":"IF(RawData!E616<>\"\", RawData!E616,\"\")","v":""},{"$f":"IF(RawData!F616<>\"\", RawData!F616,\"\")","v":""},{"$f":"IF(RawData!G616<>\"\", RawData!G616,\"\")","v":""},{"$f":"IF(RawData!H616<>\"\", RawData!H616,\"\")","v":""},{"$f":"IF(RawData!I616<>\"\", RawData!I616,\"\")","v":""},{"$f":"IF(RawData!J616<>\"\", RawData!J616,\"\")","v":""},"","","","","",false,false,false,false,false,"","",""]
[{"$f":"IF(RawData!A617<>\"\", RawData!A617,\"\")","v":""},{"$f":"IF(RawData!B617<>\"\", RawData!B617,\"\")","v":""},{"$f":"IF(RawData!C617<>\"\", RawData!C617,\"\")","v":""},{"$f":"IF(RawData!D617<>\"\", RawData!D617,\"\")","v":""},{"$f":"IF(RawData!E617<>\"\", RawData!E617,\"\")","v":""},{"$f":"IF(RawData!F617<>\"\", RawData!F617,\"\")","v":""},{"$f":"IF(RawData!G617<>\"\", RawData!G617,\"\")","v":""},{"$f":"IF(RawData!H617<>\"\", RawData!H617,\"\")","v":""},{"$f":"IF(RawData!I617<>\"\", RawData!I617,\"\")","v":""},{"$f":"IF(RawData!J617<>\"\", RawData!J617,\"\")","v":""},"","","","","",false,false,false,false,false,"","",""]
[{"$f":"IF(RawData!A618<>\"\", RawData!A618,\"\")","v":""},{"$f":"IF(RawData!B618<>\"\", RawData!B618,\"\")","v":""},{"$f":"IF(RawData!C618<>\"\", RawData!C618,\"\")","v":""},{"$f":"IF(RawData!D618<>\"\", RawData!D618,\"\")","v":""},{"$f":"IF(RawData!E618<>\"\", RawData!E618,\"\")","v":""},{"$f":"IF(RawData!F618<>\"\", RawData!F618,\"\")","v":""},{"$f":"IF(RawData!G618<>\"\", RawData!G618,\"\")","v":""},{"$f":"IF(RawData!H618<>\"\", RawData!H618,\"\")","v":""},{"$f":"IF(RawData!I618<>\"\", RawData!I618,\"\")","v":""},{"$f":"IF(RawData!J618<>\"\", RawData!J618,\"\")","v":""},"","","","","",false,false,false,false,false,"","",""]
[{"$f":"IF(RawData!A619<>\"\", RawData!A619,\"\")","v":""},{"$f":"IF(RawData!B619<>\"\", RawData!B619,\"\")","v":""},{"$f":"IF(RawData!C619<>\"\", RawData!C619,\"\")","v":""},{"$f":"IF(RawData!D619<>\"\", RawData!D619,\"\")","v":""},{"$f":"IF(RawData!E619<>\"\", RawData!E619,\"\")","v":""},{"$f":"IF(RawData!F619<>\"\", RawData!F619,\"\")","v":""},{"$f":"IF(RawData!G619<>\"\", RawData!G619,\"\")","v":""},{"$f":"IF(RawData!H619<>\"\", RawData!H619,\"\")","v":""},{"$f":"IF(RawData!I619<>\"\", RawData!I619,\"\")","v":""},{"$f":"IF(RawData!J619<>\"\", RawData!J619,\"\")","v":""},"","","","","",false,false,false,false,false,"","",""]
[{"$f":"IF(RawData!A620<>\"\", RawData!A620,\"\")","v":""},{"$f":"IF(RawData!B620<>\"\", RawData!B620,\"\")","v":""},{"$f":"IF(RawData!C620<>\"\", RawData!C620,\"\")","v":""},{"$f":"IF(RawData!D620<>\"\", RawData!D620,\"\")","v":""},{"$f":"IF(RawData!E620<>\"\", RawData!E620,\"\")","v":""},{"$f":"IF(RawData!F620<>\"\", RawData!F620,\"\")","v":""},{"$f":"IF(RawData!G620<>\"\", RawData!G620,\"\")","v":""},{"$f":"IF(RawData!H620<>\"\", RawData!H620,\"\")","v":""},{"$f":"IF(RawData!I620<>\"\", RawData!I620,\"\")","v":""},{"$f":"IF(RawData!J620<>\"\", RawData!J620,\"\")","v":""},"","","","","",false,false,false,false,false,"","",""]
[{"$f":"IF(RawData!A621<>\"\", RawData!A621,\"\")","v":""},{"$f":"IF(RawData!B621<>\"\", RawData!B621,\"\")","v":""},{"$f":"IF(RawData!C621<>\"\", RawData!C621,\"\")","v":""},{"$f":"IF(RawData!D621<>\"\", RawData!D621,\"\")","v":""},{"$f":"IF(RawData!E621<>\"\", RawData!E621,\"\")","v":""},{"$f":"IF(RawData!F621<>\"\", RawData!F621,\"\")","v":""},{"$f":"IF(RawData!G621<>\"\", RawData!G621,\"\")","v":""},{"$f":"IF(RawData!H621<>\"\", RawData!H621,\"\")","v":""},{"$f":"IF(RawData!I621<>\"\", RawData!I621,\"\")","v":""},{"$f":"IF(RawData!J621<>\"\", RawData!J621,\"\")","v":""},"","","","","",false,false,false,false,false,"","",""]
[{"$f":"IF(RawData!A622<>\"\", RawData!A622,\"\")","v":""},{"$f":"IF(RawData!B622<>\"\", RawData!B622,\"\")","v":""},{"$f":"IF(RawData!C622<>\"\", RawData!C622,\"\")","v":""},{"$f":"IF(RawData!D622<>\"\", RawData!D622,\"\")","v":""},{"$f":"IF(RawData!E622<>\"\", RawData!E622,\"\")","v":""},{"$f":"IF(RawData!F622<>\"\", RawData!F622,\"\")","v":""},{"$f":"IF(RawData!G622<>\"\", RawData!G622,\"\")","v":""},{"$f":"IF(RawData!H622<>\"\", RawData!H622,\"\")","v":""},{"$f":"IF(RawData!I622<>\"\", RawData!I622,\"\")","v":""},{"$f":"IF(RawData!J622<>\"\", RawData!J622,\"\")","v":""},"","","","","",false,false,false,false,false,"","",""]
[{"$f":"IF(RawData!A623<>\"\", RawData!A623,\"\")","v":""},{"$f":"IF(RawData!B623<>\"\", RawData!B623,\"\")","v":""},{"$f":"IF(RawData!C623<>\"\", RawData!C623,\"\")","v":""},{"$f":"IF(RawData!D623<>\"\", RawData!D623,\"\")","v":""},{"$f":"IF(RawData!E623<>\"\", RawData!E623,\"\")","v":""},{"$f":"IF(RawData!F623<>\"\", RawData!F623,\"\")","v":""},{"$f":"IF(RawData!G623<>\"\", RawData!G623,\"\")","v":""},{"$f":"IF(RawData!H623<>\"\", RawData!H623,\"\")","v":""},{"$f":"IF(RawData!I623<>\"\", RawData!I623,\"\")","v":""},{"$f":"IF(RawData!J623<>\"\", RawData!J623,\"\")","v":""},"","","","","",false,false,false,false,false,"","",""]
[{"$f":"IF(RawData!A624<>\"\", RawData!A624,\"\")","v":""},{"$f":"IF(RawData!B624<>\"\", RawData!B624,\"\")","v":""},{"$f":"IF(RawData!C624<>\"\", RawData!C624,\"\")","v":""},{"$f":"IF(RawData!D624<>\"\", RawData!D624,\"\")","v":""},{"$f":"IF(RawData!E624<>\"\", RawData!E624,\"\")","v":""},{"$f":"IF(RawData!F624<>\"\", RawData!F624,\"\")","v":""},{"$f":"IF(RawData!G624<>\"\", RawData!G624,\"\")","v":""},{"$f":"IF(RawData!H624<>\"\", RawData!H624,\"\")","v":""},{"$f":"IF(RawData!I624<>\"\", RawData!I624,\"\")","v":""},{"$f":"IF(RawData!J624<>\"\", RawData!J624,\"\")","v":""},"","","","","",false,false,false,false,false,"","",""]
[{"$f":"IF(RawData!A625<>\"\", RawData!A625,\"\")","v":""},{"$f":"IF(RawData!B625<>\"\", RawData!B625,\"\")","v":""},{"$f":"IF(RawData!C625<>\"\", RawData!C625,\"\")","v":""},{"$f":"IF(RawData!D625<>\"\", RawData!D625,\"\")","v":""},{"$f":"IF(RawData!E625<>\"\", RawData!E625,\"\")","v":""},{"$f":"IF(RawData!F625<>\"\", RawData!F625,\"\")","v":""},{"$f":"IF(RawData!G625<>\"\", RawData!G625,\"\")","v":""},{"$f":"IF(RawData!H625<>\"\", RawData!H625,\"\")","v":""},{"$f":"IF(RawData!I625<>\"\", RawData!I625,\"\")","v":""},{"$f":"IF(RawData!J625<>\"\", RawData!J625,\"\")","v":""},"","","","","",false,false,false,false,false,"","",""]
[{"$f":"IF(RawData!A626<>\"\", RawData!A626,\"\")","v":""},{"$f":"IF(RawData!B626<>\"\", RawData!B626,\"\")","v":""},{"$f":"IF(RawData!C626<>\"\", RawData!C626,\"\")","v":""},{"$f":"IF(RawData!D626<>\"\", RawData!D626,\"\")","v":""},{"$f":"IF(RawData!E626<>\"\", RawData!E626,\"\")","v":""},{"$f":"IF(RawData!F626<>\"\", RawData!F626,\"\")","v":""},{"$f":"IF(RawData!G626<>\"\", RawData!G626,\"\")","v":""},{"$f":"IF(RawData!H626<>\"\", RawData!H626,\"\")","v":""},{"$f":"IF(RawData!I626<>\"\", RawData!I626,\"\")","v":""},{"$f":"IF(RawData!J626<>\"\", RawData!J626,\"\")","v":""},{"$f":"IF(G626<>\"\",IF(G626<3, 1, 0),\"\")","v":""},{"$f":"IF(G626<>\"\",IF(G626>=1, 1, 0),\"\")","v":""},{"$f":"IF(G626<>\"\",IF(AND(G626>=1,G626<=7), 1, 0),\"\")","v":""},"",{"$f":"IF(G626<>\"\",IF(G626>=8, 1, 0),\"\")","v":""},false,false,false,false,false,{"$f":"IF(H626<>\"\",IF(H626=1,IF(J626=4, 1, 0),\"\"),\"\")","v":""},"",""]
[{"$f":"IF(RawData!A627<>\"\", RawData!A627,\"\")","v":""},{"$f":"IF(RawData!B627<>\"\", RawData!B627,\"\")","v":""},{"$f":"IF(RawData!C627<>\"\", RawData!C627,\"\")","v":""},{"$f":"IF(RawData!D627<>\"\", RawData!D627,\"\")","v":""},{"$f":"IF(RawData!E627<>\"\", RawData!E627,\"\")","v":""},{"$f":"IF(RawData!F627<>\"\", RawData!F627,\"\")","v":""},{"$f":"IF(RawData!G627<>\"\", RawData!G627,\"\")","v":""},{"$f":"IF(RawData!H627<>\"\", RawData!H627,\"\")","v":""},{"$f":"IF(RawData!I627<>\"\", RawData!I627,\"\")","v":""},{"$f":"IF(RawData!J627<>\"\", RawData!J627,\"\")","v":""},"","","","","",{"$f":"IF(L627<>\"\", IF(J627<>\"\",IF(L627=0,IF(J627=1, 1, 0),\"\")))","v":false},{"$f":"IF(K627<>\"\",IF(J627<>\"\",IF(K627=1,IF(J627=1, 1, 0),\"\")))","v":false},{"$f":"IF(M627<>\"\",IF(J627<>\"\",IF(M627=1,IF(J627=2, 1, 0),\"\")))","v":false},{"$f":"IF(N627<>\"\",IF(J627<>\"\",IF(N627=1,IF(J627=3, 1, 0),\"\")))","v":false},{"$f":"IF(O627<>\"\",IF(J627<>\"\",IF(O627=1,IF(J627=4, 1, 0),\"\")))","v":false},"",{"$f":"IF(J627<>\"\",IF(OR(P627=1,Q627=1,R627=1,S627=1, T627=1, U627=1),1,0),\"\")","v":""},{"$f":"IF(J627<>\"\",IF(AND(J627<>0,V627=0),1,0),\"\")","v":""}]
[{"$f":"IF(RawData!A628<>\"\", RawData!A628,\"\")","v":""},{"$f":"IF(RawData!B628<>\"\", RawData!B628,\"\")","v":""},{"$f":"IF(RawData!C628<>\"\", RawData!C628,\"\")","v":""},{"$f":"IF(RawData!D628<>\"\", RawData!D628,\"\")","v":""},{"$f":"IF(RawData!E628<>\"\", RawData!E628,\"\")","v":""},{"$f":"IF(RawData!F628<>\"\", RawData!F628,\"\")","v":""},{"$f":"IF(RawData!G628<>\"\", RawData!G628,\"\")","v":""},{"$f":"IF(RawData!H628<>\"\", RawData!H628,\"\")","v":""},{"$f":"IF(RawData!I628<>\"\", RawData!I628,\"\")","v":""},{"$f":"IF(RawData!J628<>\"\", RawData!J628,\"\")","v":""},"","","","","",false,false,false,false,false,"","",""]
[{"$f":"IF(RawData!A629<>\"\", RawData!A629,\"\")","v":""},{"$f":"IF(RawData!B629<>\"\", RawData!B629,\"\")","v":""},{"$f":"IF(RawData!C629<>\"\", RawData!C629,\"\")","v":""},{"$f":"IF(RawData!D629<>\"\", RawData!D629,\"\")","v":""},{"$f":"IF(RawData!E629<>\"\", RawData!E629,\"\")","v":""},{"$f":"IF(RawData!F629<>\"\", RawData!F629,\"\")","v":""},{"$f":"IF(RawData!G629<>\"\", RawData!G629,\"\")","v":""},{"$f":"IF(RawData!H629<>\"\", RawData!H629,\"\")","v":""},{"$f":"IF(RawData!I629<>\"\", RawData!I629,\"\")","v":""},{"$f":"IF(RawData!J629<>\"\", RawData!J629,\"\")","v":""},"","","","","",false,false,false,false,false,"","",""]
[{"$f":"IF(RawData!A630<>\"\", RawData!A630,\"\")","v":""},{"$f":"IF(RawData!B630<>\"\", RawData!B630,\"\")","v":""},{"$f":"IF(RawData!C630<>\"\", RawData!C630,\"\")","v":""},{"$f":"IF(RawData!D630<>\"\", RawData!D630,\"\")","v":""},{"$f":"IF(RawData!E630<>\"\", RawData!E630,\"\")","v":""},{"$f":"IF(RawData!F630<>\"\", RawData!F630,\"\")","v":""},{"$f":"IF(RawData!G630<>\"\", RawData!G630,\"\")","v":""},{"$f":"IF(RawData!H630<>\"\", RawData!H630,\"\")","v":""},{"$f":"IF(RawData!I630<>\"\", RawData!I630,\"\")","v":""},{"$f":"IF(RawData!J630<>\"\", RawData!J630,\"\")","v":""},"","","","","",false,false,false,false,false,"","",""]
[{"$f":"IF(RawData!A631<>\"\", RawData!A631,\"\")","v":""},{"$f":"IF(RawData!B631<>\"\", RawData!B631,\"\")","v":""},{"$f":"IF(RawData!C631<>\"\", RawData!C631,\"\")","v":""},{"$f":"IF(RawData!D631<>\"\", RawData!D631,\"\")","v":""},{"$f":"IF(RawData!E631<>\"\", RawData!E631,\"\")","v":""},{"$f":"IF(RawData!F631<>\"\", RawData!F631,\"\")","v":""},{"$f":"IF(RawData!G631<>\"\", RawData!G631,\"\")","v":""},{"$f":"IF(RawData!H631<>\"\", RawData!H631,\"\")","v":""},{"$f":"IF(RawData!I631<>\"\", RawData!I631,\"\")","v":""},{"$f":"IF(RawData!J631<>\"\", RawData!J631,\"\")","v":""},"","","","","",false,false,false,false,false,"","",""]
[{"$f":"IF(RawData!A632<>\"\", RawData!A632,\"\")","v":""},{"$f":"IF(RawData!B632<>\"\", RawData!B632,\"\")","v":""},{"$f":"IF(RawData!C632<>\"\", RawData!C632,\"\")","v":""},{"$f":"IF(RawData!D632<>\"\", RawData!D632,\"\")","v":""},{"$f":"IF(RawData!E632<>\"\", RawData!E632,\"\")","v":""},{"$f":"IF(RawData!F632<>\"\", RawData!F632,\"\")","v":""},{"$f":"IF(RawData!G632<>\"\", RawData!G632,\"\")","v":""},{"$f":"IF(RawData!H632<>\"\", RawData!H632,\"\")","v":""},{"$f":"IF(RawData!I632<>\"\", RawData!I632,\"\")","v":""},{"$f":"IF(RawData!J632<>\"\", RawData!J632,\"\")","v":""},"","","","","",false,false,false,false,false,"","",""]
[{"$f":"IF(RawData!A633<>\"\", RawData!A633,\"\")","v":""},{"$f":"IF(RawData!B633<>\"\", RawData!B633,\"\")","v":""},{"$f":"IF(RawData!C633<>\"\", RawData!C633,\"\")","v":""},{"$f":"IF(RawData!D633<>\"\", RawData!D633,\"\")","v":""},{"$f":"IF(RawData!E633<>\"\", RawData!E633,\"\")","v":""},{"$f":"IF(RawData!F633<>\"\", RawData!F633,\"\")","v":""},{"$f":"IF(RawData!G633<>\"\", RawData!G633,\"\")","v":""},{"$f":"IF(RawData!H633<>\"\", RawData!H633,\"\")","v":""},{"$f":"IF(RawData!I633<>\"\", RawData!I633,\"\")","v":""},{"$f":"IF(RawData!J633<>\"\", RawData!J633,\"\")","v":""},"","","","","",false,false,false,false,false,"","",""]
[{"$f":"IF(RawData!A634<>\"\", RawData!A634,\"\")","v":""},{"$f":"IF(RawData!B634<>\"\", RawData!B634,\"\")","v":""},{"$f":"IF(RawData!C634<>\"\", RawData!C634,\"\")","v":""},{"$f":"IF(RawData!D634<>\"\", RawData!D634,\"\")","v":""},{"$f":"IF(RawData!E634<>\"\", RawData!E634,\"\")","v":""},{"$f":"IF(RawData!F634<>\"\", RawData!F634,\"\")","v":""},{"$f":"IF(RawData!G634<>\"\", RawData!G634,\"\")","v":""},{"$f":"IF(RawData!H634<>\"\", RawData!H634,\"\")","v":""},{"$f":"IF(RawData!I634<>\"\", RawData!I634,\"\")","v":""},{"$f":"IF(RawData!J634<>\"\", RawData!J634,\"\")","v":""},"","","","","",false,false,false,false,false,"","",""]
[{"$f":"IF(RawData!A635<>\"\", RawData!A635,\"\")","v":""},{"$f":"IF(RawData!B635<>\"\", RawData!B635,\"\")","v":""},{"$f":"IF(RawData!C635<>\"\", RawData!C635,\"\")","v":""},{"$f":"IF(RawData!D635<>\"\", RawData!D635,\"\")","v":""},{"$f":"IF(RawData!E635<>\"\", RawData!E635,\"\")","v":""},{"$f":"IF(RawData!F635<>\"\", RawData!F635,\"\")","v":""},{"$f":"IF(RawData!G635<>\"\", RawData!G635,\"\")","v":""},{"$f":"IF(RawData!H635<>\"\", RawData!H635,\"\")","v":""},{"$f":"IF(RawData!I635<>\"\", RawData!I635,\"\")","v":""},{"$f":"IF(RawData!J635<>\"\", RawData!J635,\"\")","v":""},"","","","","",false,false,false,false,false,"","",""]
[{"$f":"IF(RawData!A636<>\"\", RawData!A636,\"\")","v":""},{"$f":"IF(RawData!B636<>\"\", RawData!B636,\"\")","v":""},{"$f":"IF(RawData!C636<>\"\", RawData!C636,\"\")","v":""},{"$f":"IF(RawData!D636<>\"\", RawData!D636,\"\")","v":""},{"$f":"IF(RawData!E636<>\"\", RawData!E636,\"\")","v":""},{"$f":"IF(RawData!F636<>\"\", RawData!F636,\"\")","v":""},{"$f":"IF(RawData!G636<>\"\", RawData!G636,\"\")","v":""},{"$f":"IF(RawData!H636<>\"\", RawData!H636,\"\")","v":""},{"$f":"IF(RawData!I636<>\"\", RawData!I636,\"\")","v":""},{"$f":"IF(RawData!J636<>\"\", RawData!J636,\"\")","v":""},"","","","","",false,false,false,false,false,"","",""]
[{"$f":"IF(RawData!A637<>\"\", RawData!A637,\"\")","v":""},{"$f":"IF(RawData!B637<>\"\", RawData!B637,\"\")","v":""},{"$f":"IF(RawData!C637<>\"\", RawData!C637,\"\")","v":""},{"$f":"IF(RawData!D637<>\"\", RawData!D637,\"\")","v":""},{"$f":"IF(RawData!E637<>\"\", RawData!E637,\"\")","v":""},{"$f":"IF(RawData!F637<>\"\", RawData!F637,\"\")","v":""},{"$f":"IF(RawData!G637<>\"\", RawData!G637,\"\")","v":""},{"$f":"IF(RawData!H637<>\"\", RawData!H637,\"\")","v":""},{"$f":"IF(RawData!I637<>\"\", RawData!I637,\"\")","v":""},{"$f":"IF(RawData!J637<>\"\", RawData!J637,\"\")","v":""},"","","","","",false,false,false,false,false,"","",""]
[{"$f":"IF(RawData!A638<>\"\", RawData!A638,\"\")","v":""},{"$f":"IF(RawData!B638<>\"\", RawData!B638,\"\")","v":""},{"$f":"IF(RawData!C638<>\"\", RawData!C638,\"\")","v":""},{"$f":"IF(RawData!D638<>\"\", RawData!D638,\"\")","v":""},{"$f":"IF(RawData!E638<>\"\", RawData!E638,\"\")","v":""},{"$f":"IF(RawData!F638<>\"\", RawData!F638,\"\")","v":""},{"$f":"IF(RawData!G638<>\"\", RawData!G638,\"\")","v":""},{"$f":"IF(RawData!H638<>\"\", RawData!H638,\"\")","v":""},{"$f":"IF(RawData!I638<>\"\", RawData!I638,\"\")","v":""},{"$f":"IF(RawData!J638<>\"\", RawData!J638,\"\")","v":""},"","","","","",false,false,false,false,false,"","",""]
[{"$f":"IF(RawData!A639<>\"\", RawData!A639,\"\")","v":""},{"$f":"IF(RawData!B639<>\"\", RawData!B639,\"\")","v":""},{"$f":"IF(RawData!C639<>\"\", RawData!C639,\"\")","v":""},{"$f":"IF(RawData!D639<>\"\", RawData!D639,\"\")","v":""},{"$f":"IF(RawData!E639<>\"\", RawData!E639,\"\")","v":""},{"$f":"IF(RawData!F639<>\"\", RawData!F639,\"\")","v":""},{"$f":"IF(RawData!G639<>\"\", RawData!G639,\"\")","v":""},{"$f":"IF(RawData!H639<>\"\", RawData!H639,\"\")","v":""},{"$f":"IF(RawData!I639<>\"\", RawData!I639,\"\")","v":""},{"$f":"IF(RawData!J639<>\"\", RawData!J639,\"\")","v":""},"","","","","",false,false,false,false,false,"","",""]
[{"$f":"IF(RawData!A640<>\"\", RawData!A640,\"\")","v":""},{"$f":"IF(RawData!B640<>\"\", RawData!B640,\"\")","v":""},{"$f":"IF(RawData!C640<>\"\", RawData!C640,\"\")","v":""},{"$f":"IF(RawData!D640<>\"\", RawData!D640,\"\")","v":""},{"$f":"IF(RawData!E640<>\"\", RawData!E640,\"\")","v":""},{"$f":"IF(RawData!F640<>\"\", RawData!F640,\"\")","v":""},{"$f":"IF(RawData!G640<>\"\", RawData!G640,\"\")","v":""},{"$f":"IF(RawData!H640<>\"\", RawData!H640,\"\")","v":""},{"$f":"IF(RawData!I640<>\"\", RawData!I640,\"\")","v":""},{"$f":"IF(RawData!J640<>\"\", RawData!J640,\"\")","v":""},"","","","","",false,false,false,false,false,"","",""]
[{"$f":"IF(RawData!A641<>\"\", RawData!A641,\"\")","v":""},{"$f":"IF(RawData!B641<>\"\", RawData!B641,\"\")","v":""},{"$f":"IF(RawData!C641<>\"\", RawData!C641,\"\")","v":""},{"$f":"IF(RawData!D641<>\"\", RawData!D641,\"\")","v":""},{"$f":"IF(RawData!E641<>\"\", RawData!E641,\"\")","v":""},{"$f":"IF(RawData!F641<>\"\", RawData!F641,\"\")","v":""},{"$f":"IF(RawData!G641<>\"\", RawData!G641,\"\")","v":""},{"$f":"IF(RawData!H641<>\"\", RawData!H641,\"\")","v":""},{"$f":"IF(RawData!I641<>\"\", RawData!I641,\"\")","v":""},{"$f":"IF(RawData!J641<>\"\", RawData!J641,\"\")","v":""},"","","","","",false,false,false,false,false,"","",""]
[{"$f":"IF(RawData!A642<>\"\", RawData!A642,\"\")","v":""},{"$f":"IF(RawData!B642<>\"\", RawData!B642,\"\")","v":""},{"$f":"IF(RawData!C642<>\"\", RawData!C642,\"\")","v":""},{"$f":"IF(RawData!D642<>\"\", RawData!D642,\"\")","v":""},{"$f":"IF(RawData!E642<>\"\", RawData!E642,\"\")","v":""},{"$f":"IF(RawData!F642<>\"\", RawData!F642,\"\")","v":""},{"$f":"IF(RawData!G642<>\"\", RawData!G642,\"\")","v":""},{"$f":"IF(RawData!H642<>\"\", RawData!H642,\"\")","v":""},{"$f":"IF(RawData!I642<>\"\", RawData!I642,\"\")","v":""},{"$f":"IF(RawData!J642<>\"\", RawData!J642,\"\")","v":""},"","","","","",false,false,false,false,false,"","",""]
[{"$f":"IF(RawData!A643<>\"\", RawData!A643,\"\")","v":""},{"$f":"IF(RawData!B643<>\"\", RawData!B643,\"\")","v":""},{"$f":"IF(RawData!C643<>\"\", RawData!C643,\"\")","v":""},{"$f":"IF(RawData!D643<>\"\", RawData!D643,\"\")","v":""},{"$f":"IF(RawData!E643<>\"\", RawData!E643,\"\")","v":""},{"$f":"IF(RawData!F643<>\"\", RawData!F643,\"\")","v":""},{"$f":"IF(RawData!G643<>\"\", RawData!G643,\"\")","v":""},{"$f":"IF(RawData!H643<>\"\", RawData!H643,\"\")","v":""},{"$f":"IF(RawData!I643<>\"\", RawData!I643,\"\")","v":""},{"$f":"IF(RawData!J643<>\"\", RawData!J643,\"\")","v":""},"","","","","",false,false,false,false,false,"","",""]
[{"$f":"IF(RawData!A644<>\"\", RawData!A644,\"\")","v":""},{"$f":"IF(RawData!B644<>\"\", RawData!B644,\"\")","v":""},{"$f":"IF(RawData!C644<>\"\", RawData!C644,\"\")","v":""},{"$f":"IF(RawData!D644<>\"\", RawData!D644,\"\")","v":""},{"$f":"IF(RawData!E644<>\"\", RawData!E644,\"\")","v":""},{"$f":"IF(RawData!F644<>\"\", RawData!F644,\"\")","v":""},{"$f":"IF(RawData!G644<>\"\", RawData!G644,\"\")","v":""},{"$f":"IF(RawData!H644<>\"\", RawData!H644,\"\")","v":""},{"$f":"IF(RawData!I644<>\"\", RawData!I644,\"\")","v":""},{"$f":"IF(RawData!J644<>\"\", RawData!J644,\"\")","v":""},"","","","","",false,false,false,false,false,"","",""]
[{"$f":"IF(RawData!A645<>\"\", RawData!A645,\"\")","v":""},{"$f":"IF(RawData!B645<>\"\", RawData!B645,\"\")","v":""},{"$f":"IF(RawData!C645<>\"\", RawData!C645,\"\")","v":""},{"$f":"IF(RawData!D645<>\"\", RawData!D645,\"\")","v":""},{"$f":"IF(RawData!E645<>\"\", RawData!E645,\"\")","v":""},{"$f":"IF(RawData!F645<>\"\", RawData!F645,\"\")","v":""},{"$f":"IF(RawData!G645<>\"\", RawData!G645,\"\")","v":""},{"$f":"IF(RawData!H645<>\"\", RawData!H645,\"\")","v":""},{"$f":"IF(RawData!I645<>\"\", RawData!I645,\"\")","v":""},{"$f":"IF(RawData!J645<>\"\", RawData!J645,\"\")","v":""},"","","","","",false,false,false,false,false,"","",""]
[{"$f":"IF(RawData!A646<>\"\", RawData!A646,\"\")","v":""},{"$f":"IF(RawData!B646<>\"\", RawData!B646,\"\")","v":""},{"$f":"IF(RawData!C646<>\"\", RawData!C646,\"\")","v":""},{"$f":"IF(RawData!D646<>\"\", RawData!D646,\"\")","v":""},{"$f":"IF(RawData!E646<>\"\", RawData!E646,\"\")","v":""},{"$f":"IF(RawData!F646<>\"\", RawData!F646,\"\")","v":""},{"$f":"IF(RawData!G646<>\"\", RawData!G646,\"\")","v":""},{"$f":"IF(RawData!H646<>\"\", RawData!H646,\"\")","v":""},{"$f":"IF(RawData!I646<>\"\", RawData!I646,\"\")","v":""},{"$f":"IF(RawData!J646<>\"\", RawData!J646,\"\")","v":""},"","","","","",false,false,false,false,false,"","",""]
[{"$f":"IF(RawData!A647<>\"\", RawData!A647,\"\")","v":""},{"$f":"IF(RawData!B647<>\"\", RawData!B647,\"\")","v":""},{"$f":"IF(RawData!C647<>\"\", RawData!C647,\"\")","v":""},{"$f":"IF(RawData!D647<>\"\", RawData!D647,\"\")","v":""},{"$f":"IF(RawData!E647<>\"\", RawData!E647,\"\")","v":""},{"$f":"IF(RawData!F647<>\"\", RawData!F647,\"\")","v":""},{"$f":"IF(RawData!G647<>\"\", RawData!G647,\"\")","v":""},{"$f":"IF(RawData!H647<>\"\", RawData!H647,\"\")","v":""},{"$f":"IF(RawData!I647<>\"\", RawData!I647,\"\")","v":""},{"$f":"IF(RawData!J647<>\"\", RawData!J647,\"\")","v":""},"","","",{"$f":"IF(G647<>\"\",IF(G647>=4, 1, 0),\"\")","v":""},"",false,false,false,false,false,"","",""]
[{"$f":"IF(RawData!A648<>\"\", RawData!A648,\"\")","v":""},{"$f":"IF(RawData!B648<>\"\", RawData!B648,\"\")","v":""},{"$f":"IF(RawData!C648<>\"\", RawData!C648,\"\")","v":""},{"$f":"IF(RawData!D648<>\"\", RawData!D648,\"\")","v":""},{"$f":"IF(RawData!E648<>\"\", RawData!E648,\"\")","v":""},{"$f":"IF(RawData!F648<>\"\", RawData!F648,\"\")","v":""},{"$f":"IF(RawData!G648<>\"\", RawData!G648,\"\")","v":""},{"$f":"IF(RawData!H648<>\"\", RawData!H648,\"\")","v":""},{"$f":"IF(RawData!I648<>\"\", RawData!I648,\"\")","v":""},{"$f":"IF(RawData!J648<>\"\", RawData!J648,\"\")","v":""},"","","","","",false,false,false,false,false,"","",""]
[{"$f":"IF(RawData!A649<>\"\", RawData!A649,\"\")","v":""},{"$f":"IF(RawData!B649<>\"\", RawData!B649,\"\")","v":""},{"$f":"IF(RawData!C649<>\"\", RawData!C649,\"\")","v":""},{"$f":"IF(RawData!D649<>\"\", RawData!D649,\"\")","v":""},{"$f":"IF(RawData!E649<>\"\", RawData!E649,\"\")","v":""},{"$f":"IF(RawData!F649<>\"\", RawData!F649,\"\")","v":""},{"$f":"IF(RawData!G649<>\"\", RawData!G649,\"\")","v":""},{"$f":"IF(RawData!H649<>\"\", RawData!H649,\"\")","v":""},{"$f":"IF(RawData!I649<>\"\", RawData!I649,\"\")","v":""},{"$f":"IF(RawData!J649<>\"\", RawData!J649,\"\")","v":""},"","","","","",false,false,false,false,false,"","",""]
[{"$f":"IF(RawData!A650<>\"\", RawData!A650,\"\")","v":""},{"$f":"IF(RawData!B650<>\"\", RawData!B650,\"\")","v":""},{"$f":"IF(RawData!C650<>\"\", RawData!C650,\"\")","v":""},{"$f":"IF(RawData!D650<>\"\", RawData!D650,\"\")","v":""},{"$f":"IF(RawData!E650<>\"\", RawData!E650,\"\")","v":""},{"$f":"IF(RawData!F650<>\"\", RawData!F650,\"\")","v":""},{"$f":"IF(RawData!G650<>\"\", RawData!G650,\"\")","v":""},{"$f":"IF(RawData!H650<>\"\", RawData!H650,\"\")","v":""},{"$f":"IF(RawData!I650<>\"\", RawData!I650,\"\")","v":""},{"$f":"IF(RawData!J650<>\"\", RawData!J650,\"\")","v":""},"","","","","",false,false,false,false,false,"","",""]
[{"$f":"IF(RawData!A651<>\"\", RawData!A651,\"\")","v":""},{"$f":"IF(RawData!B651<>\"\", RawData!B651,\"\")","v":""},{"$f":"IF(RawData!C651<>\"\", RawData!C651,\"\")","v":""},{"$f":"IF(RawData!D651<>\"\", RawData!D651,\"\")","v":""},{"$f":"IF(RawData!E651<>\"\", RawData!E651,\"\")","v":""},{"$f":"IF(RawData!F651<>\"\", RawData!F651,\"\")","v":""},{"$f":"IF(RawData!G651<>\"\", RawData!G651,\"\")","v":""},{"$f":"IF(RawData!H651<>\"\", RawData!H651,\"\")","v":""},{"$f":"IF(RawData!I651<>\"\", RawData!I651,\"\")","v":""},{"$f":"IF(RawData!J651<>\"\", RawData!J651,\"\")","v":""},"","","","","",false,false,false,false,false,"","",""]
[{"$f":"IF(RawData!A652<>\"\", RawData!A652,\"\")","v":""},{"$f":"IF(RawData!B652<>\"\", RawData!B652,\"\")","v":""},{"$f":"IF(RawData!C652<>\"\", RawData!C652,\"\")","v":""},{"$f":"IF(RawData!D652<>\"\", RawData!D652,\"\")","v":""},{"$f":"IF(RawData!E652<>\"\", RawData!E652,\"\")","v":""},{"$f":"IF(RawData!F652<>\"\", RawData!F652,\"\")","v":""},{"$f":"IF(RawData!G652<>\"\", RawData!G652,\"\")","v":""},{"$f":"IF(RawData!H652<>\"\", RawData!H652,\"\")","v":""},{"$f":"IF(RawData!I652<>\"\", RawData!I652,\"\")","v":""},{"$f":"IF(RawData!J652<>\"\", RawData!J652,\"\")","v":""},"","","","","",false,false,false,false,false,"","",""]
[{"$f":"IF(RawData!A653<>\"\", RawData!A653,\"\")","v":""},{"$f":"IF(RawData!B653<>\"\", RawData!B653,\"\")","v":""},{"$f":"IF(RawData!C653<>\"\", RawData!C653,\"\")","v":""},{"$f":"IF(RawData!D653<>\"\", RawData!D653,\"\")","v":""},{"$f":"IF(RawData!E653<>\"\", RawData!E653,\"\")","v":""},{"$f":"IF(RawData!F653<>\"\", RawData!F653,\"\")","v":""},{"$f":"IF(RawData!G653<>\"\", RawData!G653,\"\")","v":""},{"$f":"IF(RawData!H653<>\"\", RawData!H653,\"\")","v":""},{"$f":"IF(RawData!I653<>\"\", RawData!I653,\"\")","v":""},{"$f":"IF(RawData!J653<>\"\", RawData!J653,\"\")","v":""},"","","","","",false,false,false,false,false,"","",""]
[{"$f":"IF(RawData!A654<>\"\", RawData!A654,\"\")","v":""},{"$f":"IF(RawData!B654<>\"\", RawData!B654,\"\")","v":""},{"$f":"IF(RawData!C654<>\"\", RawData!C654,\"\")","v":""},{"$f":"IF(RawData!D654<>\"\", RawData!D654,\"\")","v":""},{"$f":"IF(RawData!E654<>\"\", RawData!E654,\"\")","v":""},{"$f":"IF(RawData!F654<>\"\", RawData!F654,\"\")","v":""},{"$f":"IF(RawData!G654<>\"\", RawData!G654,\"\")","v":""},{"$f":"IF(RawData!H654<>\"\", RawData!H654,\"\")","v":""},{"$f":"IF(RawData!I654<>\"\", RawData!I654,\"\")","v":""},{"$f":"IF(RawData!J654<>\"\", RawData!J654,\"\")","v":""},"","","","","",false,false,false,false,false,"","",""]
[{"$f":"IF(RawData!A655<>\"\", RawData!A655,\"\")","v":""},{"$f":"IF(RawData!B655<>\"\", RawData!B655,\"\")","v":""},{"$f":"IF(RawData!C655<>\"\", RawData!C655,\"\")","v":""},{"$f":"IF(RawData!D655<>\"\", RawData!D655,\"\")","v":""},{"$f":"IF(RawData!E655<>\"\", RawData!E655,\"\")","v":""},{"$f":"IF(RawData!F655<>\"\", RawData!F655,\"\")","v":""},{"$f":"IF(RawData!G655<>\"\", RawData!G655,\"\")","v":""},{"$f":"IF(RawData!H655<>\"\", RawData!H655,\"\")","v":""},{"$f":"IF(RawData!I655<>\"\", RawData!I655,\"\")","v":""},{"$f":"IF(RawData!J655<>\"\", RawData!J655,\"\")","v":""},"","","","","",false,false,false,false,false,"","",""]
[{"$f":"IF(RawData!A656<>\"\", RawData!A656,\"\")","v":""},{"$f":"IF(RawData!B656<>\"\", RawData!B656,\"\")","v":""},{"$f":"IF(RawData!C656<>\"\", RawData!C656,\"\")","v":""},{"$f":"IF(RawData!D656<>\"\", RawData!D656,\"\")","v":""},{"$f":"IF(RawData!E656<>\"\", RawData!E656,\"\")","v":""},{"$f":"IF(RawData!F656<>\"\", RawData!F656,\"\")","v":""},{"$f":"IF(RawData!G656<>\"\", RawData!G656,\"\")","v":""},{"$f":"IF(RawData!H656<>\"\", RawData!H656,\"\")","v":""},{"$f":"IF(RawData!I656<>\"\", RawData!I656,\"\")","v":""},{"$f":"IF(RawData!J656<>\"\", RawData!J656,\"\")","v":""},"","","","","",false,false,false,false,false,"","",""]
[{"$f":"IF(RawData!A657<>\"\", RawData!A657,\"\")","v":""},{"$f":"IF(RawData!B657<>\"\", RawData!B657,\"\")","v":""},{"$f":"IF(RawData!C657<>\"\", RawData!C657,\"\")","v":""},{"$f":"IF(RawData!D657<>\"\", RawData!D657,\"\")","v":""},{"$f":"IF(RawData!E657<>\"\", RawData!E657,\"\")","v":""},{"$f":"IF(RawData!F657<>\"\", RawData!F657,\"\")","v":""},{"$f":"IF(RawData!G657<>\"\", RawData!G657,\"\")","v":""},{"$f":"IF(RawData!H657<>\"\", RawData!H657,\"\")","v":""},{"$f":"IF(RawData!I657<>\"\", RawData!I657,\"\")","v":""},{"$f":"IF(RawData!J657<>\"\", RawData!J657,\"\")","v":""},"","","","","",false,false,false,false,false,"","",""]
[{"$f":"IF(RawData!A658<>\"\", RawData!A658,\"\")","v":""},{"$f":"IF(RawData!B658<>\"\", RawData!B658,\"\")","v":""},{"$f":"IF(RawData!C658<>\"\", RawData!C658,\"\")","v":""},{"$f":"IF(RawData!D658<>\"\", RawData!D658,\"\")","v":""},{"$f":"IF(RawData!E658<>\"\", RawData!E658,\"\")","v":""},{"$f":"IF(RawData!F658<>\"\", RawData!F658,\"\")","v":""},{"$f":"IF(RawData!G658<>\"\", RawData!G658,\"\")","v":""},{"$f":"IF(RawData!H658<>\"\", RawData!H658,\"\")","v":""},{"$f":"IF(RawData!I658<>\"\", RawData!I658,\"\")","v":""},{"$f":"IF(RawData!J658<>\"\", RawData!J658,\"\")","v":""},"","","","","",false,false,false,false,false,"","",""]
[{"$f":"IF(RawData!A659<>\"\", RawData!A659,\"\")","v":""},{"$f":"IF(RawData!B659<>\"\", RawData!B659,\"\")","v":""},{"$f":"IF(RawData!C659<>\"\", RawData!C659,\"\")","v":""},{"$f":"IF(RawData!D659<>\"\", RawData!D659,\"\")","v":""},{"$f":"IF(RawData!E659<>\"\", RawData!E659,\"\")","v":""},{"$f":"IF(RawData!F659<>\"\", RawData!F659,\"\")","v":""},{"$f":"IF(RawData!G659<>\"\", RawData!G659,\"\")","v":""},{"$f":"IF(RawData!H659<>\"\", RawData!H659,\"\")","v":""},{"$f":"IF(RawData!I659<>\"\", RawData!I659,\"\")","v":""},{"$f":"IF(RawData!J659<>\"\", RawData!J659,\"\")","v":""},"","","","","",false,false,false,false,false,"","",""]
[{"$f":"IF(RawData!A660<>\"\", RawData!A660,\"\")","v":""},{"$f":"IF(RawData!B660<>\"\", RawData!B660,\"\")","v":""},{"$f":"IF(RawData!C660<>\"\", RawData!C660,\"\")","v":""},{"$f":"IF(RawData!D660<>\"\", RawData!D660,\"\")","v":""},{"$f":"IF(RawData!E660<>\"\", RawData!E660,\"\")","v":""},{"$f":"IF(RawData!F660<>\"\", RawData!F660,\"\")","v":""},{"$f":"IF(RawData!G660<>\"\", RawData!G660,\"\")","v":""},{"$f":"IF(RawData!H660<>\"\", RawData!H660,\"\")","v":""},{"$f":"IF(RawData!I660<>\"\", RawData!I660,\"\")","v":""},{"$f":"IF(RawData!J660<>\"\", RawData!J660,\"\")","v":""},"","","","","",false,false,false,false,false,"","",""]
[{"$f":"IF(RawData!A661<>\"\", RawData!A661,\"\")","v":""},{"$f":"IF(RawData!B661<>\"\", RawData!B661,\"\")","v":""},{"$f":"IF(RawData!C661<>\"\", RawData!C661,\"\")","v":""},{"$f":"IF(RawData!D661<>\"\", RawData!D661,\"\")","v":""},{"$f":"IF(RawData!E661<>\"\", RawData!E661,\"\")","v":""},{"$f":"IF(RawData!F661<>\"\", RawData!F661,\"\")","v":""},{"$f":"IF(RawData!G661<>\"\", RawData!G661,\"\")","v":""},{"$f":"IF(RawData!H661<>\"\", RawData!H661,\"\")","v":""},{"$f":"IF(RawData!I661<>\"\", RawData!I661,\"\")","v":""},{"$f":"IF(RawData!J661<>\"\", RawData!J661,\"\")","v":""},"","","","","",false,false,false,false,false,"","",""]
[{"$f":"IF(RawData!A662<>\"\", RawData!A662,\"\")","v":""},{"$f":"IF(RawData!B662<>\"\", RawData!B662,\"\")","v":""},{"$f":"IF(RawData!C662<>\"\", RawData!C662,\"\")","v":""},{"$f":"IF(RawData!D662<>\"\", RawData!D662,\"\")","v":""},{"$f":"IF(RawData!E662<>\"\", RawData!E662,\"\")","v":""},{"$f":"IF(RawData!F662<>\"\", RawData!F662,\"\")","v":""},{"$f":"IF(RawData!G662<>\"\", RawData!G662,\"\")","v":""},{"$f":"IF(RawData!H662<>\"\", RawData!H662,\"\")","v":""},{"$f":"IF(RawData!I662<>\"\", RawData!I662,\"\")","v":""},{"$f":"IF(RawData!J662<>\"\", RawData!J662,\"\")","v":""},"","","","","",false,false,false,false,false,"","",""]
[{"$f":"IF(RawData!A663<>\"\", RawData!A663,\"\")","v":""},{"$f":"IF(RawData!B663<>\"\", RawData!B663,\"\")","v":""},{"$f":"IF(RawData!C663<>\"\", RawData!C663,\"\")","v":""},{"$f":"IF(RawData!D663<>\"\", RawData!D663,\"\")","v":""},{"$f":"IF(RawData!E663<>\"\", RawData!E663,\"\")","v":""},{"$f":"IF(RawData!F663<>\"\", RawData!F663,\"\")","v":""},{"$f":"IF(RawData!G663<>\"\", RawData!G663,\"\")","v":""},{"$f":"IF(RawData!H663<>\"\", RawData!H663,\"\")","v":""},{"$f":"IF(RawData!I663<>\"\", RawData!I663,\"\")","v":""},{"$f":"IF(RawData!J663<>\"\", RawData!J663,\"\")","v":""},"","","","","",false,false,false,false,false,"","",""]
[{"$f":"IF(RawData!A664<>\"\", RawData!A664,\"\")","v":""},{"$f":"IF(RawData!B664<>\"\", RawData!B664,\"\")","v":""},{"$f":"IF(RawData!C664<>\"\", RawData!C664,\"\")","v":""},{"$f":"IF(RawData!D664<>\"\", RawData!D664,\"\")","v":""},{"$f":"IF(RawData!E664<>\"\", RawData!E664,\"\")","v":""},{"$f":"IF(RawData!F664<>\"\", RawData!F664,\"\")","v":""},{"$f":"IF(RawData!G664<>\"\", RawData!G664,\"\")","v":""},{"$f":"IF(RawData!H664<>\"\", RawData!H664,\"\")","v":""},{"$f":"IF(RawData!I664<>\"\", RawData!I664,\"\")","v":""},{"$f":"IF(RawData!J664<>\"\", RawData!J664,\"\")","v":""},"","","","","",false,false,false,false,false,"","",""]
[{"$f":"IF(RawData!A665<>\"\", RawData!A665,\"\")","v":""},{"$f":"IF(RawData!B665<>\"\", RawData!B665,\"\")","v":""},{"$f":"IF(RawData!C665<>\"\", RawData!C665,\"\")","v":""},{"$f":"IF(RawData!D665<>\"\", RawData!D665,\"\")","v":""},{"$f":"IF(RawData!E665<>\"\", RawData!E665,\"\")","v":""},{"$f":"IF(RawData!F665<>\"\", RawData!F665,\"\")","v":""},{"$f":"IF(RawData!G665<>\"\", RawData!G665,\"\")","v":""},{"$f":"IF(RawData!H665<>\"\", RawData!H665,\"\")","v":""},{"$f":"IF(RawData!I665<>\"\", RawData!I665,\"\")","v":""},{"$f":"IF(RawData!J665<>\"\", RawData!J665,\"\")","v":""},"","","","","",false,false,false,false,false,"","",""]
[{"$f":"IF(RawData!A666<>\"\", RawData!A666,\"\")","v":""},{"$f":"IF(RawData!B666<>\"\", RawData!B666,\"\")","v":""},{"$f":"IF(RawData!C666<>\"\", RawData!C666,\"\")","v":""},{"$f":"IF(RawData!D666<>\"\", RawData!D666,\"\")","v":""},{"$f":"IF(RawData!E666<>\"\", RawData!E666,\"\")","v":""},{"$f":"IF(RawData!F666<>\"\", RawData!F666,\"\")","v":""},{"$f":"IF(RawData!G666<>\"\", RawData!G666,\"\")","v":""},{"$f":"IF(RawData!H666<>\"\", RawData!H666,\"\")","v":""},{"$f":"IF(RawData!I666<>\"\", RawData!I666,\"\")","v":""},{"$f":"IF(RawData!J666<>\"\", RawData!J666,\"\")","v":""},"","","","","",false,false,false,false,false,"","",""]
[{"$f":"IF(RawData!A667<>\"\", RawData!A667,\"\")","v":""},{"$f":"IF(RawData!B667<>\"\", RawData!B667,\"\")","v":""},{"$f":"IF(RawData!C667<>\"\", RawData!C667,\"\")","v":""},{"$f":"IF(RawData!D667<>\"\", RawData!D667,\"\")","v":""},{"$f":"IF(RawData!E667<>\"\", RawData!E667,\"\")","v":""},{"$f":"IF(RawData!F667<>\"\", RawData!F667,\"\")","v":""},{"$f":"IF(RawData!G667<>\"\", RawData!G667,\"\")","v":""},{"$f":"IF(RawData!H667<>\"\", RawData!H667,\"\")","v":""},{"$f":"IF(RawData!I667<>\"\", RawData!I667,\"\")","v":""},{"$f":"IF(RawData!J667<>\"\", RawData!J667,\"\")","v":""},"","","","","",false,false,false,false,false,"","",""]
[{"$f":"IF(RawData!A668<>\"\", RawData!A668,\"\")","v":""},{"$f":"IF(RawData!B668<>\"\", RawData!B668,\"\")","v":""},{"$f":"IF(RawData!C668<>\"\", RawData!C668,\"\")","v":""},{"$f":"IF(RawData!D668<>\"\", RawData!D668,\"\")","v":""},{"$f":"IF(RawData!E668<>\"\", RawData!E668,\"\")","v":""},{"$f":"IF(RawData!F668<>\"\", RawData!F668,\"\")","v":""},{"$f":"IF(RawData!G668<>\"\", RawData!G668,\"\")","v":""},{"$f":"IF(RawData!H668<>\"\", RawData!H668,\"\")","v":""},{"$f":"IF(RawData!I668<>\"\", RawData!I668,\"\")","v":""},{"$f":"IF(RawData!J668<>\"\", RawData!J668,\"\")","v":""},"","","","","",false,false,false,false,false,"","",""]
[{"$f":"IF(RawData!A669<>\"\", RawData!A669,\"\")","v":""},{"$f":"IF(RawData!B669<>\"\", RawData!B669,\"\")","v":""},{"$f":"IF(RawData!C669<>\"\", RawData!C669,\"\")","v":""},{"$f":"IF(RawData!D669<>\"\", RawData!D669,\"\")","v":""},{"$f":"IF(RawData!E669<>\"\", RawData!E669,\"\")","v":""},{"$f":"IF(RawData!F669<>\"\", RawData!F669,\"\")","v":""},{"$f":"IF(RawData!G669<>\"\", RawData!G669,\"\")","v":""},{"$f":"IF(RawData!H669<>\"\", RawData!H669,\"\")","v":""},{"$f":"IF(RawData!I669<>\"\", RawData!I669,\"\")","v":""},{"$f":"IF(RawData!J669<>\"\", RawData!J669,\"\")","v":""},"","","","","",false,false,false,false,false,"","",""]
[{"$f":"IF(RawData!A670<>\"\", RawData!A670,\"\")","v":""},{"$f":"IF(RawData!B670<>\"\", RawData!B670,\"\")","v":""},{"$f":"IF(RawData!C670<>\"\", RawData!C670,\"\")","v":""},{"$f":"IF(RawData!D670<>\"\", RawData!D670,\"\")","v":""},{"$f":"IF(RawData!E670<>\"\", RawData!E670,\"\")","v":""},{"$f":"IF(RawData!F670<>\"\", RawData!F670,\"\")","v":""},{"$f":"IF(RawData!G670<>\"\", RawData!G670,\"\")","v":""},{"$f":"IF(RawData!H670<>\"\", RawData!H670,\"\")","v":""},{"$f":"IF(RawData!I670<>\"\", RawData!I670,\"\")","v":""},{"$f":"IF(RawData!J670<>\"\", RawData!J670,\"\")","v":""},"","","","","",false,false,false,false,false,"","",""]
[{"$f":"IF(RawData!A671<>\"\", RawData!A671,\"\")","v":""},{"$f":"IF(RawData!B671<>\"\", RawData!B671,\"\")","v":""},{"$f":"IF(RawData!C671<>\"\", RawData!C671,\"\")","v":""},{"$f":"IF(RawData!D671<>\"\", RawData!D671,\"\")","v":""},{"$f":"IF(RawData!E671<>\"\", RawData!E671,\"\")","v":""},{"$f":"IF(RawData!F671<>\"\", RawData!F671,\"\")","v":""},{"$f":"IF(RawData!G671<>\"\", RawData!G671,\"\")","v":""},{"$f":"IF(RawData!H671<>\"\", RawData!H671,\"\")","v":""},{"$f":"IF(RawData!I671<>\"\", RawData!I671,\"\")","v":""},{"$f":"IF(RawData!J671<>\"\", RawData!J671,\"\")","v":""},"","","","","",false,false,false,false,false,"","",""]
[{"$f":"IF(RawData!A672<>\"\", RawData!A672,\"\")","v":""},{"$f":"IF(RawData!B672<>\"\", RawData!B672,\"\")","v":""},{"$f":"IF(RawData!C672<>\"\", RawData!C672,\"\")","v":""},{"$f":"IF(RawData!D672<>\"\", RawData!D672,\"\")","v":""},{"$f":"IF(RawData!E672<>\"\", RawData!E672,\"\")","v":""},{"$f":"IF(RawData!F672<>\"\", RawData!F672,\"\")","v":""},{"$f":"IF(RawData!G672<>\"\", RawData!G672,\"\")","v":""},{"$f":"IF(RawData!H672<>\"\", RawData!H672,\"\")","v":""},{"$f":"IF(RawData!I672<>\"\", RawData!I672,\"\")","v":""},{"$f":"IF(RawData!J672<>\"\", RawData!J672,\"\")","v":""},"","","","","",false,false,false,false,false,"","",""]
[{"$f":"IF(RawData!A673<>\"\", RawData!A673,\"\")","v":""},{"$f":"IF(RawData!B673<>\"\", RawData!B673,\"\")","v":""},{"$f":"IF(RawData!C673<>\"\", RawData!C673,\"\")","v":""},{"$f":"IF(RawData!D673<>\"\", RawData!D673,\"\")","v":""},{"$f":"IF(RawData!E673<>\"\", RawData!E673,\"\")","v":""},{"$f":"IF(RawData!F673<>\"\", RawData!F673,\"\")","v":""},{"$f":"IF(RawData!G673<>\"\", RawData!G673,\"\")","v":""},{"$f":"IF(RawData!H673<>\"\", RawData!H673,\"\")","v":""},{"$f":"IF(RawData!I673<>\"\", RawData!I673,\"\")","v":""},{"$f":"IF(RawData!J673<>\"\", RawData!J673,\"\")","v":""},"","","","","",false,false,false,false,false,"","",""]
[{"$f":"IF(RawData!A674<>\"\", RawData!A674,\"\")","v":""},{"$f":"IF(RawData!B674<>\"\", RawData!B674,\"\")","v":""},{"$f":"IF(RawData!C674<>\"\", RawData!C674,\"\")","v":""},{"$f":"IF(RawData!D674<>\"\", RawData!D674,\"\")","v":""},{"$f":"IF(RawData!E674<>\"\", RawData!E674,\"\")","v":""},{"$f":"IF(RawData!F674<>\"\", RawData!F674,\"\")","v":""},{"$f":"IF(RawData!G674<>\"\", RawData!G674,\"\")","v":""},{"$f":"IF(RawData!H674<>\"\", RawData!H674,\"\")","v":""},{"$f":"IF(RawData!I674<>\"\", RawData!I674,\"\")","v":""},{"$f":"IF(RawData!J674<>\"\", RawData!J674,\"\")","v":""},"","","","","",false,false,false,false,false,"","",""]
[{"$f":"IF(RawData!A675<>\"\", RawData!A675,\"\")","v":""},{"$f":"IF(RawData!B675<>\"\", RawData!B675,\"\")","v":""},{"$f":"IF(RawData!C675<>\"\", RawData!C675,\"\")","v":""},{"$f":"IF(RawData!D675<>\"\", RawData!D675,\"\")","v":""},{"$f":"IF(RawData!E675<>\"\", RawData!E675,\"\")","v":""},{"$f":"IF(RawData!F675<>\"\", RawData!F675,\"\")","v":""},{"$f":"IF(RawData!G675<>\"\", RawData!G675,\"\")","v":""},{"$f":"IF(RawData!H675<>\"\", RawData!H675,\"\")","v":""},{"$f":"IF(RawData!I675<>\"\", RawData!I675,\"\")","v":""},{"$f":"IF(RawData!J675<>\"\", RawData!J675,\"\")","v":""},"","","","","",false,false,false,false,false,"","",""]
[{"$f":"IF(RawData!A676<>\"\", RawData!A676,\"\")","v":""},{"$f":"IF(RawData!B676<>\"\", RawData!B676,\"\")","v":""},{"$f":"IF(RawData!C676<>\"\", RawData!C676,\"\")","v":""},{"$f":"IF(RawData!D676<>\"\", RawData!D676,\"\")","v":""},{"$f":"IF(RawData!E676<>\"\", RawData!E676,\"\")","v":""},{"$f":"IF(RawData!F676<>\"\", RawData!F676,\"\")","v":""},{"$f":"IF(RawData!G676<>\"\", RawData!G676,\"\")","v":""},{"$f":"IF(RawData!H676<>\"\", RawData!H676,\"\")","v":""},{"$f":"IF(RawData!I676<>\"\", RawData!I676,\"\")","v":""},{"$f":"IF(RawData!J676<>\"\", RawData!J676,\"\")","v":""},"","","","","",false,false,false,false,false,"","",""]
[{"$f":"IF(RawData!A677<>\"\", RawData!A677,\"\")","v":""},{"$f":"IF(RawData!B677<>\"\", RawData!B677,\"\")","v":""},{"$f":"IF(RawData!C677<>\"\", RawData!C677,\"\")","v":""},{"$f":"IF(RawData!D677<>\"\", RawData!D677,\"\")","v":""},{"$f":"IF(RawData!E677<>\"\", RawData!E677,\"\")","v":""},{"$f":"IF(RawData!F677<>\"\", RawData!F677,\"\")","v":""},{"$f":"IF(RawData!G677<>\"\", RawData!G677,\"\")","v":""},{"$f":"IF(RawData!H677<>\"\", RawData!H677,\"\")","v":""},{"$f":"IF(RawData!I677<>\"\", RawData!I677,\"\")","v":""},{"$f":"IF(RawData!J677<>\"\", RawData!J677,\"\")","v":""},"","","","","",false,false,false,false,false,"","",""]
[{"$f":"IF(RawData!A678<>\"\", RawData!A678,\"\")","v":""},{"$f":"IF(RawData!B678<>\"\", RawData!B678,\"\")","v":""},{"$f":"IF(RawData!C678<>\"\", RawData!C678,\"\")","v":""},{"$f":"IF(RawData!D678<>\"\", RawData!D678,\"\")","v":""},{"$f":"IF(RawData!E678<>\"\", RawData!E678,\"\")","v":""},{"$f":"IF(RawData!F678<>\"\", RawData!F678,\"\")","v":""},{"$f":"IF(RawData!G678<>\"\", RawData!G678,\"\")","v":""},{"$f":"IF(RawData!H678<>\"\", RawData!H678,\"\")","v":""},{"$f":"IF(RawData!I678<>\"\", RawData!I678,\"\")","v":""},{"$f":"IF(RawData!J678<>\"\", RawData!J678,\"\")","v":""},"","","","","",false,false,false,false,false,"","",""]
[{"$f":"IF(RawData!A679<>\"\", RawData!A679,\"\")","v":""},{"$f":"IF(RawData!B679<>\"\", RawData!B679,\"\")","v":""},{"$f":"IF(RawData!C679<>\"\", RawData!C679,\"\")","v":""},{"$f":"IF(RawData!D679<>\"\", RawData!D679,\"\")","v":""},{"$f":"IF(RawData!E679<>\"\", RawData!E679,\"\")","v":""},{"$f":"IF(RawData!F679<>\"\", RawData!F679,\"\")","v":""},{"$f":"IF(RawData!G679<>\"\", RawData!G679,\"\")","v":""},{"$f":"IF(RawData!H679<>\"\", RawData!H679,\"\")","v":""},{"$f":"IF(RawData!I679<>\"\", RawData!I679,\"\")","v":""},{"$f":"IF(RawData!J679<>\"\", RawData!J679,\"\")","v":""},"","","","","",false,false,false,false,false,"","",""]
[{"$f":"IF(RawData!A680<>\"\", RawData!A680,\"\")","v":""},{"$f":"IF(RawData!B680<>\"\", RawData!B680,\"\")","v":""},{"$f":"IF(RawData!C680<>\"\", RawData!C680,\"\")","v":""},{"$f":"IF(RawData!D680<>\"\", RawData!D680,\"\")","v":""},{"$f":"IF(RawData!E680<>\"\", RawData!E680,\"\")","v":""},{"$f":"IF(RawData!F680<>\"\", RawData!F680,\"\")","v":""},{"$f":"IF(RawData!G680<>\"\", RawData!G680,\"\")","v":""},{"$f":"IF(RawData!H680<>\"\", RawData!H680,\"\")","v":""},{"$f":"IF(RawData!I680<>\"\", RawData!I680,\"\")","v":""},{"$f":"IF(RawData!J680<>\"\", RawData!J680,\"\")","v":""},"","","","","",false,false,false,false,false,"","",""]
[{"$f":"IF(RawData!A681<>\"\", RawData!A681,\"\")","v":""},{"$f":"IF(RawData!B681<>\"\", RawData!B681,\"\")","v":""},{"$f":"IF(RawData!C681<>\"\", RawData!C681,\"\")","v":""},{"$f":"IF(RawData!D681<>\"\", RawData!D681,\"\")","v":""},{"$f":"IF(RawData!E681<>\"\", RawData!E681,\"\")","v":""},{"$f":"IF(RawData!F681<>\"\", RawData!F681,\"\")","v":""},{"$f":"IF(RawData!G681<>\"\", RawData!G681,\"\")","v":""},{"$f":"IF(RawData!H681<>\"\", RawData!H681,\"\")","v":""},{"$f":"IF(RawData!I681<>\"\", RawData!I681,\"\")","v":""},{"$f":"IF(RawData!J681<>\"\", RawData!J681,\"\")","v":""},"","","","","",false,false,false,false,false,"","",""]
[{"$f":"IF(RawData!A682<>\"\", RawData!A682,\"\")","v":""},{"$f":"IF(RawData!B682<>\"\", RawData!B682,\"\")","v":""},{"$f":"IF(RawData!C682<>\"\", RawData!C682,\"\")","v":""},{"$f":"IF(RawData!D682<>\"\", RawData!D682,\"\")","v":""},{"$f":"IF(RawData!E682<>\"\", RawData!E682,\"\")","v":""},{"$f":"IF(RawData!F682<>\"\", RawData!F682,\"\")","v":""},{"$f":"IF(RawData!G682<>\"\", RawData!G682,\"\")","v":""},{"$f":"IF(RawData!H682<>\"\", RawData!H682,\"\")","v":""},{"$f":"IF(RawData!I682<>\"\", RawData!I682,\"\")","v":""},{"$f":"IF(RawData!J682<>\"\", RawData!J682,\"\")","v":""},"","","","","",false,false,false,false,false,"","",""]
[{"$f":"IF(RawData!A683<>\"\", RawData!A683,\"\")","v":""},{"$f":"IF(RawData!B683<>\"\", RawData!B683,\"\")","v":""},{"$f":"IF(RawData!C683<>\"\", RawData!C683,\"\")","v":""},{"$f":"IF(RawData!D683<>\"\", RawData!D683,\"\")","v":""},{"$f":"IF(RawData!E683<>\"\", RawData!E683,\"\")","v":""},{"$f":"IF(RawData!F683<>\"\", RawData!F683,\"\")","v":""},{"$f":"IF(RawData!G683<>\"\", RawData!G683,\"\")","v":""},{"$f":"IF(RawData!H683<>\"\", RawData!H683,\"\")","v":""},{"$f":"IF(RawData!I683<>\"\", RawData!I683,\"\")","v":""},{"$f":"IF(RawData!J683<>\"\", RawData!J683,\"\")","v":""},"","","","","",false,false,false,false,false,"","",""]
[{"$f":"IF(RawData!A684<>\"\", RawData!A684,\"\")","v":""},{"$f":"IF(RawData!B684<>\"\", RawData!B684,\"\")","v":""},{"$f":"IF(RawData!C684<>\"\", RawData!C684,\"\")","v":""},{"$f":"IF(RawData!D684<>\"\", RawData!D684,\"\")","v":""},{"$f":"IF(RawData!E684<>\"\", RawData!E684,\"\")","v":""},{"$f":"IF(RawData!F684<>\"\", RawData!F684,\"\")","v":""},{"$f":"IF(RawData!G684<>\"\", RawData!G684,\"\")","v":""},{"$f":"IF(RawData!H684<>\"\", RawData!H684,\"\")","v":""},{"$f":"IF(RawData!I684<>\"\", RawData!I684,\"\")","v":""},{"$f":"IF(RawData!J684<>\"\", RawData!J684,\"\")","v":""},"","","","","",false,false,false,false,false,"","",""]
[{"$f":"IF(RawData!A685<>\"\", RawData!A685,\"\")","v":""},{"$f":"IF(RawData!B685<>\"\", RawData!B685,\"\")","v":""},{"$f":"IF(RawData!C685<>\"\", RawData!C685,\"\")","v":""},{"$f":"IF(RawData!D685<>\"\", RawData!D685,\"\")","v":""},{"$f":"IF(RawData!E685<>\"\", RawData!E685,\"\")","v":""},{"$f":"IF(RawData!F685<>\"\", RawData!F685,\"\")","v":""},{"$f":"IF(RawData!G685<>\"\", RawData!G685,\"\")","v":""},{"$f":"IF(RawData!H685<>\"\", RawData!H685,\"\")","v":""},{"$f":"IF(RawData!I685<>\"\", RawData!I685,\"\")","v":""},{"$f":"IF(RawData!J685<>\"\", RawData!J685,\"\")","v":""},"","","","","",false,false,false,false,false,"","",""]
[{"$f":"IF(RawData!A686<>\"\", RawData!A686,\"\")","v":""},{"$f":"IF(RawData!B686<>\"\", RawData!B686,\"\")","v":""},{"$f":"IF(RawData!C686<>\"\", RawData!C686,\"\")","v":""},{"$f":"IF(RawData!D686<>\"\", RawData!D686,\"\")","v":""},{"$f":"IF(RawData!E686<>\"\", RawData!E686,\"\")","v":""},{"$f":"IF(RawData!F686<>\"\", RawData!F686,\"\")","v":""},{"$f":"IF(RawData!G686<>\"\", RawData!G686,\"\")","v":""},{"$f":"IF(RawData!H686<>\"\", RawData!H686,\"\")","v":""},{"$f":"IF(RawData!I686<>\"\", RawData!I686,\"\")","v":""},{"$f":"IF(RawData!J686<>\"\", RawData!J686,\"\")","v":""},"","","","","",false,false,false,false,false,"","",""]
[{"$f":"IF(RawData!A687<>\"\", RawData!A687,\"\")","v":""},{"$f":"IF(RawData!B687<>\"\", RawData!B687,\"\")","v":""},{"$f":"IF(RawData!C687<>\"\", RawData!C687,\"\")","v":""},{"$f":"IF(RawData!D687<>\"\", RawData!D687,\"\")","v":""},{"$f":"IF(RawData!E687<>\"\", RawData!E687,\"\")","v":""},{"$f":"IF(RawData!F687<>\"\", RawData!F687,\"\")","v":""},{"$f":"IF(RawData!G687<>\"\", RawData!G687,\"\")","v":""},{"$f":"IF(RawData!H687<>\"\", RawData!H687,\"\")","v":""},{"$f":"IF(RawData!I687<>\"\", RawData!I687,\"\")","v":""},{"$f":"IF(RawData!J687<>\"\", RawData!J687,\"\")","v":""},"","","","","",false,false,false,false,false,"","",""]
[{"$f":"IF(RawData!A688<>\"\", RawData!A688,\"\")","v":""},{"$f":"IF(RawData!B688<>\"\", RawData!B688,\"\")","v":""},{"$f":"IF(RawData!C688<>\"\", RawData!C688,\"\")","v":""},{"$f":"IF(RawData!D688<>\"\", RawData!D688,\"\")","v":""},{"$f":"IF(RawData!E688<>\"\", RawData!E688,\"\")","v":""},{"$f":"IF(RawData!F688<>\"\", RawData!F688,\"\")","v":""},{"$f":"IF(RawData!G688<>\"\", RawData!G688,\"\")","v":""},{"$f":"IF(RawData!H688<>\"\", RawData!H688,\"\")","v":""},{"$f":"IF(RawData!I688<>\"\", RawData!I688,\"\")","v":""},{"$f":"IF(RawData!J688<>\"\", RawData!J688,\"\")","v":""},"","","","","",false,false,false,false,false,"","",""]
[{"$f":"IF(RawData!A689<>\"\", RawData!A689,\"\")","v":""},{"$f":"IF(RawData!B689<>\"\", RawData!B689,\"\")","v":""},{"$f":"IF(RawData!C689<>\"\", RawData!C689,\"\")","v":""},{"$f":"IF(RawData!D689<>\"\", RawData!D689,\"\")","v":""},{"$f":"IF(RawData!E689<>\"\", RawData!E689,\"\")","v":""},{"$f":"IF(RawData!F689<>\"\", RawData!F689,\"\")","v":""},{"$f":"IF(RawData!G689<>\"\", RawData!G689,\"\")","v":""},{"$f":"IF(RawData!H689<>\"\", RawData!H689,\"\")","v":""},{"$f":"IF(RawData!I689<>\"\", RawData!I689,\"\")","v":""},{"$f":"IF(RawData!J689<>\"\", RawData!J689,\"\")","v":""},"","","","","",false,false,false,false,false,"","",""]
[{"$f":"IF(RawData!A690<>\"\", RawData!A690,\"\")","v":""},{"$f":"IF(RawData!B690<>\"\", RawData!B690,\"\")","v":""},{"$f":"IF(RawData!C690<>\"\", RawData!C690,\"\")","v":""},{"$f":"IF(RawData!D690<>\"\", RawData!D690,\"\")","v":""},{"$f":"IF(RawData!E690<>\"\", RawData!E690,\"\")","v":""},{"$f":"IF(RawData!F690<>\"\", RawData!F690,\"\")","v":""},{"$f":"IF(RawData!G690<>\"\", RawData!G690,\"\")","v":""},{"$f":"IF(RawData!H690<>\"\", RawData!H690,\"\")","v":""},{"$f":"IF(RawData!I690<>\"\", RawData!I690,\"\")","v":""},{"$f":"IF(RawData!J690<>\"\", RawData!J690,\"\")","v":""},{"$f":"IF(G690<>\"\",IF(G690<3, 1, 0),\"\")","v":""},{"$f":"IF(G690<>\"\",IF(G690>=1, 1, 0),\"\")","v":""},{"$f":"IF(G690<>\"\",IF(AND(G690>=1,G690<=7), 1, 0),\"\")","v":""},"",{"$f":"IF(G690<>\"\",IF(G690>=8, 1, 0),\"\")","v":""},false,false,false,false,false,{"$f":"IF(H690<>\"\",IF(H690=1,IF(J690=4, 1, 0),\"\"),\"\")","v":""},"",""]
[{"$f":"IF(RawData!A691<>\"\", RawData!A691,\"\")","v":""},{"$f":"IF(RawData!B691<>\"\", RawData!B691,\"\")","v":""},{"$f":"IF(RawData!C691<>\"\", RawData!C691,\"\")","v":""},{"$f":"IF(RawData!D691<>\"\", RawData!D691,\"\")","v":""},{"$f":"IF(RawData!E691<>\"\", RawData!E691,\"\")","v":""},{"$f":"IF(RawData!F691<>\"\", RawData!F691,\"\")","v":""},{"$f":"IF(RawData!G691<>\"\", RawData!G691,\"\")","v":""},{"$f":"IF(RawData!H691<>\"\", RawData!H691,\"\")","v":""},{"$f":"IF(RawData!I691<>\"\", RawData!I691,\"\")","v":""},{"$f":"IF(RawData!J691<>\"\", RawData!J691,\"\")","v":""},"","","","","",{"$f":"IF(L691<>\"\", IF(J691<>\"\",IF(L691=0,IF(J691=1, 1, 0),\"\")))","v":false},{"$f":"IF(K691<>\"\",IF(J691<>\"\",IF(K691=1,IF(J691=1, 1, 0),\"\")))","v":false},{"$f":"IF(M691<>\"\",IF(J691<>\"\",IF(M691=1,IF(J691=2, 1, 0),\"\")))","v":false},{"$f":"IF(N691<>\"\",IF(J691<>\"\",IF(N691=1,IF(J691=3, 1, 0),\"\")))","v":false},{"$f":"IF(O691<>\"\",IF(J691<>\"\",IF(O691=1,IF(J691=4, 1, 0),\"\")))","v":false},"",{"$f":"IF(J691<>\"\",IF(OR(P691=1,Q691=1,R691=1,S691=1, T691=1, U691=1),1,0),\"\")","v":""},{"$f":"IF(J691<>\"\",IF(AND(J691<>0,V691=0),1,0),\"\")","v":""}]
[{"$f":"IF(RawData!A692<>\"\", RawData!A692,\"\")","v":""},{"$f":"IF(RawData!B692<>\"\", RawData!B692,\"\")","v":""},{"$f":"IF(RawData!C692<>\"\", RawData!C692,\"\")","v":""},{"$f":"IF(RawData!D692<>\"\", RawData!D692,\"\")","v":""},{"$f":"IF(RawData!E692<>\"\", RawData!E692,\"\")","v":""},{"$f":"IF(RawData!F692<>\"\", RawData!F692,\"\")","v":""},{"$f":"IF(RawData!G692<>\"\", RawData!G692,\"\")","v":""},{"$f":"IF(RawData!H692<>\"\", RawData!H692,\"\")","v":""},{"$f":"IF(RawData!I692<>\"\", RawData!I692,\"\")","v":""},{"$f":"IF(RawData!J692<>\"\", RawData!J692,\"\")","v":""},"","","","","",false,false,false,false,false,"","",""]
[{"$f":"IF(RawData!A693<>\"\", RawData!A693,\"\")","v":""},{"$f":"IF(RawData!B693<>\"\", RawData!B693,\"\")","v":""},{"$f":"IF(RawData!C693<>\"\", RawData!C693,\"\")","v":""},{"$f":"IF(RawData!D693<>\"\", RawData!D693,\"\")","v":""},{"$f":"IF(RawData!E693<>\"\", RawData!E693,\"\")","v":""},{"$f":"IF(RawData!F693<>\"\", RawData!F693,\"\")","v":""},{"$f":"IF(RawData!G693<>\"\", RawData!G693,\"\")","v":""},{"$f":"IF(RawData!H693<>\"\", RawData!H693,\"\")","v":""},{"$f":"IF(RawData!I693<>\"\", RawData!I693,\"\")","v":""},{"$f":"IF(RawData!J693<>\"\", RawData!J693,\"\")","v":""},"","","","","",false,false,false,false,false,"","",""]
[{"$f":"IF(RawData!A694<>\"\", RawData!A694,\"\")","v":""},{"$f":"IF(RawData!B694<>\"\", RawData!B694,\"\")","v":""},{"$f":"IF(RawData!C694<>\"\", RawData!C694,\"\")","v":""},{"$f":"IF(RawData!D694<>\"\", RawData!D694,\"\")","v":""},{"$f":"IF(RawData!E694<>\"\", RawData!E694,\"\")","v":""},{"$f":"IF(RawData!F694<>\"\", RawData!F694,\"\")","v":""},{"$f":"IF(RawData!G694<>\"\", RawData!G694,\"\")","v":""},{"$f":"IF(RawData!H694<>\"\", RawData!H694,\"\")","v":""},{"$f":"IF(RawData!I694<>\"\", RawData!I694,\"\")","v":""},{"$f":"IF(RawData!J694<>\"\", RawData!J694,\"\")","v":""},"","","","","",false,false,false,false,false,"","",""]
[{"$f":"IF(RawData!A695<>\"\", RawData!A695,\"\")","v":""},{"$f":"IF(RawData!B695<>\"\", RawData!B695,\"\")","v":""},{"$f":"IF(RawData!C695<>\"\", RawData!C695,\"\")","v":""},{"$f":"IF(RawData!D695<>\"\", RawData!D695,\"\")","v":""},{"$f":"IF(RawData!E695<>\"\", RawData!E695,\"\")","v":""},{"$f":"IF(RawData!F695<>\"\", RawData!F695,\"\")","v":""},{"$f":"IF(RawData!G695<>\"\", RawData!G695,\"\")","v":""},{"$f":"IF(RawData!H695<>\"\", RawData!H695,\"\")","v":""},{"$f":"IF(RawData!I695<>\"\", RawData!I695,\"\")","v":""},{"$f":"IF(RawData!J695<>\"\", RawData!J695,\"\")","v":""},"","","","","",false,false,false,false,false,"","",""]
[{"$f":"IF(RawData!A696<>\"\", RawData!A696,\"\")","v":""},{"$f":"IF(RawData!B696<>\"\", RawData!B696,\"\")","v":""},{"$f":"IF(RawData!C696<>\"\", RawData!C696,\"\")","v":""},{"$f":"IF(RawData!D696<>\"\", RawData!D696,\"\")","v":""},{"$f":"IF(RawData!E696<>\"\", RawData!E696,\"\")","v":""},{"$f":"IF(RawData!F696<>\"\", RawData!F696,\"\")","v":""},{"$f":"IF(RawData!G696<>\"\", RawData!G696,\"\")","v":""},{"$f":"IF(RawData!H696<>\"\", RawData!H696,\"\")","v":""},{"$f":"IF(RawData!I696<>\"\", RawData!I696,\"\")","v":""},{"$f":"IF(RawData!J696<>\"\", RawData!J696,\"\")","v":""},"","","","","",false,false,false,false,false,"","",""]
[{"$f":"IF(RawData!A697<>\"\", RawData!A697,\"\")","v":""},{"$f":"IF(RawData!B697<>\"\", RawData!B697,\"\")","v":""},{"$f":"IF(RawData!C697<>\"\", RawData!C697,\"\")","v":""},{"$f":"IF(RawData!D697<>\"\", RawData!D697,\"\")","v":""},{"$f":"IF(RawData!E697<>\"\", RawData!E697,\"\")","v":""},{"$f":"IF(RawData!F697<>\"\", RawData!F697,\"\")","v":""},{"$f":"IF(RawData!G697<>\"\", RawData!G697,\"\")","v":""},{"$f":"IF(RawData!H697<>\"\", RawData!H697,\"\")","v":""},{"$f":"IF(RawData!I697<>\"\", RawData!I697,\"\")","v":""},{"$f":"IF(RawData!J697<>\"\", RawData!J697,\"\")","v":""},"","","","","",false,false,false,false,false,"","",""]
[{"$f":"IF(RawData!A698<>\"\", RawData!A698,\"\")","v":""},{"$f":"IF(RawData!B698<>\"\", RawData!B698,\"\")","v":""},{"$f":"IF(RawData!C698<>\"\", RawData!C698,\"\")","v":""},{"$f":"IF(RawData!D698<>\"\", RawData!D698,\"\")","v":""},{"$f":"IF(RawData!E698<>\"\", RawData!E698,\"\")","v":""},{"$f":"IF(RawData!F698<>\"\", RawData!F698,\"\")","v":""},{"$f":"IF(RawData!G698<>\"\", RawData!G698,\"\")","v":""},{"$f":"IF(RawData!H698<>\"\", RawData!H698,\"\")","v":""},{"$f":"IF(RawData!I698<>\"\", RawData!I698,\"\")","v":""},{"$f":"IF(RawData!J698<>\"\", RawData!J698,\"\")","v":""},"","","","","",false,false,false,false,false,"","",""]
[{"$f":"IF(RawData!A699<>\"\", RawData!A699,\"\")","v":""},{"$f":"IF(RawData!B699<>\"\", RawData!B699,\"\")","v":""},{"$f":"IF(RawData!C699<>\"\", RawData!C699,\"\")","v":""},{"$f":"IF(RawData!D699<>\"\", RawData!D699,\"\")","v":""},{"$f":"IF(RawData!E699<>\"\", RawData!E699,\"\")","v":""},{"$f":"IF(RawData!F699<>\"\", RawData!F699,\"\")","v":""},{"$f":"IF(RawData!G699<>\"\", RawData!G699,\"\")","v":""},{"$f":"IF(RawData!H699<>\"\", RawData!H699,\"\")","v":""},{"$f":"IF(RawData!I699<>\"\", RawData!I699,\"\")","v":""},{"$f":"IF(RawData!J699<>\"\", RawData!J699,\"\")","v":""},"","","","","",false,false,false,false,false,"","",""]
[{"$f":"IF(RawData!A700<>\"\", RawData!A700,\"\")","v":""},{"$f":"IF(RawData!B700<>\"\", RawData!B700,\"\")","v":""},{"$f":"IF(RawData!C700<>\"\", RawData!C700,\"\")","v":""},{"$f":"IF(RawData!D700<>\"\", RawData!D700,\"\")","v":""},{"$f":"IF(RawData!E700<>\"\", RawData!E700,\"\")","v":""},{"$f":"IF(RawData!F700<>\"\", RawData!F700,\"\")","v":""},{"$f":"IF(RawData!G700<>\"\", RawData!G700,\"\")","v":""},{"$f":"IF(RawData!H700<>\"\", RawData!H700,\"\")","v":""},{"$f":"IF(RawData!I700<>\"\", RawData!I700,\"\")","v":""},{"$f":"IF(RawData!J700<>\"\", RawData!J700,\"\")","v":""},"","","","","",false,false,false,false,false,"","",""]
[{"$f":"IF(RawData!A701<>\"\", RawData!A701,\"\")","v":""},{"$f":"IF(RawData!B701<>\"\", RawData!B701,\"\")","v":""},{"$f":"IF(RawData!C701<>\"\", RawData!C701,\"\")","v":""},{"$f":"IF(RawData!D701<>\"\", RawData!D701,\"\")","v":""},{"$f":"IF(RawData!E701<>\"\", RawData!E701,\"\")","v":""},{"$f":"IF(RawData!F701<>\"\", RawData!F701,\"\")","v":""},{"$f":"IF(RawData!G701<>\"\", RawData!G701,\"\")","v":""},{"$f":"IF(RawData!H701<>\"\", RawData!H701,\"\")","v":""},{"$f":"IF(RawData!I701<>\"\", RawData!I701,\"\")","v":""},{"$f":"IF(RawData!J701<>\"\", RawData!J701,\"\")","v":""},"","","","","",false,false,false,false,false,"","",""]
[{"$f":"IF(RawData!A702<>\"\", RawData!A702,\"\")","v":""},{"$f":"IF(RawData!B702<>\"\", RawData!B702,\"\")","v":""},{"$f":"IF(RawData!C702<>\"\", RawData!C702,\"\")","v":""},{"$f":"IF(RawData!D702<>\"\", RawData!D702,\"\")","v":""},{"$f":"IF(RawData!E702<>\"\", RawData!E702,\"\")","v":""},{"$f":"IF(RawData!F702<>\"\", RawData!F702,\"\")","v":""},{"$f":"IF(RawData!G702<>\"\", RawData!G702,\"\")","v":""},{"$f":"IF(RawData!H702<>\"\", RawData!H702,\"\")","v":""},{"$f":"IF(RawData!I702<>\"\", RawData!I702,\"\")","v":""},{"$f":"IF(RawData!J702<>\"\", RawData!J702,\"\")","v":""},"","","","","",false,false,false,false,false,"","",""]
[{"$f":"IF(RawData!A703<>\"\", RawData!A703,\"\")","v":""},{"$f":"IF(RawData!B703<>\"\", RawData!B703,\"\")","v":""},{"$f":"IF(RawData!C703<>\"\", RawData!C703,\"\")","v":""},{"$f":"IF(RawData!D703<>\"\", RawData!D703,\"\")","v":""},{"$f":"IF(RawData!E703<>\"\", RawData!E703,\"\")","v":""},{"$f":"IF(RawData!F703<>\"\", RawData!F703,\"\")","v":""},{"$f":"IF(RawData!G703<>\"\", RawData!G703,\"\")","v":""},{"$f":"IF(RawData!H703<>\"\", RawData!H703,\"\")","v":""},{"$f":"IF(RawData!I703<>\"\", RawData!I703,\"\")","v":""},{"$f":"IF(RawData!J703<>\"\", RawData!J703,\"\")","v":""},"","","","","",false,false,false,false,false,"","",""]
[{"$f":"IF(RawData!A704<>\"\", RawData!A704,\"\")","v":""},{"$f":"IF(RawData!B704<>\"\", RawData!B704,\"\")","v":""},{"$f":"IF(RawData!C704<>\"\", RawData!C704,\"\")","v":""},{"$f":"IF(RawData!D704<>\"\", RawData!D704,\"\")","v":""},{"$f":"IF(RawData!E704<>\"\", RawData!E704,\"\")","v":""},{"$f":"IF(RawData!F704<>\"\", RawData!F704,\"\")","v":""},{"$f":"IF(RawData!G704<>\"\", RawData!G704,\"\")","v":""},{"$f":"IF(RawData!H704<>\"\", RawData!H704,\"\")","v":""},{"$f":"IF(RawData!I704<>\"\", RawData!I704,\"\")","v":""},{"$f":"IF(RawData!J704<>\"\", RawData!J704,\"\")","v":""},"","","","","",false,false,false,false,false,"","",""]
[{"$f":"IF(RawData!A705<>\"\", RawData!A705,\"\")","v":""},{"$f":"IF(RawData!B705<>\"\", RawData!B705,\"\")","v":""},{"$f":"IF(RawData!C705<>\"\", RawData!C705,\"\")","v":""},{"$f":"IF(RawData!D705<>\"\", RawData!D705,\"\")","v":""},{"$f":"IF(RawData!E705<>\"\", RawData!E705,\"\")","v":""},{"$f":"IF(RawData!F705<>\"\", RawData!F705,\"\")","v":""},{"$f":"IF(RawData!G705<>\"\", RawData!G705,\"\")","v":""},{"$f":"IF(RawData!H705<>\"\", RawData!H705,\"\")","v":""},{"$f":"IF(RawData!I705<>\"\", RawData!I705,\"\")","v":""},{"$f":"IF(RawData!J705<>\"\", RawData!J705,\"\")","v":""},"","","","","",false,false,false,false,false,"","",""]
[{"$f":"IF(RawData!A706<>\"\", RawData!A706,\"\")","v":""},{"$f":"IF(RawData!B706<>\"\", RawData!B706,\"\")","v":""},{"$f":"IF(RawData!C706<>\"\", RawData!C706,\"\")","v":""},{"$f":"IF(RawData!D706<>\"\", RawData!D706,\"\")","v":""},{"$f":"IF(RawData!E706<>\"\", RawData!E706,\"\")","v":""},{"$f":"IF(RawData!F706<>\"\", RawData!F706,\"\")","v":""},{"$f":"IF(RawData!G706<>\"\", RawData!G706,\"\")","v":""},{"$f":"IF(RawData!H706<>\"\", RawData!H706,\"\")","v":""},{"$f":"IF(RawData!I706<>\"\", RawData!I706,\"\")","v":""},{"$f":"IF(RawData!J706<>\"\", RawData!J706,\"\")","v":""},"","","","","",false,false,false,false,false,"","",""]
[{"$f":"IF(RawData!A707<>\"\", RawData!A707,\"\")","v":""},{"$f":"IF(RawData!B707<>\"\", RawData!B707,\"\")","v":""},{"$f":"IF(RawData!C707<>\"\", RawData!C707,\"\")","v":""},{"$f":"IF(RawData!D707<>\"\", RawData!D707,\"\")","v":""},{"$f":"IF(RawData!E707<>\"\", RawData!E707,\"\")","v":""},{"$f":"IF(RawData!F707<>\"\", RawData!F707,\"\")","v":""},{"$f":"IF(RawData!G707<>\"\", RawData!G707,\"\")","v":""},{"$f":"IF(RawData!H707<>\"\", RawData!H707,\"\")","v":""},{"$f":"IF(RawData!I707<>\"\", RawData!I707,\"\")","v":""},{"$f":"IF(RawData!J707<>\"\", RawData!J707,\"\")","v":""},"","","","","",false,false,false,false,false,"","",""]
[{"$f":"IF(RawData!A708<>\"\", RawData!A708,\"\")","v":""},{"$f":"IF(RawData!B708<>\"\", RawData!B708,\"\")","v":""},{"$f":"IF(RawData!C708<>\"\", RawData!C708,\"\")","v":""},{"$f":"IF(RawData!D708<>\"\", RawData!D708,\"\")","v":""},{"$f":"IF(RawData!E708<>\"\", RawData!E708,\"\")","v":""},{"$f":"IF(RawData!F708<>\"\", RawData!F708,\"\")","v":""},{"$f":"IF(RawData!G708<>\"\", RawData!G708,\"\")","v":""},{"$f":"IF(RawData!H708<>\"\", RawData!H708,\"\")","v":""},{"$f":"IF(RawData!I708<>\"\", RawData!I708,\"\")","v":""},{"$f":"IF(RawData!J708<>\"\", RawData!J708,\"\")","v":""},"","","","","",false,false,false,false,false,"","",""]
[{"$f":"IF(RawData!A709<>\"\", RawData!A709,\"\")","v":""},{"$f":"IF(RawData!B709<>\"\", RawData!B709,\"\")","v":""},{"$f":"IF(RawData!C709<>\"\", RawData!C709,\"\")","v":""},{"$f":"IF(RawData!D709<>\"\", RawData!D709,\"\")","v":""},{"$f":"IF(RawData!E709<>\"\", RawData!E709,\"\")","v":""},{"$f":"IF(RawData!F709<>\"\", RawData!F709,\"\")","v":""},{"$f":"IF(RawData!G709<>\"\", RawData!G709,\"\")","v":""},{"$f":"IF(RawData!H709<>\"\", RawData!H709,\"\")","v":""},{"$f":"IF(RawData!I709<>\"\", RawData!I709,\"\")","v":""},{"$f":"IF(RawData!J709<>\"\", RawData!J709,\"\")","v":""},"","","","","",false,false,false,false,false,"","",""]
[{"$f":"IF(RawData!A710<>\"\", RawData!A710,\"\")","v":""},{"$f":"IF(RawData!B710<>\"\", RawData!B710,\"\")","v":""},{"$f":"IF(RawData!C710<>\"\", RawData!C710,\"\")","v":""},{"$f":"IF(RawData!D710<>\"\", RawData!D710,\"\")","v":""},{"$f":"IF(RawData!E710<>\"\", RawData!E710,\"\")","v":""},{"$f":"IF(RawData!F710<>\"\", RawData!F710,\"\")","v":""},{"$f":"IF(RawData!G710<>\"\", RawData!G710,\"\")","v":""},{"$f":"IF(RawData!H710<>\"\", RawData!H710,\"\")","v":""},{"$f":"IF(RawData!I710<>\"\", RawData!I710,\"\")","v":""},{"$f":"IF(RawData!J710<>\"\", RawData!J710,\"\")","v":""},"","","","","",false,false,false,false,false,"","",""]
[{"$f":"IF(RawData!A711<>\"\", RawData!A711,\"\")","v":""},{"$f":"IF(RawData!B711<>\"\", RawData!B711,\"\")","v":""},{"$f":"IF(RawData!C711<>\"\", RawData!C711,\"\")","v":""},{"$f":"IF(RawData!D711<>\"\", RawData!D711,\"\")","v":""},{"$f":"IF(RawData!E711<>\"\", RawData!E711,\"\")","v":""},{"$f":"IF(RawData!F711<>\"\", RawData!F711,\"\")","v":""},{"$f":"IF(RawData!G711<>\"\", RawData!G711,\"\")","v":""},{"$f":"IF(RawData!H711<>\"\", RawData!H711,\"\")","v":""},{"$f":"IF(RawData!I711<>\"\", RawData!I711,\"\")","v":""},{"$f":"IF(RawData!J711<>\"\", RawData!J711,\"\")","v":""},"","","",{"$f":"IF(G711<>\"\",IF(G711>=4, 1, 0),\"\")","v":""},"",false,false,false,false,false,"","",""]
[{"$f":"IF(RawData!A712<>\"\", RawData!A712,\"\")","v":""},{"$f":"IF(RawData!B712<>\"\", RawData!B712,\"\")","v":""},{"$f":"IF(RawData!C712<>\"\", RawData!C712,\"\")","v":""},{"$f":"IF(RawData!D712<>\"\", RawData!D712,\"\")","v":""},{"$f":"IF(RawData!E712<>\"\", RawData!E712,\"\")","v":""},{"$f":"IF(RawData!F712<>\"\", RawData!F712,\"\")","v":""},{"$f":"IF(RawData!G712<>\"\", RawData!G712,\"\")","v":""},{"$f":"IF(RawData!H712<>\"\", RawData!H712,\"\")","v":""},{"$f":"IF(RawData!I712<>\"\", RawData!I712,\"\")","v":""},{"$f":"IF(RawData!J712<>\"\", RawData!J712,\"\")","v":""},"","","","","",false,false,false,false,false,"","",""]
[{"$f":"IF(RawData!A713<>\"\", RawData!A713,\"\")","v":""},{"$f":"IF(RawData!B713<>\"\", RawData!B713,\"\")","v":""},{"$f":"IF(RawData!C713<>\"\", RawData!C713,\"\")","v":""},{"$f":"IF(RawData!D713<>\"\", RawData!D713,\"\")","v":""},{"$f":"IF(RawData!E713<>\"\", RawData!E713,\"\")","v":""},{"$f":"IF(RawData!F713<>\"\", RawData!F713,\"\")","v":""},{"$f":"IF(RawData!G713<>\"\", RawData!G713,\"\")","v":""},{"$f":"IF(RawData!H713<>\"\", RawData!H713,\"\")","v":""},{"$f":"IF(RawData!I713<>\"\", RawData!I713,\"\")","v":""},{"$f":"IF(RawData!J713<>\"\", RawData!J713,\"\")","v":""},"","","","","",false,false,false,false,false,"","",""]
[{"$f":"IF(RawData!A714<>\"\", RawData!A714,\"\")","v":""},{"$f":"IF(RawData!B714<>\"\", RawData!B714,\"\")","v":""},{"$f":"IF(RawData!C714<>\"\", RawData!C714,\"\")","v":""},{"$f":"IF(RawData!D714<>\"\", RawData!D714,\"\")","v":""},{"$f":"IF(RawData!E714<>\"\", RawData!E714,\"\")","v":""},{"$f":"IF(RawData!F714<>\"\", RawData!F714,\"\")","v":""},{"$f":"IF(RawData!G714<>\"\", RawData!G714,\"\")","v":""},{"$f":"IF(RawData!H714<>\"\", RawData!H714,\"\")","v":""},{"$f":"IF(RawData!I714<>\"\", RawData!I714,\"\")","v":""},{"$f":"IF(RawData!J714<>\"\", RawData!J714,\"\")","v":""},"","","","","",false,false,false,false,false,"","",""]
[{"$f":"IF(RawData!A715<>\"\", RawData!A715,\"\")","v":""},{"$f":"IF(RawData!B715<>\"\", RawData!B715,\"\")","v":""},{"$f":"IF(RawData!C715<>\"\", RawData!C715,\"\")","v":""},{"$f":"IF(RawData!D715<>\"\", RawData!D715,\"\")","v":""},{"$f":"IF(RawData!E715<>\"\", RawData!E715,\"\")","v":""},{"$f":"IF(RawData!F715<>\"\", RawData!F715,\"\")","v":""},{"$f":"IF(RawData!G715<>\"\", RawData!G715,\"\")","v":""},{"$f":"IF(RawData!H715<>\"\", RawData!H715,\"\")","v":""},{"$f":"IF(RawData!I715<>\"\", RawData!I715,\"\")","v":""},{"$f":"IF(RawData!J715<>\"\", RawData!J715,\"\")","v":""},"","","","","",false,false,false,false,false,"","",""]
[{"$f":"IF(RawData!A716<>\"\", RawData!A716,\"\")","v":""},{"$f":"IF(RawData!B716<>\"\", RawData!B716,\"\")","v":""},{"$f":"IF(RawData!C716<>\"\", RawData!C716,\"\")","v":""},{"$f":"IF(RawData!D716<>\"\", RawData!D716,\"\")","v":""},{"$f":"IF(RawData!E716<>\"\", RawData!E716,\"\")","v":""},{"$f":"IF(RawData!F716<>\"\", RawData!F716,\"\")","v":""},{"$f":"IF(RawData!G716<>\"\", RawData!G716,\"\")","v":""},{"$f":"IF(RawData!H716<>\"\", RawData!H716,\"\")","v":""},{"$f":"IF(RawData!I716<>\"\", RawData!I716,\"\")","v":""},{"$f":"IF(RawData!J716<>\"\", RawData!J716,\"\")","v":""},"","","","","",false,false,false,false,false,"","",""]
[{"$f":"IF(RawData!A717<>\"\", RawData!A717,\"\")","v":""},{"$f":"IF(RawData!B717<>\"\", RawData!B717,\"\")","v":""},{"$f":"IF(RawData!C717<>\"\", RawData!C717,\"\")","v":""},{"$f":"IF(RawData!D717<>\"\", RawData!D717,\"\")","v":""},{"$f":"IF(RawData!E717<>\"\", RawData!E717,\"\")","v":""},{"$f":"IF(RawData!F717<>\"\", RawData!F717,\"\")","v":""},{"$f":"IF(RawData!G717<>\"\", RawData!G717,\"\")","v":""},{"$f":"IF(RawData!H717<>\"\", RawData!H717,\"\")","v":""},{"$f":"IF(RawData!I717<>\"\", RawData!I717,\"\")","v":""},{"$f":"IF(RawData!J717<>\"\", RawData!J717,\"\")","v":""},"","","","","",false,false,false,false,false,"","",""]
[{"$f":"IF(RawData!A718<>\"\", RawData!A718,\"\")","v":""},{"$f":"IF(RawData!B718<>\"\", RawData!B718,\"\")","v":""},{"$f":"IF(RawData!C718<>\"\", RawData!C718,\"\")","v":""},{"$f":"IF(RawData!D718<>\"\", RawData!D718,\"\")","v":""},{"$f":"IF(RawData!E718<>\"\", RawData!E718,\"\")","v":""},{"$f":"IF(RawData!F718<>\"\", RawData!F718,\"\")","v":""},{"$f":"IF(RawData!G718<>\"\", RawData!G718,\"\")","v":""},{"$f":"IF(RawData!H718<>\"\", RawData!H718,\"\")","v":""},{"$f":"IF(RawData!I718<>\"\", RawData!I718,\"\")","v":""},{"$f":"IF(RawData!J718<>\"\", RawData!J718,\"\")","v":""},"","","","","",false,false,false,false,false,"","",""]
[{"$f":"IF(RawData!A719<>\"\", RawData!A719,\"\")","v":""},{"$f":"IF(RawData!B719<>\"\", RawData!B719,\"\")","v":""},{"$f":"IF(RawData!C719<>\"\", RawData!C719,\"\")","v":""},{"$f":"IF(RawData!D719<>\"\", RawData!D719,\"\")","v":""},{"$f":"IF(RawData!E719<>\"\", RawData!E719,\"\")","v":""},{"$f":"IF(RawData!F719<>\"\", RawData!F719,\"\")","v":""},{"$f":"IF(RawData!G719<>\"\", RawData!G719,\"\")","v":""},{"$f":"IF(RawData!H719<>\"\", RawData!H719,\"\")","v":""},{"$f":"IF(RawData!I719<>\"\", RawData!I719,\"\")","v":""},{"$f":"IF(RawData!J719<>\"\", RawData!J719,\"\")","v":""},"","","","","",false,false,false,false,false,"","",""]
[{"$f":"IF(RawData!A720<>\"\", RawData!A720,\"\")","v":""},{"$f":"IF(RawData!B720<>\"\", RawData!B720,\"\")","v":""},{"$f":"IF(RawData!C720<>\"\", RawData!C720,\"\")","v":""},{"$f":"IF(RawData!D720<>\"\", RawData!D720,\"\")","v":""},{"$f":"IF(RawData!E720<>\"\", RawData!E720,\"\")","v":""},{"$f":"IF(RawData!F720<>\"\", RawData!F720,\"\")","v":""},{"$f":"IF(RawData!G720<>\"\", RawData!G720,\"\")","v":""},{"$f":"IF(RawData!H720<>\"\", RawData!H720,\"\")","v":""},{"$f":"IF(RawData!I720<>\"\", RawData!I720,\"\")","v":""},{"$f":"IF(RawData!J720<>\"\", RawData!J720,\"\")","v":""},"","","","","",false,false,false,false,false,"","",""]
[{"$f":"IF(RawData!A721<>\"\", RawData!A721,\"\")","v":""},{"$f":"IF(RawData!B721<>\"\", RawData!B721,\"\")","v":""},{"$f":"IF(RawData!C721<>\"\", RawData!C721,\"\")","v":""},{"$f":"IF(RawData!D721<>\"\", RawData!D721,\"\")","v":""},{"$f":"IF(RawData!E721<>\"\", RawData!E721,\"\")","v":""},{"$f":"IF(RawData!F721<>\"\", RawData!F721,\"\")","v":""},{"$f":"IF(RawData!G721<>\"\", RawData!G721,\"\")","v":""},{"$f":"IF(RawData!H721<>\"\", RawData!H721,\"\")","v":""},{"$f":"IF(RawData!I721<>\"\", RawData!I721,\"\")","v":""},{"$f":"IF(RawData!J721<>\"\", RawData!J721,\"\")","v":""},"","","","","",false,false,false,false,false,"","",""]
[{"$f":"IF(RawData!A722<>\"\", RawData!A722,\"\")","v":""},{"$f":"IF(RawData!B722<>\"\", RawData!B722,\"\")","v":""},{"$f":"IF(RawData!C722<>\"\", RawData!C722,\"\")","v":""},{"$f":"IF(RawData!D722<>\"\", RawData!D722,\"\")","v":""},{"$f":"IF(RawData!E722<>\"\", RawData!E722,\"\")","v":""},{"$f":"IF(RawData!F722<>\"\", RawData!F722,\"\")","v":""},{"$f":"IF(RawData!G722<>\"\", RawData!G722,\"\")","v":""},{"$f":"IF(RawData!H722<>\"\", RawData!H722,\"\")","v":""},{"$f":"IF(RawData!I722<>\"\", RawData!I722,\"\")","v":""},{"$f":"IF(RawData!J722<>\"\", RawData!J722,\"\")","v":""},"","","","","",false,false,false,false,false,"","",""]
[{"$f":"IF(RawData!A723<>\"\", RawData!A723,\"\")","v":""},{"$f":"IF(RawData!B723<>\"\", RawData!B723,\"\")","v":""},{"$f":"IF(RawData!C723<>\"\", RawData!C723,\"\")","v":""},{"$f":"IF(RawData!D723<>\"\", RawData!D723,\"\")","v":""},{"$f":"IF(RawData!E723<>\"\", RawData!E723,\"\")","v":""},{"$f":"IF(RawData!F723<>\"\", RawData!F723,\"\")","v":""},{"$f":"IF(RawData!G723<>\"\", RawData!G723,\"\")","v":""},{"$f":"IF(RawData!H723<>\"\", RawData!H723,\"\")","v":""},{"$f":"IF(RawData!I723<>\"\", RawData!I723,\"\")","v":""},{"$f":"IF(RawData!J723<>\"\", RawData!J723,\"\")","v":""},"","","","","",false,false,false,false,false,"","",""]
[{"$f":"IF(RawData!A724<>\"\", RawData!A724,\"\")","v":""},{"$f":"IF(RawData!B724<>\"\", RawData!B724,\"\")","v":""},{"$f":"IF(RawData!C724<>\"\", RawData!C724,\"\")","v":""},{"$f":"IF(RawData!D724<>\"\", RawData!D724,\"\")","v":""},{"$f":"IF(RawData!E724<>\"\", RawData!E724,\"\")","v":""},{"$f":"IF(RawData!F724<>\"\", RawData!F724,\"\")","v":""},{"$f":"IF(RawData!G724<>\"\", RawData!G724,\"\")","v":""},{"$f":"IF(RawData!H724<>\"\", RawData!H724,\"\")","v":""},{"$f":"IF(RawData!I724<>\"\", RawData!I724,\"\")","v":""},{"$f":"IF(RawData!J724<>\"\", RawData!J724,\"\")","v":""},"","","","","",false,false,false,false,false,"","",""]
[{"$f":"IF(RawData!A725<>\"\", RawData!A725,\"\")","v":""},{"$f":"IF(RawData!B725<>\"\", RawData!B725,\"\")","v":""},{"$f":"IF(RawData!C725<>\"\", RawData!C725,\"\")","v":""},{"$f":"IF(RawData!D725<>\"\", RawData!D725,\"\")","v":""},{"$f":"IF(RawData!E725<>\"\", RawData!E725,\"\")","v":""},{"$f":"IF(RawData!F725<>\"\", RawData!F725,\"\")","v":""},{"$f":"IF(RawData!G725<>\"\", RawData!G725,\"\")","v":""},{"$f":"IF(RawData!H725<>\"\", RawData!H725,\"\")","v":""},{"$f":"IF(RawData!I725<>\"\", RawData!I725,\"\")","v":""},{"$f":"IF(RawData!J725<>\"\", RawData!J725,\"\")","v":""},"","","","","",false,false,false,false,false,"","",""]
[{"$f":"IF(RawData!A726<>\"\", RawData!A726,\"\")","v":""},{"$f":"IF(RawData!B726<>\"\", RawData!B726,\"\")","v":""},{"$f":"IF(RawData!C726<>\"\", RawData!C726,\"\")","v":""},{"$f":"IF(RawData!D726<>\"\", RawData!D726,\"\")","v":""},{"$f":"IF(RawData!E726<>\"\", RawData!E726,\"\")","v":""},{"$f":"IF(RawData!F726<>\"\", RawData!F726,\"\")","v":""},{"$f":"IF(RawData!G726<>\"\", RawData!G726,\"\")","v":""},{"$f":"IF(RawData!H726<>\"\", RawData!H726,\"\")","v":""},{"$f":"IF(RawData!I726<>\"\", RawData!I726,\"\")","v":""},{"$f":"IF(RawData!J726<>\"\", RawData!J726,\"\")","v":""},"","","","","",false,false,false,false,false,"","",""]
[{"$f":"IF(RawData!A727<>\"\", RawData!A727,\"\")","v":""},{"$f":"IF(RawData!B727<>\"\", RawData!B727,\"\")","v":""},{"$f":"IF(RawData!C727<>\"\", RawData!C727,\"\")","v":""},{"$f":"IF(RawData!D727<>\"\", RawData!D727,\"\")","v":""},{"$f":"IF(RawData!E727<>\"\", RawData!E727,\"\")","v":""},{"$f":"IF(RawData!F727<>\"\", RawData!F727,\"\")","v":""},{"$f":"IF(RawData!G727<>\"\", RawData!G727,\"\")","v":""},{"$f":"IF(RawData!H727<>\"\", RawData!H727,\"\")","v":""},{"$f":"IF(RawData!I727<>\"\", RawData!I727,\"\")","v":""},{"$f":"IF(RawData!J727<>\"\", RawData!J727,\"\")","v":""},"","","","","",false,false,false,false,false,"","",""]
[{"$f":"IF(RawData!A728<>\"\", RawData!A728,\"\")","v":""},{"$f":"IF(RawData!B728<>\"\", RawData!B728,\"\")","v":""},{"$f":"IF(RawData!C728<>\"\", RawData!C728,\"\")","v":""},{"$f":"IF(RawData!D728<>\"\", RawData!D728,\"\")","v":""},{"$f":"IF(RawData!E728<>\"\", RawData!E728,\"\")","v":""},{"$f":"IF(RawData!F728<>\"\", RawData!F728,\"\")","v":""},{"$f":"IF(RawData!G728<>\"\", RawData!G728,\"\")","v":""},{"$f":"IF(RawData!H728<>\"\", RawData!H728,\"\")","v":""},{"$f":"IF(RawData!I728<>\"\", RawData!I728,\"\")","v":""},{"$f":"IF(RawData!J728<>\"\", RawData!J728,\"\")","v":""},"","","","","",false,false,false,false,false,"","",""]
[{"$f":"IF(RawData!A729<>\"\", RawData!A729,\"\")","v":""},{"$f":"IF(RawData!B729<>\"\", RawData!B729,\"\")","v":""},{"$f":"IF(RawData!C729<>\"\", RawData!C729,\"\")","v":""},{"$f":"IF(RawData!D729<>\"\", RawData!D729,\"\")","v":""},{"$f":"IF(RawData!E729<>\"\", RawData!E729,\"\")","v":""},{"$f":"IF(RawData!F729<>\"\", RawData!F729,\"\")","v":""},{"$f":"IF(RawData!G729<>\"\", RawData!G729,\"\")","v":""},{"$f":"IF(RawData!H729<>\"\", RawData!H729,\"\")","v":""},{"$f":"IF(RawData!I729<>\"\", RawData!I729,\"\")","v":""},{"$f":"IF(RawData!J729<>\"\", RawData!J729,\"\")","v":""},"","","","","",false,false,false,false,false,"","",""]
[{"$f":"IF(RawData!A730<>\"\", RawData!A730,\"\")","v":""},{"$f":"IF(RawData!B730<>\"\", RawData!B730,\"\")","v":""},{"$f":"IF(RawData!C730<>\"\", RawData!C730,\"\")","v":""},{"$f":"IF(RawData!D730<>\"\", RawData!D730,\"\")","v":""},{"$f":"IF(RawData!E730<>\"\", RawData!E730,\"\")","v":""},{"$f":"IF(RawData!F730<>\"\", RawData!F730,\"\")","v":""},{"$f":"IF(RawData!G730<>\"\", RawData!G730,\"\")","v":""},{"$f":"IF(RawData!H730<>\"\", RawData!H730,\"\")","v":""},{"$f":"IF(RawData!I730<>\"\", RawData!I730,\"\")","v":""},{"$f":"IF(RawData!J730<>\"\", RawData!J730,\"\")","v":""},"","","","","",false,false,false,false,false,"","",""]
[{"$f":"IF(RawData!A731<>\"\", RawData!A731,\"\")","v":""},{"$f":"IF(RawData!B731<>\"\", RawData!B731,\"\")","v":""},{"$f":"IF(RawData!C731<>\"\", RawData!C731,\"\")","v":""},{"$f":"IF(RawData!D731<>\"\", RawData!D731,\"\")","v":""},{"$f":"IF(RawData!E731<>\"\", RawData!E731,\"\")","v":""},{"$f":"IF(RawData!F731<>\"\", RawData!F731,\"\")","v":""},{"$f":"IF(RawData!G731<>\"\", RawData!G731,\"\")","v":""},{"$f":"IF(RawData!H731<>\"\", RawData!H731,\"\")","v":""},{"$f":"IF(RawData!I731<>\"\", RawData!I731,\"\")","v":""},{"$f":"IF(RawData!J731<>\"\", RawData!J731,\"\")","v":""},"","","","","",false,false,false,false,false,"","",""]
[{"$f":"IF(RawData!A732<>\"\", RawData!A732,\"\")","v":""},{"$f":"IF(RawData!B732<>\"\", RawData!B732,\"\")","v":""},{"$f":"IF(RawData!C732<>\"\", RawData!C732,\"\")","v":""},{"$f":"IF(RawData!D732<>\"\", RawData!D732,\"\")","v":""},{"$f":"IF(RawData!E732<>\"\", RawData!E732,\"\")","v":""},{"$f":"IF(RawData!F732<>\"\", RawData!F732,\"\")","v":""},{"$f":"IF(RawData!G732<>\"\", RawData!G732,\"\")","v":""},{"$f":"IF(RawData!H732<>\"\", RawData!H732,\"\")","v":""},{"$f":"IF(RawData!I732<>\"\", RawData!I732,\"\")","v":""},{"$f":"IF(RawData!J732<>\"\", RawData!J732,\"\")","v":""},"","","","","",false,false,false,false,false,"","",""]
[{"$f":"IF(RawData!A733<>\"\", RawData!A733,\"\")","v":""},{"$f":"IF(RawData!B733<>\"\", RawData!B733,\"\")","v":""},{"$f":"IF(RawData!C733<>\"\", RawData!C733,\"\")","v":""},{"$f":"IF(RawData!D733<>\"\", RawData!D733,\"\")","v":""},{"$f":"IF(RawData!E733<>\"\", RawData!E733,\"\")","v":""},{"$f":"IF(RawData!F733<>\"\", RawData!F733,\"\")","v":""},{"$f":"IF(RawData!G733<>\"\", RawData!G733,\"\")","v":""},{"$f":"IF(RawData!H733<>\"\", RawData!H733,\"\")","v":""},{"$f":"IF(RawData!I733<>\"\", RawData!I733,\"\")","v":""},{"$f":"IF(RawData!J733<>\"\", RawData!J733,\"\")","v":""},"","","","","",false,false,false,false,false,"","",""]
[{"$f":"IF(RawData!A734<>\"\", RawData!A734,\"\")","v":""},{"$f":"IF(RawData!B734<>\"\", RawData!B734,\"\")","v":""},{"$f":"IF(RawData!C734<>\"\", RawData!C734,\"\")","v":""},{"$f":"IF(RawData!D734<>\"\", RawData!D734,\"\")","v":""},{"$f":"IF(RawData!E734<>\"\", RawData!E734,\"\")","v":""},{"$f":"IF(RawData!F734<>\"\", RawData!F734,\"\")","v":""},{"$f":"IF(RawData!G734<>\"\", RawData!G734,\"\")","v":""},{"$f":"IF(RawData!H734<>\"\", RawData!H734,\"\")","v":""},{"$f":"IF(RawData!I734<>\"\", RawData!I734,\"\")","v":""},{"$f":"IF(RawData!J734<>\"\", RawData!J734,\"\")","v":""},"","","","","",false,false,false,false,false,"","",""]
[{"$f":"IF(RawData!A735<>\"\", RawData!A735,\"\")","v":""},{"$f":"IF(RawData!B735<>\"\", RawData!B735,\"\")","v":""},{"$f":"IF(RawData!C735<>\"\", RawData!C735,\"\")","v":""},{"$f":"IF(RawData!D735<>\"\", RawData!D735,\"\")","v":""},{"$f":"IF(RawData!E735<>\"\", RawData!E735,\"\")","v":""},{"$f":"IF(RawData!F735<>\"\", RawData!F735,\"\")","v":""},{"$f":"IF(RawData!G735<>\"\", RawData!G735,\"\")","v":""},{"$f":"IF(RawData!H735<>\"\", RawData!H735,\"\")","v":""},{"$f":"IF(RawData!I735<>\"\", RawData!I735,\"\")","v":""},{"$f":"IF(RawData!J735<>\"\", RawData!J735,\"\")","v":""},"","","","","",false,false,false,false,false,"","",""]
[{"$f":"IF(RawData!A736<>\"\", RawData!A736,\"\")","v":""},{"$f":"IF(RawData!B736<>\"\", RawData!B736,\"\")","v":""},{"$f":"IF(RawData!C736<>\"\", RawData!C736,\"\")","v":""},{"$f":"IF(RawData!D736<>\"\", RawData!D736,\"\")","v":""},{"$f":"IF(RawData!E736<>\"\", RawData!E736,\"\")","v":""},{"$f":"IF(RawData!F736<>\"\", RawData!F736,\"\")","v":""},{"$f":"IF(RawData!G736<>\"\", RawData!G736,\"\")","v":""},{"$f":"IF(RawData!H736<>\"\", RawData!H736,\"\")","v":""},{"$f":"IF(RawData!I736<>\"\", RawData!I736,\"\")","v":""},{"$f":"IF(RawData!J736<>\"\", RawData!J736,\"\")","v":""},"","","","","",false,false,false,false,false,"","",""]
[{"$f":"IF(RawData!A737<>\"\", RawData!A737,\"\")","v":""},{"$f":"IF(RawData!B737<>\"\", RawData!B737,\"\")","v":""},{"$f":"IF(RawData!C737<>\"\", RawData!C737,\"\")","v":""},{"$f":"IF(RawData!D737<>\"\", RawData!D737,\"\")","v":""},{"$f":"IF(RawData!E737<>\"\", RawData!E737,\"\")","v":""},{"$f":"IF(RawData!F737<>\"\", RawData!F737,\"\")","v":""},{"$f":"IF(RawData!G737<>\"\", RawData!G737,\"\")","v":""},{"$f":"IF(RawData!H737<>\"\", RawData!H737,\"\")","v":""},{"$f":"IF(RawData!I737<>\"\", RawData!I737,\"\")","v":""},{"$f":"IF(RawData!J737<>\"\", RawData!J737,\"\")","v":""},"","","","","",false,false,false,false,false,"","",""]
[{"$f":"IF(RawData!A738<>\"\", RawData!A738,\"\")","v":""},{"$f":"IF(RawData!B738<>\"\", RawData!B738,\"\")","v":""},{"$f":"IF(RawData!C738<>\"\", RawData!C738,\"\")","v":""},{"$f":"IF(RawData!D738<>\"\", RawData!D738,\"\")","v":""},{"$f":"IF(RawData!E738<>\"\", RawData!E738,\"\")","v":""},{"$f":"IF(RawData!F738<>\"\", RawData!F738,\"\")","v":""},{"$f":"IF(RawData!G738<>\"\", RawData!G738,\"\")","v":""},{"$f":"IF(RawData!H738<>\"\", RawData!H738,\"\")","v":""},{"$f":"IF(RawData!I738<>\"\", RawData!I738,\"\")","v":""},{"$f":"IF(RawData!J738<>\"\", RawData!J738,\"\")","v":""},"","","","","",false,false,false,false,false,"","",""]
[{"$f":"IF(RawData!A739<>\"\", RawData!A739,\"\")","v":""},{"$f":"IF(RawData!B739<>\"\", RawData!B739,\"\")","v":""},{"$f":"IF(RawData!C739<>\"\", RawData!C739,\"\")","v":""},{"$f":"IF(RawData!D739<>\"\", RawData!D739,\"\")","v":""},{"$f":"IF(RawData!E739<>\"\", RawData!E739,\"\")","v":""},{"$f":"IF(RawData!F739<>\"\", RawData!F739,\"\")","v":""},{"$f":"IF(RawData!G739<>\"\", RawData!G739,\"\")","v":""},{"$f":"IF(RawData!H739<>\"\", RawData!H739,\"\")","v":""},{"$f":"IF(RawData!I739<>\"\", RawData!I739,\"\")","v":""},{"$f":"IF(RawData!J739<>\"\", RawData!J739,\"\")","v":""},"","","","","",false,false,false,false,false,"","",""]
[{"$f":"IF(RawData!A740<>\"\", RawData!A740,\"\")","v":""},{"$f":"IF(RawData!B740<>\"\", RawData!B740,\"\")","v":""},{"$f":"IF(RawData!C740<>\"\", RawData!C740,\"\")","v":""},{"$f":"IF(RawData!D740<>\"\", RawData!D740,\"\")","v":""},{"$f":"IF(RawData!E740<>\"\", RawData!E740,\"\")","v":""},{"$f":"IF(RawData!F740<>\"\", RawData!F740,\"\")","v":""},{"$f":"IF(RawData!G740<>\"\", RawData!G740,\"\")","v":""},{"$f":"IF(RawData!H740<>\"\", RawData!H740,\"\")","v":""},{"$f":"IF(RawData!I740<>\"\", RawData!I740,\"\")","v":""},{"$f":"IF(RawData!J740<>\"\", RawData!J740,\"\")","v":""},"","","","","",false,false,false,false,false,"","",""]
[{"$f":"IF(RawData!A741<>\"\", RawData!A741,\"\")","v":""},{"$f":"IF(RawData!B741<>\"\", RawData!B741,\"\")","v":""},{"$f":"IF(RawData!C741<>\"\", RawData!C741,\"\")","v":""},{"$f":"IF(RawData!D741<>\"\", RawData!D741,\"\")","v":""},{"$f":"IF(RawData!E741<>\"\", RawData!E741,\"\")","v":""},{"$f":"IF(RawData!F741<>\"\", RawData!F741,\"\")","v":""},{"$f":"IF(RawData!G741<>\"\", RawData!G741,\"\")","v":""},{"$f":"IF(RawData!H741<>\"\", RawData!H741,\"\")","v":""},{"$f":"IF(RawData!I741<>\"\", RawData!I741,\"\")","v":""},{"$f":"IF(RawData!J741<>\"\", RawData!J741,\"\")","v":""},"","","","","",false,false,false,false,false,"","",""]
[{"$f":"IF(RawData!A742<>\"\", RawData!A742,\"\")","v":""},{"$f":"IF(RawData!B742<>\"\", RawData!B742,\"\")","v":""},{"$f":"IF(RawData!C742<>\"\", RawData!C742,\"\")","v":""},{"$f":"IF(RawData!D742<>\"\", RawData!D742,\"\")","v":""},{"$f":"IF(RawData!E742<>\"\", RawData!E742,\"\")","v":""},{"$f":"IF(RawData!F742<>\"\", RawData!F742,\"\")","v":""},{"$f":"IF(RawData!G742<>\"\", RawData!G742,\"\")","v":""},{"$f":"IF(RawData!H742<>\"\", RawData!H742,\"\")","v":""},{"$f":"IF(RawData!I742<>\"\", RawData!I742,\"\")","v":""},{"$f":"IF(RawData!J742<>\"\", RawData!J742,\"\")","v":""},"","","","","",false,false,false,false,false,"","",""]
[{"$f":"IF(RawData!A743<>\"\", RawData!A743,\"\")","v":""},{"$f":"IF(RawData!B743<>\"\", RawData!B743,\"\")","v":""},{"$f":"IF(RawData!C743<>\"\", RawData!C743,\"\")","v":""},{"$f":"IF(RawData!D743<>\"\", RawData!D743,\"\")","v":""},{"$f":"IF(RawData!E743<>\"\", RawData!E743,\"\")","v":""},{"$f":"IF(RawData!F743<>\"\", RawData!F743,\"\")","v":""},{"$f":"IF(RawData!G743<>\"\", RawData!G743,\"\")","v":""},{"$f":"IF(RawData!H743<>\"\", RawData!H743,\"\")","v":""},{"$f":"IF(RawData!I743<>\"\", RawData!I743,\"\")","v":""},{"$f":"IF(RawData!J743<>\"\", RawData!J743,\"\")","v":""},"","","","","",false,false,false,false,false,"","",""]
[{"$f":"IF(RawData!A744<>\"\", RawData!A744,\"\")","v":""},{"$f":"IF(RawData!B744<>\"\", RawData!B744,\"\")","v":""},{"$f":"IF(RawData!C744<>\"\", RawData!C744,\"\")","v":""},{"$f":"IF(RawData!D744<>\"\", RawData!D744,\"\")","v":""},{"$f":"IF(RawData!E744<>\"\", RawData!E744,\"\")","v":""},{"$f":"IF(RawData!F744<>\"\", RawData!F744,\"\")","v":""},{"$f":"IF(RawData!G744<>\"\", RawData!G744,\"\")","v":""},{"$f":"IF(RawData!H744<>\"\", RawData!H744,\"\")","v":""},{"$f":"IF(RawData!I744<>\"\", RawData!I744,\"\")","v":""},{"$f":"IF(RawData!J744<>\"\", RawData!J744,\"\")","v":""},"","","","","",false,false,false,false,false,"","",""]
[{"$f":"IF(RawData!A745<>\"\", RawData!A745,\"\")","v":""},{"$f":"IF(RawData!B745<>\"\", RawData!B745,\"\")","v":""},{"$f":"IF(RawData!C745<>\"\", RawData!C745,\"\")","v":""},{"$f":"IF(RawData!D745<>\"\", RawData!D745,\"\")","v":""},{"$f":"IF(RawData!E745<>\"\", RawData!E745,\"\")","v":""},{"$f":"IF(RawData!F745<>\"\", RawData!F745,\"\")","v":""},{"$f":"IF(RawData!G745<>\"\", RawData!G745,\"\")","v":""},{"$f":"IF(RawData!H745<>\"\", RawData!H745,\"\")","v":""},{"$f":"IF(RawData!I745<>\"\", RawData!I745,\"\")","v":""},{"$f":"IF(RawData!J745<>\"\", RawData!J745,\"\")","v":""},"","","","","",false,false,false,false,false,"","",""]
[{"$f":"IF(RawData!A746<>\"\", RawData!A746,\"\")","v":""},{"$f":"IF(RawData!B746<>\"\", RawData!B746,\"\")","v":""},{"$f":"IF(RawData!C746<>\"\", RawData!C746,\"\")","v":""},{"$f":"IF(RawData!D746<>\"\", RawData!D746,\"\")","v":""},{"$f":"IF(RawData!E746<>\"\", RawData!E746,\"\")","v":""},{"$f":"IF(RawData!F746<>\"\", RawData!F746,\"\")","v":""},{"$f":"IF(RawData!G746<>\"\", RawData!G746,\"\")","v":""},{"$f":"IF(RawData!H746<>\"\", RawData!H746,\"\")","v":""},{"$f":"IF(RawData!I746<>\"\", RawData!I746,\"\")","v":""},{"$f":"IF(RawData!J746<>\"\", RawData!J746,\"\")","v":""},"","","","","",false,false,false,false,false,"","",""]
[{"$f":"IF(RawData!A747<>\"\", RawData!A747,\"\")","v":""},{"$f":"IF(RawData!B747<>\"\", RawData!B747,\"\")","v":""},{"$f":"IF(RawData!C747<>\"\", RawData!C747,\"\")","v":""},{"$f":"IF(RawData!D747<>\"\", RawData!D747,\"\")","v":""},{"$f":"IF(RawData!E747<>\"\", RawData!E747,\"\")","v":""},{"$f":"IF(RawData!F747<>\"\", RawData!F747,\"\")","v":""},{"$f":"IF(RawData!G747<>\"\", RawData!G747,\"\")","v":""},{"$f":"IF(RawData!H747<>\"\", RawData!H747,\"\")","v":""},{"$f":"IF(RawData!I747<>\"\", RawData!I747,\"\")","v":""},{"$f":"IF(RawData!J747<>\"\", RawData!J747,\"\")","v":""},"","","","","",false,false,false,false,false,"","",""]
[{"$f":"IF(RawData!A748<>\"\", RawData!A748,\"\")","v":""},{"$f":"IF(RawData!B748<>\"\", RawData!B748,\"\")","v":""},{"$f":"IF(RawData!C748<>\"\", RawData!C748,\"\")","v":""},{"$f":"IF(RawData!D748<>\"\", RawData!D748,\"\")","v":""},{"$f":"IF(RawData!E748<>\"\", RawData!E748,\"\")","v":""},{"$f":"IF(RawData!F748<>\"\", RawData!F748,\"\")","v":""},{"$f":"IF(RawData!G748<>\"\", RawData!G748,\"\")","v":""},{"$f":"IF(RawData!H748<>\"\", RawData!H748,\"\")","v":""},{"$f":"IF(RawData!I748<>\"\", RawData!I748,\"\")","v":""},{"$f":"IF(RawData!J748<>\"\", RawData!J748,\"\")","v":""},"","","","","",false,false,false,false,false,"","",""]
[{"$f":"IF(RawData!A749<>\"\", RawData!A749,\"\")","v":""},{"$f":"IF(RawData!B749<>\"\", RawData!B749,\"\")","v":""},{"$f":"IF(RawData!C749<>\"\", RawData!C749,\"\")","v":""},{"$f":"IF(RawData!D749<>\"\", RawData!D749,\"\")","v":""},{"$f":"IF(RawData!E749<>\"\", RawData!E749,\"\")","v":""},{"$f":"IF(RawData!F749<>\"\", RawData!F749,\"\")","v":""},{"$f":"IF(RawData!G749<>\"\", RawData!G749,\"\")","v":""},{"$f":"IF(RawData!H749<>\"\", RawData!H749,\"\")","v":""},{"$f":"IF(RawData!I749<>\"\", RawData!I749,\"\")","v":""},{"$f":"IF(RawData!J749<>\"\", RawData!J749,\"\")","v":""},"","","","","",false,false,false,false,false,"","",""]
[{"$f":"IF(RawData!A750<>\"\", RawData!A750,\"\")","v":""},{"$f":"IF(RawData!B750<>\"\", RawData!B750,\"\")","v":""},{"$f":"IF(RawData!C750<>\"\", RawData!C750,\"\")","v":""},{"$f":"IF(RawData!D750<>\"\", RawData!D750,\"\")","v":""},{"$f":"IF(RawData!E750<>\"\", RawData!E750,\"\")","v":""},{"$f":"IF(RawData!F750<>\"\", RawData!F750,\"\")","v":""},{"$f":"IF(RawData!G750<>\"\", RawData!G750,\"\")","v":""},{"$f":"IF(RawData!H750<>\"\", RawData!H750,\"\")","v":""},{"$f":"IF(RawData!I750<>\"\", RawData!I750,\"\")","v":""},{"$f":"IF(RawData!J750<>\"\", RawData!J750,\"\")","v":""},"","","","","",false,false,false,false,false,"","",""]
[{"$f":"IF(RawData!A751<>\"\", RawData!A751,\"\")","v":""},{"$f":"IF(RawData!B751<>\"\", RawData!B751,\"\")","v":""},{"$f":"IF(RawData!C751<>\"\", RawData!C751,\"\")","v":""},{"$f":"IF(RawData!D751<>\"\", RawData!D751,\"\")","v":""},{"$f":"IF(RawData!E751<>\"\", RawData!E751,\"\")","v":""},{"$f":"IF(RawData!F751<>\"\", RawData!F751,\"\")","v":""},{"$f":"IF(RawData!G751<>\"\", RawData!G751,\"\")","v":""},{"$f":"IF(RawData!H751<>\"\", RawData!H751,\"\")","v":""},{"$f":"IF(RawData!I751<>\"\", RawData!I751,\"\")","v":""},{"$f":"IF(RawData!J751<>\"\", RawData!J751,\"\")","v":""},"","","","","",false,false,false,false,false,"","",""]
[{"$f":"IF(RawData!A752<>\"\", RawData!A752,\"\")","v":""},{"$f":"IF(RawData!B752<>\"\", RawData!B752,\"\")","v":""},{"$f":"IF(RawData!C752<>\"\", RawData!C752,\"\")","v":""},{"$f":"IF(RawData!D752<>\"\", RawData!D752,\"\")","v":""},{"$f":"IF(RawData!E752<>\"\", RawData!E752,\"\")","v":""},{"$f":"IF(RawData!F752<>\"\", RawData!F752,\"\")","v":""},{"$f":"IF(RawData!G752<>\"\", RawData!G752,\"\")","v":""},{"$f":"IF(RawData!H752<>\"\", RawData!H752,\"\")","v":""},{"$f":"IF(RawData!I752<>\"\", RawData!I752,\"\")","v":""},{"$f":"IF(RawData!J752<>\"\", RawData!J752,\"\")","v":""},"","","","","",false,false,false,false,false,"","",""]
[{"$f":"IF(RawData!A753<>\"\", RawData!A753,\"\")","v":""},{"$f":"IF(RawData!B753<>\"\", RawData!B753,\"\")","v":""},{"$f":"IF(RawData!C753<>\"\", RawData!C753,\"\")","v":""},{"$f":"IF(RawData!D753<>\"\", RawData!D753,\"\")","v":""},{"$f":"IF(RawData!E753<>\"\", RawData!E753,\"\")","v":""},{"$f":"IF(RawData!F753<>\"\", RawData!F753,\"\")","v":""},{"$f":"IF(RawData!G753<>\"\", RawData!G753,\"\")","v":""},{"$f":"IF(RawData!H753<>\"\", RawData!H753,\"\")","v":""},{"$f":"IF(RawData!I753<>\"\", RawData!I753,\"\")","v":""},{"$f":"IF(RawData!J753<>\"\", RawData!J753,\"\")","v":""},"","","","","",false,false,false,false,false,"","",""]
[{"$f":"IF(RawData!A754<>\"\", RawData!A754,\"\")","v":""},{"$f":"IF(RawData!B754<>\"\", RawData!B754,\"\")","v":""},{"$f":"IF(RawData!C754<>\"\", RawData!C754,\"\")","v":""},{"$f":"IF(RawData!D754<>\"\", RawData!D754,\"\")","v":""},{"$f":"IF(RawData!E754<>\"\", RawData!E754,\"\")","v":""},{"$f":"IF(RawData!F754<>\"\", RawData!F754,\"\")","v":""},{"$f":"IF(RawData!G754<>\"\", RawData!G754,\"\")","v":""},{"$f":"IF(RawData!H754<>\"\", RawData!H754,\"\")","v":""},{"$f":"IF(RawData!I754<>\"\", RawData!I754,\"\")","v":""},{"$f":"IF(RawData!J754<>\"\", RawData!J754,\"\")","v":""},{"$f":"IF(G754<>\"\",IF(G754<3, 1, 0),\"\")","v":""},{"$f":"IF(G754<>\"\",IF(G754>=1, 1, 0),\"\")","v":""},{"$f":"IF(G754<>\"\",IF(AND(G754>=1,G754<=7), 1, 0),\"\")","v":""},"",{"$f":"IF(G754<>\"\",IF(G754>=8, 1, 0),\"\")","v":""},false,false,false,false,false,{"$f":"IF(H754<>\"\",IF(H754=1,IF(J754=4, 1, 0),\"\"),\"\")","v":""},"",""]
[{"$f":"IF(RawData!A755<>\"\", RawData!A755,\"\")","v":""},{"$f":"IF(RawData!B755<>\"\", RawData!B755,\"\")","v":""},{"$f":"IF(RawData!C755<>\"\", RawData!C755,\"\")","v":""},{"$f":"IF(RawData!D755<>\"\", RawData!D755,\"\")","v":""},{"$f":"IF(RawData!E755<>\"\", RawData!E755,\"\")","v":""},{"$f":"IF(RawData!F755<>\"\", RawData!F755,\"\")","v":""},{"$f":"IF(RawData!G755<>\"\", RawData!G755,\"\")","v":""},{"$f":"IF(RawData!H755<>\"\", RawData!H755,\"\")","v":""},{"$f":"IF(RawData!I755<>\"\", RawData!I755,\"\")","v":""},{"$f":"IF(RawData!J755<>\"\", RawData!J755,\"\")","v":""},"","","","","",{"$f":"IF(L755<>\"\", IF(J755<>\"\",IF(L755=0,IF(J755=1, 1, 0),\"\")))","v":false},{"$f":"IF(K755<>\"\",IF(J755<>\"\",IF(K755=1,IF(J755=1, 1, 0),\"\")))","v":false},{"$f":"IF(M755<>\"\",IF(J755<>\"\",IF(M755=1,IF(J755=2, 1, 0),\"\")))","v":false},{"$f":"IF(N755<>\"\",IF(J755<>\"\",IF(N755=1,IF(J755=3, 1, 0),\"\")))","v":false},{"$f":"IF(O755<>\"\",IF(J755<>\"\",IF(O755=1,IF(J755=4, 1, 0),\"\")))","v":false},"",{"$f":"IF(J755<>\"\",IF(OR(P755=1,Q755=1,R755=1,S755=1, T755=1, U755=1),1,0),\"\")","v":""},{"$f":"IF(J755<>\"\",IF(AND(J755<>0,V755=0),1,0),\"\")","v":""}]
[{"$f":"IF(RawData!A756<>\"\", RawData!A756,\"\")","v":""},{"$f":"IF(RawData!B756<>\"\", RawData!B756,\"\")","v":""},{"$f":"IF(RawData!C756<>\"\", RawData!C756,\"\")","v":""},{"$f":"IF(RawData!D756<>\"\", RawData!D756,\"\")","v":""},{"$f":"IF(RawData!E756<>\"\", RawData!E756,\"\")","v":""},{"$f":"IF(RawData!F756<>\"\", RawData!F756,\"\")","v":""},{"$f":"IF(RawData!G756<>\"\", RawData!G756,\"\")","v":""},{"$f":"IF(RawData!H756<>\"\", RawData!H756,\"\")","v":""},{"$f":"IF(RawData!I756<>\"\", RawData!I756,\"\")","v":""},{"$f":"IF(RawData!J756<>\"\", RawData!J756,\"\")","v":""},"","","","","",false,false,false,false,false,"","",""]
[{"$f":"IF(RawData!A757<>\"\", RawData!A757,\"\")","v":""},{"$f":"IF(RawData!B757<>\"\", RawData!B757,\"\")","v":""},{"$f":"IF(RawData!C757<>\"\", RawData!C757,\"\")","v":""},{"$f":"IF(RawData!D757<>\"\", RawData!D757,\"\")","v":""},{"$f":"IF(RawData!E757<>\"\", RawData!E757,\"\")","v":""},{"$f":"IF(RawData!F757<>\"\", RawData!F757,\"\")","v":""},{"$f":"IF(RawData!G757<>\"\", RawData!G757,\"\")","v":""},{"$f":"IF(RawData!H757<>\"\", RawData!H757,\"\")","v":""},{"$f":"IF(RawData!I757<>\"\", RawData!I757,\"\")","v":""},{"$f":"IF(RawData!J757<>\"\", RawData!J757,\"\")","v":""},"","","","","",false,false,false,false,false,"","",""]
[{"$f":"IF(RawData!A758<>\"\", RawData!A758,\"\")","v":""},{"$f":"IF(RawData!B758<>\"\", RawData!B758,\"\")","v":""},{"$f":"IF(RawData!C758<>\"\", RawData!C758,\"\")","v":""},{"$f":"IF(RawData!D758<>\"\", RawData!D758,\"\")","v":""},{"$f":"IF(RawData!E758<>\"\", RawData!E758,\"\")","v":""},{"$f":"IF(RawData!F758<>\"\", RawData!F758,\"\")","v":""},{"$f":"IF(RawData!G758<>\"\", RawData!G758,\"\")","v":""},{"$f":"IF(RawData!H758<>\"\", RawData!H758,\"\")","v":""},{"$f":"IF(RawData!I758<>\"\", RawData!I758,\"\")","v":""},{"$f":"IF(RawData!J758<>\"\", RawData!J758,\"\")","v":""},"","","","","",false,false,false,false,false,"","",""]
[{"$f":"IF(RawData!A759<>\"\", RawData!A759,\"\")","v":""},{"$f":"IF(RawData!B759<>\"\", RawData!B759,\"\")","v":""},{"$f":"IF(RawData!C759<>\"\", RawData!C759,\"\")","v":""},{"$f":"IF(RawData!D759<>\"\", RawData!D759,\"\")","v":""},{"$f":"IF(RawData!E759<>\"\", RawData!E759,\"\")","v":""},{"$f":"IF(RawData!F759<>\"\", RawData!F759,\"\")","v":""},{"$f":"IF(RawData!G759<>\"\", RawData!G759,\"\")","v":""},{"$f":"IF(RawData!H759<>\"\", RawData!H759,\"\")","v":""},{"$f":"IF(RawData!I759<>\"\", RawData!I759,\"\")","v":""},{"$f":"IF(RawData!J759<>\"\", RawData!J759,\"\")","v":""},"","","","","",false,false,false,false,false,"","",""]
[{"$f":"IF(RawData!A760<>\"\", RawData!A760,\"\")","v":""},{"$f":"IF(RawData!B760<>\"\", RawData!B760,\"\")","v":""},{"$f":"IF(RawData!C760<>\"\", RawData!C760,\"\")","v":""},{"$f":"IF(RawData!D760<>\"\", RawData!D760,\"\")","v":""},{"$f":"IF(RawData!E760<>\"\", RawData!E760,\"\")","v":""},{"$f":"IF(RawData!F760<>\"\", RawData!F760,\"\")","v":""},{"$f":"IF(RawData!G760<>\"\", RawData!G760,\"\")","v":""},{"$f":"IF(RawData!H760<>\"\", RawData!H760,\"\")","v":""},{"$f":"IF(RawData!I760<>\"\", RawData!I760,\"\")","v":""},{"$f":"IF(RawData!J760<>\"\", RawData!J760,\"\")","v":""},"","","","","",false,false,false,false,false,"","",""]
[{"$f":"IF(RawData!A761<>\"\", RawData!A761,\"\")","v":""},{"$f":"IF(RawData!B761<>\"\", RawData!B761,\"\")","v":""},{"$f":"IF(RawData!C761<>\"\", RawData!C761,\"\")","v":""},{"$f":"IF(RawData!D761<>\"\", RawData!D761,\"\")","v":""},{"$f":"IF(RawData!E761<>\"\", RawData!E761,\"\")","v":""},{"$f":"IF(RawData!F761<>\"\", RawData!F761,\"\")","v":""},{"$f":"IF(RawData!G761<>\"\", RawData!G761,\"\")","v":""},{"$f":"IF(RawData!H761<>\"\", RawData!H761,\"\")","v":""},{"$f":"IF(RawData!I761<>\"\", RawData!I761,\"\")","v":""},{"$f":"IF(RawData!J761<>\"\", RawData!J761,\"\")","v":""},"","","","","",false,false,false,false,false,"","",""]
[{"$f":"IF(RawData!A762<>\"\", RawData!A762,\"\")","v":""},{"$f":"IF(RawData!B762<>\"\", RawData!B762,\"\")","v":""},{"$f":"IF(RawData!C762<>\"\", RawData!C762,\"\")","v":""},{"$f":"IF(RawData!D762<>\"\", RawData!D762,\"\")","v":""},{"$f":"IF(RawData!E762<>\"\", RawData!E762,\"\")","v":""},{"$f":"IF(RawData!F762<>\"\", RawData!F762,\"\")","v":""},{"$f":"IF(RawData!G762<>\"\", RawData!G762,\"\")","v":""},{"$f":"IF(RawData!H762<>\"\", RawData!H762,\"\")","v":""},{"$f":"IF(RawData!I762<>\"\", RawData!I762,\"\")","v":""},{"$f":"IF(RawData!J762<>\"\", RawData!J762,\"\")","v":""},"","","","","",false,false,false,false,false,"","",""]
[{"$f":"IF(RawData!A763<>\"\", RawData!A763,\"\")","v":""},{"$f":"IF(RawData!B763<>\"\", RawData!B763,\"\")","v":""},{"$f":"IF(RawData!C763<>\"\", RawData!C763,\"\")","v":""},{"$f":"IF(RawData!D763<>\"\", RawData!D763,\"\")","v":""},{"$f":"IF(RawData!E763<>\"\", RawData!E763,\"\")","v":""},{"$f":"IF(RawData!F763<>\"\", RawData!F763,\"\")","v":""},{"$f":"IF(RawData!G763<>\"\", RawData!G763,\"\")","v":""},{"$f":"IF(RawData!H763<>\"\", RawData!H763,\"\")","v":""},{"$f":"IF(RawData!I763<>\"\", RawData!I763,\"\")","v":""},{"$f":"IF(RawData!J763<>\"\", RawData!J763,\"\")","v":""},"","","","","",false,false,false,false,false,"","",""]
[{"$f":"IF(RawData!A764<>\"\", RawData!A764,\"\")","v":""},{"$f":"IF(RawData!B764<>\"\", RawData!B764,\"\")","v":""},{"$f":"IF(RawData!C764<>\"\", RawData!C764,\"\")","v":""},{"$f":"IF(RawData!D764<>\"\", RawData!D764,\"\")","v":""},{"$f":"IF(RawData!E764<>\"\", RawData!E764,\"\")","v":""},{"$f":"IF(RawData!F764<>\"\", RawData!F764,\"\")","v":""},{"$f":"IF(RawData!G764<>\"\", RawData!G764,\"\")","v":""},{"$f":"IF(RawData!H764<>\"\", RawData!H764,\"\")","v":""},{"$f":"IF(RawData!I764<>\"\", RawData!I764,\"\")","v":""},{"$f":"IF(RawData!J764<>\"\", RawData!J764,\"\")","v":""},"","","","","",false,false,false,false,false,"","",""]
[{"$f":"IF(RawData!A765<>\"\", RawData!A765,\"\")","v":""},{"$f":"IF(RawData!B765<>\"\", RawData!B765,\"\")","v":""},{"$f":"IF(RawData!C765<>\"\", RawData!C765,\"\")","v":""},{"$f":"IF(RawData!D765<>\"\", RawData!D765,\"\")","v":""},{"$f":"IF(RawData!E765<>\"\", RawData!E765,\"\")","v":""},{"$f":"IF(RawData!F765<>\"\", RawData!F765,\"\")","v":""},{"$f":"IF(RawData!G765<>\"\", RawData!G765,\"\")","v":""},{"$f":"IF(RawData!H765<>\"\", RawData!H765,\"\")","v":""},{"$f":"IF(RawData!I765<>\"\", RawData!I765,\"\")","v":""},{"$f":"IF(RawData!J765<>\"\", RawData!J765,\"\")","v":""},"","","","","",false,false,false,false,false,"","",""]
[{"$f":"IF(RawData!A766<>\"\", RawData!A766,\"\")","v":""},{"$f":"IF(RawData!B766<>\"\", RawData!B766,\"\")","v":""},{"$f":"IF(RawData!C766<>\"\", RawData!C766,\"\")","v":""},{"$f":"IF(RawData!D766<>\"\", RawData!D766,\"\")","v":""},{"$f":"IF(RawData!E766<>\"\", RawData!E766,\"\")","v":""},{"$f":"IF(RawData!F766<>\"\", RawData!F766,\"\")","v":""},{"$f":"IF(RawData!G766<>\"\", RawData!G766,\"\")","v":""},{"$f":"IF(RawData!H766<>\"\", RawData!H766,\"\")","v":""},{"$f":"IF(RawData!I766<>\"\", RawData!I766,\"\")","v":""},{"$f":"IF(RawData!J766<>\"\", RawData!J766,\"\")","v":""},"","","","","",false,false,false,false,false,"","",""]
[{"$f":"IF(RawData!A767<>\"\", RawData!A767,\"\")","v":""},{"$f":"IF(RawData!B767<>\"\", RawData!B767,\"\")","v":""},{"$f":"IF(RawData!C767<>\"\", RawData!C767,\"\")","v":""},{"$f":"IF(RawData!D767<>\"\", RawData!D767,\"\")","v":""},{"$f":"IF(RawData!E767<>\"\", RawData!E767,\"\")","v":""},{"$f":"IF(RawData!F767<>\"\", RawData!F767,\"\")","v":""},{"$f":"IF(RawData!G767<>\"\", RawData!G767,\"\")","v":""},{"$f":"IF(RawData!H767<>\"\", RawData!H767,\"\")","v":""},{"$f":"IF(RawData!I767<>\"\", RawData!I767,\"\")","v":""},{"$f":"IF(RawData!J767<>\"\", RawData!J767,\"\")","v":""},"","","","","",false,false,false,false,false,"","",""]
[{"$f":"IF(RawData!A768<>\"\", RawData!A768,\"\")","v":""},{"$f":"IF(RawData!B768<>\"\", RawData!B768,\"\")","v":""},{"$f":"IF(RawData!C768<>\"\", RawData!C768,\"\")","v":""},{"$f":"IF(RawData!D768<>\"\", RawData!D768,\"\")","v":""},{"$f":"IF(RawData!E768<>\"\", RawData!E768,\"\")","v":""},{"$f":"IF(RawData!F768<>\"\", RawData!F768,\"\")","v":""},{"$f":"IF(RawData!G768<>\"\", RawData!G768,\"\")","v":""},{"$f":"IF(RawData!H768<>\"\", RawData!H768,\"\")","v":""},{"$f":"IF(RawData!I768<>\"\", RawData!I768,\"\")","v":""},{"$f":"IF(RawData!J768<>\"\", RawData!J768,\"\")","v":""},"","","","","",false,false,false,false,false,"","",""]
[{"$f":"IF(RawData!A769<>\"\", RawData!A769,\"\")","v":""},{"$f":"IF(RawData!B769<>\"\", RawData!B769,\"\")","v":""},{"$f":"IF(RawData!C769<>\"\", RawData!C769,\"\")","v":""},{"$f":"IF(RawData!D769<>\"\", RawData!D769,\"\")","v":""},{"$f":"IF(RawData!E769<>\"\", RawData!E769,\"\")","v":""},{"$f":"IF(RawData!F769<>\"\", RawData!F769,\"\")","v":""},{"$f":"IF(RawData!G769<>\"\", RawData!G769,\"\")","v":""},{"$f":"IF(RawData!H769<>\"\", RawData!H769,\"\")","v":""},{"$f":"IF(RawData!I769<>\"\", RawData!I769,\"\")","v":""},{"$f":"IF(RawData!J769<>\"\", RawData!J769,\"\")","v":""},"","","","","",false,false,false,false,false,"","",""]
[{"$f":"IF(RawData!A770<>\"\", RawData!A770,\"\")","v":""},{"$f":"IF(RawData!B770<>\"\", RawData!B770,\"\")","v":""},{"$f":"IF(RawData!C770<>\"\", RawData!C770,\"\")","v":""},{"$f":"IF(RawData!D770<>\"\", RawData!D770,\"\")","v":""},{"$f":"IF(RawData!E770<>\"\", RawData!E770,\"\")","v":""},{"$f":"IF(RawData!F770<>\"\", RawData!F770,\"\")","v":""},{"$f":"IF(RawData!G770<>\"\", RawData!G770,\"\")","v":""},{"$f":"IF(RawData!H770<>\"\", RawData!H770,\"\")","v":""},{"$f":"IF(RawData!I770<>\"\", RawData!I770,\"\")","v":""},{"$f":"IF(RawData!J770<>\"\", RawData!J770,\"\")","v":""},"","","","","",false,false,false,false,false,"","",""]
[{"$f":"IF(RawData!A771<>\"\", RawData!A771,\"\")","v":""},{"$f":"IF(RawData!B771<>\"\", RawData!B771,\"\")","v":""},{"$f":"IF(RawData!C771<>\"\", RawData!C771,\"\")","v":""},{"$f":"IF(RawData!D771<>\"\", RawData!D771,\"\")","v":""},{"$f":"IF(RawData!E771<>\"\", RawData!E771,\"\")","v":""},{"$f":"IF(RawData!F771<>\"\", RawData!F771,\"\")","v":""},{"$f":"IF(RawData!G771<>\"\", RawData!G771,\"\")","v":""},{"$f":"IF(RawData!H771<>\"\", RawData!H771,\"\")","v":""},{"$f":"IF(RawData!I771<>\"\", RawData!I771,\"\")","v":""},{"$f":"IF(RawData!J771<>\"\", RawData!J771,\"\")","v":""},"","","","","",false,false,false,false,false,"","",""]
[{"$f":"IF(RawData!A772<>\"\", RawData!A772,\"\")","v":""},{"$f":"IF(RawData!B772<>\"\", RawData!B772,\"\")","v":""},{"$f":"IF(RawData!C772<>\"\", RawData!C772,\"\")","v":""},{"$f":"IF(RawData!D772<>\"\", RawData!D772,\"\")","v":""},{"$f":"IF(RawData!E772<>\"\", RawData!E772,\"\")","v":""},{"$f":"IF(RawData!F772<>\"\", RawData!F772,\"\")","v":""},{"$f":"IF(RawData!G772<>\"\", RawData!G772,\"\")","v":""},{"$f":"IF(RawData!H772<>\"\", RawData!H772,\"\")","v":""},{"$f":"IF(RawData!I772<>\"\", RawData!I772,\"\")","v":""},{"$f":"IF(RawData!J772<>\"\", RawData!J772,\"\")","v":""},"","","","","",false,false,false,false,false,"","",""]
[{"$f":"IF(RawData!A773<>\"\", RawData!A773,\"\")","v":""},{"$f":"IF(RawData!B773<>\"\", RawData!B773,\"\")","v":""},{"$f":"IF(RawData!C773<>\"\", RawData!C773,\"\")","v":""},{"$f":"IF(RawData!D773<>\"\", RawData!D773,\"\")","v":""},{"$f":"IF(RawData!E773<>\"\", RawData!E773,\"\")","v":""},{"$f":"IF(RawData!F773<>\"\", RawData!F773,\"\")","v":""},{"$f":"IF(RawData!G773<>\"\", RawData!G773,\"\")","v":""},{"$f":"IF(RawData!H773<>\"\", RawData!H773,\"\")","v":""},{"$f":"IF(RawData!I773<>\"\", RawData!I773,\"\")","v":""},{"$f":"IF(RawData!J773<>\"\", RawData!J773,\"\")","v":""},"","","","","",false,false,false,false,false,"","",""]
[{"$f":"IF(RawData!A774<>\"\", RawData!A774,\"\")","v":""},{"$f":"IF(RawData!B774<>\"\", RawData!B774,\"\")","v":""},{"$f":"IF(RawData!C774<>\"\", RawData!C774,\"\")","v":""},{"$f":"IF(RawData!D774<>\"\", RawData!D774,\"\")","v":""},{"$f":"IF(RawData!E774<>\"\", RawData!E774,\"\")","v":""},{"$f":"IF(RawData!F774<>\"\", RawData!F774,\"\")","v":""},{"$f":"IF(RawData!G774<>\"\", RawData!G774,\"\")","v":""},{"$f":"IF(RawData!H774<>\"\", RawData!H774,\"\")","v":""},{"$f":"IF(RawData!I774<>\"\", RawData!I774,\"\")","v":""},{"$f":"IF(RawData!J774<>\"\", RawData!J774,\"\")","v":""},"","","","","",false,false,false,false,false,"","",""]
[{"$f":"IF(RawData!A775<>\"\", RawData!A775,\"\")","v":""},{"$f":"IF(RawData!B775<>\"\", RawData!B775,\"\")","v":""},{"$f":"IF(RawData!C775<>\"\", RawData!C775,\"\")","v":""},{"$f":"IF(RawData!D775<>\"\", RawData!D775,\"\")","v":""},{"$f":"IF(RawData!E775<>\"\", RawData!E775,\"\")","v":""},{"$f":"IF(RawData!F775<>\"\", RawData!F775,\"\")","v":""},{"$f":"IF(RawData!G775<>\"\", RawData!G775,\"\")","v":""},{"$f":"IF(RawData!H775<>\"\", RawData!H775,\"\")","v":""},{"$f":"IF(RawData!I775<>\"\", RawData!I775,\"\")","v":""},{"$f":"IF(RawData!J775<>\"\", RawData!J775,\"\")","v":""},"","","",{"$f":"IF(G775<>\"\",IF(G775>=4, 1, 0),\"\")","v":""},"",false,false,false,false,false,"","",""]
[{"$f":"IF(RawData!A776<>\"\", RawData!A776,\"\")","v":""},{"$f":"IF(RawData!B776<>\"\", RawData!B776,\"\")","v":""},{"$f":"IF(RawData!C776<>\"\", RawData!C776,\"\")","v":""},{"$f":"IF(RawData!D776<>\"\", RawData!D776,\"\")","v":""},{"$f":"IF(RawData!E776<>\"\", RawData!E776,\"\")","v":""},{"$f":"IF(RawData!F776<>\"\", RawData!F776,\"\")","v":""},{"$f":"IF(RawData!G776<>\"\", RawData!G776,\"\")","v":""},{"$f":"IF(RawData!H776<>\"\", RawData!H776,\"\")","v":""},{"$f":"IF(RawData!I776<>\"\", RawData!I776,\"\")","v":""},{"$f":"IF(RawData!J776<>\"\", RawData!J776,\"\")","v":""},"","","","","",false,false,false,false,false,"","",""]
[{"$f":"IF(RawData!A777<>\"\", RawData!A777,\"\")","v":""},{"$f":"IF(RawData!B777<>\"\", RawData!B777,\"\")","v":""},{"$f":"IF(RawData!C777<>\"\", RawData!C777,\"\")","v":""},{"$f":"IF(RawData!D777<>\"\", RawData!D777,\"\")","v":""},{"$f":"IF(RawData!E777<>\"\", RawData!E777,\"\")","v":""},{"$f":"IF(RawData!F777<>\"\", RawData!F777,\"\")","v":""},{"$f":"IF(RawData!G777<>\"\", RawData!G777,\"\")","v":""},{"$f":"IF(RawData!H777<>\"\", RawData!H777,\"\")","v":""},{"$f":"IF(RawData!I777<>\"\", RawData!I777,\"\")","v":""},{"$f":"IF(RawData!J777<>\"\", RawData!J777,\"\")","v":""},"","","","","",false,false,false,false,false,"","",""]
[{"$f":"IF(RawData!A778<>\"\", RawData!A778,\"\")","v":""},{"$f":"IF(RawData!B778<>\"\", RawData!B778,\"\")","v":""},{"$f":"IF(RawData!C778<>\"\", RawData!C778,\"\")","v":""},{"$f":"IF(RawData!D778<>\"\", RawData!D778,\"\")","v":""},{"$f":"IF(RawData!E778<>\"\", RawData!E778,\"\")","v":""},{"$f":"IF(RawData!F778<>\"\", RawData!F778,\"\")","v":""},{"$f":"IF(RawData!G778<>\"\", RawData!G778,\"\")","v":""},{"$f":"IF(RawData!H778<>\"\", RawData!H778,\"\")","v":""},{"$f":"IF(RawData!I778<>\"\", RawData!I778,\"\")","v":""},{"$f":"IF(RawData!J778<>\"\", RawData!J778,\"\")","v":""},"","","","","",false,false,false,false,false,"","",""]
[{"$f":"IF(RawData!A779<>\"\", RawData!A779,\"\")","v":""},{"$f":"IF(RawData!B779<>\"\", RawData!B779,\"\")","v":""},{"$f":"IF(RawData!C779<>\"\", RawData!C779,\"\")","v":""},{"$f":"IF(RawData!D779<>\"\", RawData!D779,\"\")","v":""},{"$f":"IF(RawData!E779<>\"\", RawData!E779,\"\")","v":""},{"$f":"IF(RawData!F779<>\"\", RawData!F779,\"\")","v":""},{"$f":"IF(RawData!G779<>\"\", RawData!G779,\"\")","v":""},{"$f":"IF(RawData!H779<>\"\", RawData!H779,\"\")","v":""},{"$f":"IF(RawData!I779<>\"\", RawData!I779,\"\")","v":""},{"$f":"IF(RawData!J779<>\"\", RawData!J779,\"\")","v":""},"","","","","",false,false,false,false,false,"","",""]
[{"$f":"IF(RawData!A780<>\"\", RawData!A780,\"\")","v":""},{"$f":"IF(RawData!B780<>\"\", RawData!B780,\"\")","v":""},{"$f":"IF(RawData!C780<>\"\", RawData!C780,\"\")","v":""},{"$f":"IF(RawData!D780<>\"\", RawData!D780,\"\")","v":""},{"$f":"IF(RawData!E780<>\"\", RawData!E780,\"\")","v":""},{"$f":"IF(RawData!F780<>\"\", RawData!F780,\"\")","v":""},{"$f":"IF(RawData!G780<>\"\", RawData!G780,\"\")","v":""},{"$f":"IF(RawData!H780<>\"\", RawData!H780,\"\")","v":""},{"$f":"IF(RawData!I780<>\"\", RawData!I780,\"\")","v":""},{"$f":"IF(RawData!J780<>\"\", RawData!J780,\"\")","v":""},"","","","","",false,false,false,false,false,"","",""]
[{"$f":"IF(RawData!A781<>\"\", RawData!A781,\"\")","v":""},{"$f":"IF(RawData!B781<>\"\", RawData!B781,\"\")","v":""},{"$f":"IF(RawData!C781<>\"\", RawData!C781,\"\")","v":""},{"$f":"IF(RawData!D781<>\"\", RawData!D781,\"\")","v":""},{"$f":"IF(RawData!E781<>\"\", RawData!E781,\"\")","v":""},{"$f":"IF(RawData!F781<>\"\", RawData!F781,\"\")","v":""},{"$f":"IF(RawData!G781<>\"\", RawData!G781,\"\")","v":""},{"$f":"IF(RawData!H781<>\"\", RawData!H781,\"\")","v":""},{"$f":"IF(RawData!I781<>\"\", RawData!I781,\"\")","v":""},{"$f":"IF(RawData!J781<>\"\", RawData!J781,\"\")","v":""},"","","","","",false,false,false,false,false,"","",""]
[{"$f":"IF(RawData!A782<>\"\", RawData!A782,\"\")","v":""},{"$f":"IF(RawData!B782<>\"\", RawData!B782,\"\")","v":""},{"$f":"IF(RawData!C782<>\"\", RawData!C782,\"\")","v":""},{"$f":"IF(RawData!D782<>\"\", RawData!D782,\"\")","v":""},{"$f":"IF(RawData!E782<>\"\", RawData!E782,\"\")","v":""},{"$f":"IF(RawData!F782<>\"\", RawData!F782,\"\")","v":""},{"$f":"IF(RawData!G782<>\"\", RawData!G782,\"\")","v":""},{"$f":"IF(RawData!H782<>\"\", RawData!H782,\"\")","v":""},{"$f":"IF(RawData!I782<>\"\", RawData!I782,\"\")","v":""},{"$f":"IF(RawData!J782<>\"\", RawData!J782,\"\")","v":""},"","","","","",false,false,false,false,false,"","",""]
[{"$f":"IF(RawData!A783<>\"\", RawData!A783,\"\")","v":""},{"$f":"IF(RawData!B783<>\"\", RawData!B783,\"\")","v":""},{"$f":"IF(RawData!C783<>\"\", RawData!C783,\"\")","v":""},{"$f":"IF(RawData!D783<>\"\", RawData!D783,\"\")","v":""},{"$f":"IF(RawData!E783<>\"\", RawData!E783,\"\")","v":""},{"$f":"IF(RawData!F783<>\"\", RawData!F783,\"\")","v":""},{"$f":"IF(RawData!G783<>\"\", RawData!G783,\"\")","v":""},{"$f":"IF(RawData!H783<>\"\", RawData!H783,\"\")","v":""},{"$f":"IF(RawData!I783<>\"\", RawData!I783,\"\")","v":""},{"$f":"IF(RawData!J783<>\"\", RawData!J783,\"\")","v":""},"","","","","",false,false,false,false,false,"","",""]
[{"$f":"IF(RawData!A784<>\"\", RawData!A784,\"\")","v":""},{"$f":"IF(RawData!B784<>\"\", RawData!B784,\"\")","v":""},{"$f":"IF(RawData!C784<>\"\", RawData!C784,\"\")","v":""},{"$f":"IF(RawData!D784<>\"\", RawData!D784,\"\")","v":""},{"$f":"IF(RawData!E784<>\"\", RawData!E784,\"\")","v":""},{"$f":"IF(RawData!F784<>\"\", RawData!F784,\"\")","v":""},{"$f":"IF(RawData!G784<>\"\", RawData!G784,\"\")","v":""},{"$f":"IF(RawData!H784<>\"\", RawData!H784,\"\")","v":""},{"$f":"IF(RawData!I784<>\"\", RawData!I784,\"\")","v":""},{"$f":"IF(RawData!J784<>\"\", RawData!J784,\"\")","v":""},"","","","","",false,false,false,false,false,"","",""]
[{"$f":"IF(RawData!A785<>\"\", RawData!A785,\"\")","v":""},{"$f":"IF(RawData!B785<>\"\", RawData!B785,\"\")","v":""},{"$f":"IF(RawData!C785<>\"\", RawData!C785,\"\")","v":""},{"$f":"IF(RawData!D785<>\"\", RawData!D785,\"\")","v":""},{"$f":"IF(RawData!E785<>\"\", RawData!E785,\"\")","v":""},{"$f":"IF(RawData!F785<>\"\", RawData!F785,\"\")","v":""},{"$f":"IF(RawData!G785<>\"\", RawData!G785,\"\")","v":""},{"$f":"IF(RawData!H785<>\"\", RawData!H785,\"\")","v":""},{"$f":"IF(RawData!I785<>\"\", RawData!I785,\"\")","v":""},{"$f":"IF(RawData!J785<>\"\", RawData!J785,\"\")","v":""},"","","","","",false,false,false,false,false,"","",""]
[{"$f":"IF(RawData!A786<>\"\", RawData!A786,\"\")","v":""},{"$f":"IF(RawData!B786<>\"\", RawData!B786,\"\")","v":""},{"$f":"IF(RawData!C786<>\"\", RawData!C786,\"\")","v":""},{"$f":"IF(RawData!D786<>\"\", RawData!D786,\"\")","v":""},{"$f":"IF(RawData!E786<>\"\", RawData!E786,\"\")","v":""},{"$f":"IF(RawData!F786<>\"\", RawData!F786,\"\")","v":""},{"$f":"IF(RawData!G786<>\"\", RawData!G786,\"\")","v":""},{"$f":"IF(RawData!H786<>\"\", RawData!H786,\"\")","v":""},{"$f":"IF(RawData!I786<>\"\", RawData!I786,\"\")","v":""},{"$f":"IF(RawData!J786<>\"\", RawData!J786,\"\")","v":""},"","","","","",false,false,false,false,false,"","",""]
[{"$f":"IF(RawData!A787<>\"\", RawData!A787,\"\")","v":""},{"$f":"IF(RawData!B787<>\"\", RawData!B787,\"\")","v":""},{"$f":"IF(RawData!C787<>\"\", RawData!C787,\"\")","v":""},{"$f":"IF(RawData!D787<>\"\", RawData!D787,\"\")","v":""},{"$f":"IF(RawData!E787<>\"\", RawData!E787,\"\")","v":""},{"$f":"IF(RawData!F787<>\"\", RawData!F787,\"\")","v":""},{"$f":"IF(RawData!G787<>\"\", RawData!G787,\"\")","v":""},{"$f":"IF(RawData!H787<>\"\", RawData!H787,\"\")","v":""},{"$f":"IF(RawData!I787<>\"\", RawData!I787,\"\")","v":""},{"$f":"IF(RawData!J787<>\"\", RawData!J787,\"\")","v":""},"","","","","",false,false,false,false,false,"","",""]
[{"$f":"IF(RawData!A788<>\"\", RawData!A788,\"\")","v":""},{"$f":"IF(RawData!B788<>\"\", RawData!B788,\"\")","v":""},{"$f":"IF(RawData!C788<>\"\", RawData!C788,\"\")","v":""},{"$f":"IF(RawData!D788<>\"\", RawData!D788,\"\")","v":""},{"$f":"IF(RawData!E788<>\"\", RawData!E788,\"\")","v":""},{"$f":"IF(RawData!F788<>\"\", RawData!F788,\"\")","v":""},{"$f":"IF(RawData!G788<>\"\", RawData!G788,\"\")","v":""},{"$f":"IF(RawData!H788<>\"\", RawData!H788,\"\")","v":""},{"$f":"IF(RawData!I788<>\"\", RawData!I788,\"\")","v":""},{"$f":"IF(RawData!J788<>\"\", RawData!J788,\"\")","v":""},"","","","","",false,false,false,false,false,"","",""]
[{"$f":"IF(RawData!A789<>\"\", RawData!A789,\"\")","v":""},{"$f":"IF(RawData!B789<>\"\", RawData!B789,\"\")","v":""},{"$f":"IF(RawData!C789<>\"\", RawData!C789,\"\")","v":""},{"$f":"IF(RawData!D789<>\"\", RawData!D789,\"\")","v":""},{"$f":"IF(RawData!E789<>\"\", RawData!E789,\"\")","v":""},{"$f":"IF(RawData!F789<>\"\", RawData!F789,\"\")","v":""},{"$f":"IF(RawData!G789<>\"\", RawData!G789,\"\")","v":""},{"$f":"IF(RawData!H789<>\"\", RawData!H789,\"\")","v":""},{"$f":"IF(RawData!I789<>\"\", RawData!I789,\"\")","v":""},{"$f":"IF(RawData!J789<>\"\", RawData!J789,\"\")","v":""},"","","","","",false,false,false,false,false,"","",""]
[{"$f":"IF(RawData!A790<>\"\", RawData!A790,\"\")","v":""},{"$f":"IF(RawData!B790<>\"\", RawData!B790,\"\")","v":""},{"$f":"IF(RawData!C790<>\"\", RawData!C790,\"\")","v":""},{"$f":"IF(RawData!D790<>\"\", RawData!D790,\"\")","v":""},{"$f":"IF(RawData!E790<>\"\", RawData!E790,\"\")","v":""},{"$f":"IF(RawData!F790<>\"\", RawData!F790,\"\")","v":""},{"$f":"IF(RawData!G790<>\"\", RawData!G790,\"\")","v":""},{"$f":"IF(RawData!H790<>\"\", RawData!H790,\"\")","v":""},{"$f":"IF(RawData!I790<>\"\", RawData!I790,\"\")","v":""},{"$f":"IF(RawData!J790<>\"\", RawData!J790,\"\")","v":""},"","","","","",false,false,false,false,false,"","",""]
[{"$f":"IF(RawData!A791<>\"\", RawData!A791,\"\")","v":""},{"$f":"IF(RawData!B791<>\"\", RawData!B791,\"\")","v":""},{"$f":"IF(RawData!C791<>\"\", RawData!C791,\"\")","v":""},{"$f":"IF(RawData!D791<>\"\", RawData!D791,\"\")","v":""},{"$f":"IF(RawData!E791<>\"\", RawData!E791,\"\")","v":""},{"$f":"IF(RawData!F791<>\"\", RawData!F791,\"\")","v":""},{"$f":"IF(RawData!G791<>\"\", RawData!G791,\"\")","v":""},{"$f":"IF(RawData!H791<>\"\", RawData!H791,\"\")","v":""},{"$f":"IF(RawData!I791<>\"\", RawData!I791,\"\")","v":""},{"$f":"IF(RawData!J791<>\"\", RawData!J791,\"\")","v":""},"","","","","",false,false,false,false,false,"","",""]
[{"$f":"IF(RawData!A792<>\"\", RawData!A792,\"\")","v":""},{"$f":"IF(RawData!B792<>\"\", RawData!B792,\"\")","v":""},{"$f":"IF(RawData!C792<>\"\", RawData!C792,\"\")","v":""},{"$f":"IF(RawData!D792<>\"\", RawData!D792,\"\")","v":""},{"$f":"IF(RawData!E792<>\"\", RawData!E792,\"\")","v":""},{"$f":"IF(RawData!F792<>\"\", RawData!F792,\"\")","v":""},{"$f":"IF(RawData!G792<>\"\", RawData!G792,\"\")","v":""},{"$f":"IF(RawData!H792<>\"\", RawData!H792,\"\")","v":""},{"$f":"IF(RawData!I792<>\"\", RawData!I792,\"\")","v":""},{"$f":"IF(RawData!J792<>\"\", RawData!J792,\"\")","v":""},"","","","","",false,false,false,false,false,"","",""]
[{"$f":"IF(RawData!A793<>\"\", RawData!A793,\"\")","v":""},{"$f":"IF(RawData!B793<>\"\", RawData!B793,\"\")","v":""},{"$f":"IF(RawData!C793<>\"\", RawData!C793,\"\")","v":""},{"$f":"IF(RawData!D793<>\"\", RawData!D793,\"\")","v":""},{"$f":"IF(RawData!E793<>\"\", RawData!E793,\"\")","v":""},{"$f":"IF(RawData!F793<>\"\", RawData!F793,\"\")","v":""},{"$f":"IF(RawData!G793<>\"\", RawData!G793,\"\")","v":""},{"$f":"IF(RawData!H793<>\"\", RawData!H793,\"\")","v":""},{"$f":"IF(RawData!I793<>\"\", RawData!I793,\"\")","v":""},{"$f":"IF(RawData!J793<>\"\", RawData!J793,\"\")","v":""},"","","","","",false,false,false,false,false,"","",""]
[{"$f":"IF(RawData!A794<>\"\", RawData!A794,\"\")","v":""},{"$f":"IF(RawData!B794<>\"\", RawData!B794,\"\")","v":""},{"$f":"IF(RawData!C794<>\"\", RawData!C794,\"\")","v":""},{"$f":"IF(RawData!D794<>\"\", RawData!D794,\"\")","v":""},{"$f":"IF(RawData!E794<>\"\", RawData!E794,\"\")","v":""},{"$f":"IF(RawData!F794<>\"\", RawData!F794,\"\")","v":""},{"$f":"IF(RawData!G794<>\"\", RawData!G794,\"\")","v":""},{"$f":"IF(RawData!H794<>\"\", RawData!H794,\"\")","v":""},{"$f":"IF(RawData!I794<>\"\", RawData!I794,\"\")","v":""},{"$f":"IF(RawData!J794<>\"\", RawData!J794,\"\")","v":""},"","","","","",false,false,false,false,false,"","",""]
[{"$f":"IF(RawData!A795<>\"\", RawData!A795,\"\")","v":""},{"$f":"IF(RawData!B795<>\"\", RawData!B795,\"\")","v":""},{"$f":"IF(RawData!C795<>\"\", RawData!C795,\"\")","v":""},{"$f":"IF(RawData!D795<>\"\", RawData!D795,\"\")","v":""},{"$f":"IF(RawData!E795<>\"\", RawData!E795,\"\")","v":""},{"$f":"IF(RawData!F795<>\"\", RawData!F795,\"\")","v":""},{"$f":"IF(RawData!G795<>\"\", RawData!G795,\"\")","v":""},{"$f":"IF(RawData!H795<>\"\", RawData!H795,\"\")","v":""},{"$f":"IF(RawData!I795<>\"\", RawData!I795,\"\")","v":""},{"$f":"IF(RawData!J795<>\"\", RawData!J795,\"\")","v":""},"","","","","",false,false,false,false,false,"","",""]
[{"$f":"IF(RawData!A796<>\"\", RawData!A796,\"\")","v":""},{"$f":"IF(RawData!B796<>\"\", RawData!B796,\"\")","v":""},{"$f":"IF(RawData!C796<>\"\", RawData!C796,\"\")","v":""},{"$f":"IF(RawData!D796<>\"\", RawData!D796,\"\")","v":""},{"$f":"IF(RawData!E796<>\"\", RawData!E796,\"\")","v":""},{"$f":"IF(RawData!F796<>\"\", RawData!F796,\"\")","v":""},{"$f":"IF(RawData!G796<>\"\", RawData!G796,\"\")","v":""},{"$f":"IF(RawData!H796<>\"\", RawData!H796,\"\")","v":""},{"$f":"IF(RawData!I796<>\"\", RawData!I796,\"\")","v":""},{"$f":"IF(RawData!J796<>\"\", RawData!J796,\"\")","v":""},"","","","","",false,false,false,false,false,"","",""]
[{"$f":"IF(RawData!A797<>\"\", RawData!A797,\"\")","v":""},{"$f":"IF(RawData!B797<>\"\", RawData!B797,\"\")","v":""},{"$f":"IF(RawData!C797<>\"\", RawData!C797,\"\")","v":""},{"$f":"IF(RawData!D797<>\"\", RawData!D797,\"\")","v":""},{"$f":"IF(RawData!E797<>\"\", RawData!E797,\"\")","v":""},{"$f":"IF(RawData!F797<>\"\", RawData!F797,\"\")","v":""},{"$f":"IF(RawData!G797<>\"\", RawData!G797,\"\")","v":""},{"$f":"IF(RawData!H797<>\"\", RawData!H797,\"\")","v":""},{"$f":"IF(RawData!I797<>\"\", RawData!I797,\"\")","v":""},{"$f":"IF(RawData!J797<>\"\", RawData!J797,\"\")","v":""},"","","","","",false,false,false,false,false,"","",""]
[{"$f":"IF(RawData!A798<>\"\", RawData!A798,\"\")","v":""},{"$f":"IF(RawData!B798<>\"\", RawData!B798,\"\")","v":""},{"$f":"IF(RawData!C798<>\"\", RawData!C798,\"\")","v":""},{"$f":"IF(RawData!D798<>\"\", RawData!D798,\"\")","v":""},{"$f":"IF(RawData!E798<>\"\", RawData!E798,\"\")","v":""},{"$f":"IF(RawData!F798<>\"\", RawData!F798,\"\")","v":""},{"$f":"IF(RawData!G798<>\"\", RawData!G798,\"\")","v":""},{"$f":"IF(RawData!H798<>\"\", RawData!H798,\"\")","v":""},{"$f":"IF(RawData!I798<>\"\", RawData!I798,\"\")","v":""},{"$f":"IF(RawData!J798<>\"\", RawData!J798,\"\")","v":""},"","","","","",false,false,false,false,false,"","",""]
[{"$f":"IF(RawData!A799<>\"\", RawData!A799,\"\")","v":""},{"$f":"IF(RawData!B799<>\"\", RawData!B799,\"\")","v":""},{"$f":"IF(RawData!C799<>\"\", RawData!C799,\"\")","v":""},{"$f":"IF(RawData!D799<>\"\", RawData!D799,\"\")","v":""},{"$f":"IF(RawData!E799<>\"\", RawData!E799,\"\")","v":""},{"$f":"IF(RawData!F799<>\"\", RawData!F799,\"\")","v":""},{"$f":"IF(RawData!G799<>\"\", RawData!G799,\"\")","v":""},{"$f":"IF(RawData!H799<>\"\", RawData!H799,\"\")","v":""},{"$f":"IF(RawData!I799<>\"\", RawData!I799,\"\")","v":""},{"$f":"IF(RawData!J799<>\"\", RawData!J799,\"\")","v":""},"","","","","",false,false,false,false,false,"","",""]
[{"$f":"IF(RawData!A800<>\"\", RawData!A800,\"\")","v":""},{"$f":"IF(RawData!B800<>\"\", RawData!B800,\"\")","v":""},{"$f":"IF(RawData!C800<>\"\", RawData!C800,\"\")","v":""},{"$f":"IF(RawData!D800<>\"\", RawData!D800,\"\")","v":""},{"$f":"IF(RawData!E800<>\"\", RawData!E800,\"\")","v":""},{"$f":"IF(RawData!F800<>\"\", RawData!F800,\"\")","v":""},{"$f":"IF(RawData!G800<>\"\", RawData!G800,\"\")","v":""},{"$f":"IF(RawData!H800<>\"\", RawData!H800,\"\")","v":""},{"$f":"IF(RawData!I800<>\"\", RawData!I800,\"\")","v":""},{"$f":"IF(RawData!J800<>\"\", RawData!J800,\"\")","v":""},"","","","","",false,false,false,false,false,"","",""]
[{"$f":"IF(RawData!A801<>\"\", RawData!A801,\"\")","v":""},{"$f":"IF(RawData!B801<>\"\", RawData!B801,\"\")","v":""},{"$f":"IF(RawData!C801<>\"\", RawData!C801,\"\")","v":""},{"$f":"IF(RawData!D801<>\"\", RawData!D801,\"\")","v":""},{"$f":"IF(RawData!E801<>\"\", RawData!E801,\"\")","v":""},{"$f":"IF(RawData!F801<>\"\", RawData!F801,\"\")","v":""},{"$f":"IF(RawData!G801<>\"\", RawData!G801,\"\")","v":""},{"$f":"IF(RawData!H801<>\"\", RawData!H801,\"\")","v":""},{"$f":"IF(RawData!I801<>\"\", RawData!I801,\"\")","v":""},{"$f":"IF(RawData!J801<>\"\", RawData!J801,\"\")","v":""},"","","","","",false,false,false,false,false,"","",""]
[{"$f":"IF(RawData!A802<>\"\", RawData!A802,\"\")","v":""},{"$f":"IF(RawData!B802<>\"\", RawData!B802,\"\")","v":""},{"$f":"IF(RawData!C802<>\"\", RawData!C802,\"\")","v":""},{"$f":"IF(RawData!D802<>\"\", RawData!D802,\"\")","v":""},{"$f":"IF(RawData!E802<>\"\", RawData!E802,\"\")","v":""},{"$f":"IF(RawData!F802<>\"\", RawData!F802,\"\")","v":""},{"$f":"IF(RawData!G802<>\"\", RawData!G802,\"\")","v":""},{"$f":"IF(RawData!H802<>\"\", RawData!H802,\"\")","v":""},{"$f":"IF(RawData!I802<>\"\", RawData!I802,\"\")","v":""},{"$f":"IF(RawData!J802<>\"\", RawData!J802,\"\")","v":""},"","","","","",false,false,false,false,false,"","",""]
[{"$f":"IF(RawData!A803<>\"\", RawData!A803,\"\")","v":""},{"$f":"IF(RawData!B803<>\"\", RawData!B803,\"\")","v":""},{"$f":"IF(RawData!C803<>\"\", RawData!C803,\"\")","v":""},{"$f":"IF(RawData!D803<>\"\", RawData!D803,\"\")","v":""},{"$f":"IF(RawData!E803<>\"\", RawData!E803,\"\")","v":""},{"$f":"IF(RawData!F803<>\"\", RawData!F803,\"\")","v":""},{"$f":"IF(RawData!G803<>\"\", RawData!G803,\"\")","v":""},{"$f":"IF(RawData!H803<>\"\", RawData!H803,\"\")","v":""},{"$f":"IF(RawData!I803<>\"\", RawData!I803,\"\")","v":""},{"$f":"IF(RawData!J803<>\"\", RawData!J803,\"\")","v":""},"","","","","",false,false,false,false,false,"","",""]
[{"$f":"IF(RawData!A804<>\"\", RawData!A804,\"\")","v":""},{"$f":"IF(RawData!B804<>\"\", RawData!B804,\"\")","v":""},{"$f":"IF(RawData!C804<>\"\", RawData!C804,\"\")","v":""},{"$f":"IF(RawData!D804<>\"\", RawData!D804,\"\")","v":""},{"$f":"IF(RawData!E804<>\"\", RawData!E804,\"\")","v":""},{"$f":"IF(RawData!F804<>\"\", RawData!F804,\"\")","v":""},{"$f":"IF(RawData!G804<>\"\", RawData!G804,\"\")","v":""},{"$f":"IF(RawData!H804<>\"\", RawData!H804,\"\")","v":""},{"$f":"IF(RawData!I804<>\"\", RawData!I804,\"\")","v":""},{"$f":"IF(RawData!J804<>\"\", RawData!J804,\"\")","v":""},"","","","","",false,false,false,false,false,"","",""]
[{"$f":"IF(RawData!A805<>\"\", RawData!A805,\"\")","v":""},{"$f":"IF(RawData!B805<>\"\", RawData!B805,\"\")","v":""},{"$f":"IF(RawData!C805<>\"\", RawData!C805,\"\")","v":""},{"$f":"IF(RawData!D805<>\"\", RawData!D805,\"\")","v":""},{"$f":"IF(RawData!E805<>\"\", RawData!E805,\"\")","v":""},{"$f":"IF(RawData!F805<>\"\", RawData!F805,\"\")","v":""},{"$f":"IF(RawData!G805<>\"\", RawData!G805,\"\")","v":""},{"$f":"IF(RawData!H805<>\"\", RawData!H805,\"\")","v":""},{"$f":"IF(RawData!I805<>\"\", RawData!I805,\"\")","v":""},{"$f":"IF(RawData!J805<>\"\", RawData!J805,\"\")","v":""},"","","","","",false,false,false,false,false,"","",""]
[{"$f":"IF(RawData!A806<>\"\", RawData!A806,\"\")","v":""},{"$f":"IF(RawData!B806<>\"\", RawData!B806,\"\")","v":""},{"$f":"IF(RawData!C806<>\"\", RawData!C806,\"\")","v":""},{"$f":"IF(RawData!D806<>\"\", RawData!D806,\"\")","v":""},{"$f":"IF(RawData!E806<>\"\", RawData!E806,\"\")","v":""},{"$f":"IF(RawData!F806<>\"\", RawData!F806,\"\")","v":""},{"$f":"IF(RawData!G806<>\"\", RawData!G806,\"\")","v":""},{"$f":"IF(RawData!H806<>\"\", RawData!H806,\"\")","v":""},{"$f":"IF(RawData!I806<>\"\", RawData!I806,\"\")","v":""},{"$f":"IF(RawData!J806<>\"\", RawData!J806,\"\")","v":""},"","","","","",false,false,false,false,false,"","",""]
[{"$f":"IF(RawData!A807<>\"\", RawData!A807,\"\")","v":""},{"$f":"IF(RawData!B807<>\"\", RawData!B807,\"\")","v":""},{"$f":"IF(RawData!C807<>\"\", RawData!C807,\"\")","v":""},{"$f":"IF(RawData!D807<>\"\", RawData!D807,\"\")","v":""},{"$f":"IF(RawData!E807<>\"\", RawData!E807,\"\")","v":""},{"$f":"IF(RawData!F807<>\"\", RawData!F807,\"\")","v":""},{"$f":"IF(RawData!G807<>\"\", RawData!G807,\"\")","v":""},{"$f":"IF(RawData!H807<>\"\", RawData!H807,\"\")","v":""},{"$f":"IF(RawData!I807<>\"\", RawData!I807,\"\")","v":""},{"$f":"IF(RawData!J807<>\"\", RawData!J807,\"\")","v":""},"","","","","",false,false,false,false,false,"","",""]
[{"$f":"IF(RawData!A808<>\"\", RawData!A808,\"\")","v":""},{"$f":"IF(RawData!B808<>\"\", RawData!B808,\"\")","v":""},{"$f":"IF(RawData!C808<>\"\", RawData!C808,\"\")","v":""},{"$f":"IF(RawData!D808<>\"\", RawData!D808,\"\")","v":""},{"$f":"IF(RawData!E808<>\"\", RawData!E808,\"\")","v":""},{"$f":"IF(RawData!F808<>\"\", RawData!F808,\"\")","v":""},{"$f":"IF(RawData!G808<>\"\", RawData!G808,\"\")","v":""},{"$f":"IF(RawData!H808<>\"\", RawData!H808,\"\")","v":""},{"$f":"IF(RawData!I808<>\"\", RawData!I808,\"\")","v":""},{"$f":"IF(RawData!J808<>\"\", RawData!J808,\"\")","v":""},"","","","","",false,false,false,false,false,"","",""]
[{"$f":"IF(RawData!A809<>\"\", RawData!A809,\"\")","v":""},{"$f":"IF(RawData!B809<>\"\", RawData!B809,\"\")","v":""},{"$f":"IF(RawData!C809<>\"\", RawData!C809,\"\")","v":""},{"$f":"IF(RawData!D809<>\"\", RawData!D809,\"\")","v":""},{"$f":"IF(RawData!E809<>\"\", RawData!E809,\"\")","v":""},{"$f":"IF(RawData!F809<>\"\", RawData!F809,\"\")","v":""},{"$f":"IF(RawData!G809<>\"\", RawData!G809,\"\")","v":""},{"$f":"IF(RawData!H809<>\"\", RawData!H809,\"\")","v":""},{"$f":"IF(RawData!I809<>\"\", RawData!I809,\"\")","v":""},{"$f":"IF(RawData!J809<>\"\", RawData!J809,\"\")","v":""},"","","","","",false,false,false,false,false,"","",""]
[{"$f":"IF(RawData!A810<>\"\", RawData!A810,\"\")","v":""},{"$f":"IF(RawData!B810<>\"\", RawData!B810,\"\")","v":""},{"$f":"IF(RawData!C810<>\"\", RawData!C810,\"\")","v":""},{"$f":"IF(RawData!D810<>\"\", RawData!D810,\"\")","v":""},{"$f":"IF(RawData!E810<>\"\", RawData!E810,\"\")","v":""},{"$f":"IF(RawData!F810<>\"\", RawData!F810,\"\")","v":""},{"$f":"IF(RawData!G810<>\"\", RawData!G810,\"\")","v":""},{"$f":"IF(RawData!H810<>\"\", RawData!H810,\"\")","v":""},{"$f":"IF(RawData!I810<>\"\", RawData!I810,\"\")","v":""},{"$f":"IF(RawData!J810<>\"\", RawData!J810,\"\")","v":""},"","","","","",false,false,false,false,false,"","",""]
[{"$f":"IF(RawData!A811<>\"\", RawData!A811,\"\")","v":""},{"$f":"IF(RawData!B811<>\"\", RawData!B811,\"\")","v":""},{"$f":"IF(RawData!C811<>\"\", RawData!C811,\"\")","v":""},{"$f":"IF(RawData!D811<>\"\", RawData!D811,\"\")","v":""},{"$f":"IF(RawData!E811<>\"\", RawData!E811,\"\")","v":""},{"$f":"IF(RawData!F811<>\"\", RawData!F811,\"\")","v":""},{"$f":"IF(RawData!G811<>\"\", RawData!G811,\"\")","v":""},{"$f":"IF(RawData!H811<>\"\", RawData!H811,\"\")","v":""},{"$f":"IF(RawData!I811<>\"\", RawData!I811,\"\")","v":""},{"$f":"IF(RawData!J811<>\"\", RawData!J811,\"\")","v":""},"","","","","",false,false,false,false,false,"","",""]
[{"$f":"IF(RawData!A812<>\"\", RawData!A812,\"\")","v":""},{"$f":"IF(RawData!B812<>\"\", RawData!B812,\"\")","v":""},{"$f":"IF(RawData!C812<>\"\", RawData!C812,\"\")","v":""},{"$f":"IF(RawData!D812<>\"\", RawData!D812,\"\")","v":""},{"$f":"IF(RawData!E812<>\"\", RawData!E812,\"\")","v":""},{"$f":"IF(RawData!F812<>\"\", RawData!F812,\"\")","v":""},{"$f":"IF(RawData!G812<>\"\", RawData!G812,\"\")","v":""},{"$f":"IF(RawData!H812<>\"\", RawData!H812,\"\")","v":""},{"$f":"IF(RawData!I812<>\"\", RawData!I812,\"\")","v":""},{"$f":"IF(RawData!J812<>\"\", RawData!J812,\"\")","v":""},"","","","","",false,false,false,false,false,"","",""]
[{"$f":"IF(RawData!A813<>\"\", RawData!A813,\"\")","v":""},{"$f":"IF(RawData!B813<>\"\", RawData!B813,\"\")","v":""},{"$f":"IF(RawData!C813<>\"\", RawData!C813,\"\")","v":""},{"$f":"IF(RawData!D813<>\"\", RawData!D813,\"\")","v":""},{"$f":"IF(RawData!E813<>\"\", RawData!E813,\"\")","v":""},{"$f":"IF(RawData!F813<>\"\", RawData!F813,\"\")","v":""},{"$f":"IF(RawData!G813<>\"\", RawData!G813,\"\")","v":""},{"$f":"IF(RawData!H813<>\"\", RawData!H813,\"\")","v":""},{"$f":"IF(RawData!I813<>\"\", RawData!I813,\"\")","v":""},{"$f":"IF(RawData!J813<>\"\", RawData!J813,\"\")","v":""},"","","","","",false,false,false,false,false,"","",""]
[{"$f":"IF(RawData!A814<>\"\", RawData!A814,\"\")","v":""},{"$f":"IF(RawData!B814<>\"\", RawData!B814,\"\")","v":""},{"$f":"IF(RawData!C814<>\"\", RawData!C814,\"\")","v":""},{"$f":"IF(RawData!D814<>\"\", RawData!D814,\"\")","v":""},{"$f":"IF(RawData!E814<>\"\", RawData!E814,\"\")","v":""},{"$f":"IF(RawData!F814<>\"\", RawData!F814,\"\")","v":""},{"$f":"IF(RawData!G814<>\"\", RawData!G814,\"\")","v":""},{"$f":"IF(RawData!H814<>\"\", RawData!H814,\"\")","v":""},{"$f":"IF(RawData!I814<>\"\", RawData!I814,\"\")","v":""},{"$f":"IF(RawData!J814<>\"\", RawData!J814,\"\")","v":""},"","","","","",false,false,false,false,false,"","",""]
[{"$f":"IF(RawData!A815<>\"\", RawData!A815,\"\")","v":""},{"$f":"IF(RawData!B815<>\"\", RawData!B815,\"\")","v":""},{"$f":"IF(RawData!C815<>\"\", RawData!C815,\"\")","v":""},{"$f":"IF(RawData!D815<>\"\", RawData!D815,\"\")","v":""},{"$f":"IF(RawData!E815<>\"\", RawData!E815,\"\")","v":""},{"$f":"IF(RawData!F815<>\"\", RawData!F815,\"\")","v":""},{"$f":"IF(RawData!G815<>\"\", RawData!G815,\"\")","v":""},{"$f":"IF(RawData!H815<>\"\", RawData!H815,\"\")","v":""},{"$f":"IF(RawData!I815<>\"\", RawData!I815,\"\")","v":""},{"$f":"IF(RawData!J815<>\"\", RawData!J815,\"\")","v":""},"","","","","",false,false,false,false,false,"","",""]
[{"$f":"IF(RawData!A816<>\"\", RawData!A816,\"\")","v":""},{"$f":"IF(RawData!B816<>\"\", RawData!B816,\"\")","v":""},{"$f":"IF(RawData!C816<>\"\", RawData!C816,\"\")","v":""},{"$f":"IF(RawData!D816<>\"\", RawData!D816,\"\")","v":""},{"$f":"IF(RawData!E816<>\"\", RawData!E816,\"\")","v":""},{"$f":"IF(RawData!F816<>\"\", RawData!F816,\"\")","v":""},{"$f":"IF(RawData!G816<>\"\", RawData!G816,\"\")","v":""},{"$f":"IF(RawData!H816<>\"\", RawData!H816,\"\")","v":""},{"$f":"IF(RawData!I816<>\"\", RawData!I816,\"\")","v":""},{"$f":"IF(RawData!J816<>\"\", RawData!J816,\"\")","v":""},"","","","","",false,false,false,false,false,"","",""]
[{"$f":"IF(RawData!A817<>\"\", RawData!A817,\"\")","v":""},{"$f":"IF(RawData!B817<>\"\", RawData!B817,\"\")","v":""},{"$f":"IF(RawData!C817<>\"\", RawData!C817,\"\")","v":""},{"$f":"IF(RawData!D817<>\"\", RawData!D817,\"\")","v":""},{"$f":"IF(RawData!E817<>\"\", RawData!E817,\"\")","v":""},{"$f":"IF(RawData!F817<>\"\", RawData!F817,\"\")","v":""},{"$f":"IF(RawData!G817<>\"\", RawData!G817,\"\")","v":""},{"$f":"IF(RawData!H817<>\"\", RawData!H817,\"\")","v":""},{"$f":"IF(RawData!I817<>\"\", RawData!I817,\"\")","v":""},{"$f":"IF(RawData!J817<>\"\", RawData!J817,\"\")","v":""},"","","","","",false,false,false,false,false,"","",""]
[{"$f":"IF(RawData!A818<>\"\", RawData!A818,\"\")","v":""},{"$f":"IF(RawData!B818<>\"\", RawData!B818,\"\")","v":""},{"$f":"IF(RawData!C818<>\"\", RawData!C818,\"\")","v":""},{"$f":"IF(RawData!D818<>\"\", RawData!D818,\"\")","v":""},{"$f":"IF(RawData!E818<>\"\", RawData!E818,\"\")","v":""},{"$f":"IF(RawData!F818<>\"\", RawData!F818,\"\")","v":""},{"$f":"IF(RawData!G818<>\"\", RawData!G818,\"\")","v":""},{"$f":"IF(RawData!H818<>\"\", RawData!H818,\"\")","v":""},{"$f":"IF(RawData!I818<>\"\", RawData!I818,\"\")","v":""},{"$f":"IF(RawData!J818<>\"\", RawData!J818,\"\")","v":""},{"$f":"IF(G818<>\"\",IF(G818<3, 1, 0),\"\")","v":""},{"$f":"IF(G818<>\"\",IF(G818>=1, 1, 0),\"\")","v":""},{"$f":"IF(G818<>\"\",IF(AND(G818>=1,G818<=7), 1, 0),\"\")","v":""},"",{"$f":"IF(G818<>\"\",IF(G818>=8, 1, 0),\"\")","v":""},false,false,false,false,false,{"$f":"IF(H818<>\"\",IF(H818=1,IF(J818=4, 1, 0),\"\"),\"\")","v":""},"",""]
[{"$f":"IF(RawData!A819<>\"\", RawData!A819,\"\")","v":""},{"$f":"IF(RawData!B819<>\"\", RawData!B819,\"\")","v":""},{"$f":"IF(RawData!C819<>\"\", RawData!C819,\"\")","v":""},{"$f":"IF(RawData!D819<>\"\", RawData!D819,\"\")","v":""},{"$f":"IF(RawData!E819<>\"\", RawData!E819,\"\")","v":""},{"$f":"IF(RawData!F819<>\"\", RawData!F819,\"\")","v":""},{"$f":"IF(RawData!G819<>\"\", RawData!G819,\"\")","v":""},{"$f":"IF(RawData!H819<>\"\", RawData!H819,\"\")","v":""},{"$f":"IF(RawData!I819<>\"\", RawData!I819,\"\")","v":""},{"$f":"IF(RawData!J819<>\"\", RawData!J819,\"\")","v":""},"","","","","",{"$f":"IF(L819<>\"\", IF(J819<>\"\",IF(L819=0,IF(J819=1, 1, 0),\"\")))","v":false},{"$f":"IF(K819<>\"\",IF(J819<>\"\",IF(K819=1,IF(J819=1, 1, 0),\"\")))","v":false},{"$f":"IF(M819<>\"\",IF(J819<>\"\",IF(M819=1,IF(J819=2, 1, 0),\"\")))","v":false},{"$f":"IF(N819<>\"\",IF(J819<>\"\",IF(N819=1,IF(J819=3, 1, 0),\"\")))","v":false},{"$f":"IF(O819<>\"\",IF(J819<>\"\",IF(O819=1,IF(J819=4, 1, 0),\"\")))","v":false},"",{"$f":"IF(J819<>\"\",IF(OR(P819=1,Q819=1,R819=1,S819=1, T819=1, U819=1),1,0),\"\")","v":""},{"$f":"IF(J819<>\"\",IF(AND(J819<>0,V819=0),1,0),\"\")","v":""}]
[{"$f":"IF(RawData!A820<>\"\", RawData!A820,\"\")","v":""},{"$f":"IF(RawData!B820<>\"\", RawData!B820,\"\")","v":""},{"$f":"IF(RawData!C820<>\"\", RawData!C820,\"\")","v":""},{"$f":"IF(RawData!D820<>\"\", RawData!D820,\"\")","v":""},{"$f":"IF(RawData!E820<>\"\", RawData!E820,\"\")","v":""},{"$f":"IF(RawData!F820<>\"\", RawData!F820,\"\")","v":""},{"$f":"IF(RawData!G820<>\"\", RawData!G820,\"\")","v":""},{"$f":"IF(RawData!H820<>\"\", RawData!H820,\"\")","v":""},{"$f":"IF(RawData!I820<>\"\", RawData!I820,\"\")","v":""},{"$f":"IF(RawData!J820<>\"\", RawData!J820,\"\")","v":""},"","","","","",false,false,false,false,false,"","",""]
[{"$f":"IF(RawData!A821<>\"\", RawData!A821,\"\")","v":""},{"$f":"IF(RawData!B821<>\"\", RawData!B821,\"\")","v":""},{"$f":"IF(RawData!C821<>\"\", RawData!C821,\"\")","v":""},{"$f":"IF(RawData!D821<>\"\", RawData!D821,\"\")","v":""},{"$f":"IF(RawData!E821<>\"\", RawData!E821,\"\")","v":""},{"$f":"IF(RawData!F821<>\"\", RawData!F821,\"\")","v":""},{"$f":"IF(RawData!G821<>\"\", RawData!G821,\"\")","v":""},{"$f":"IF(RawData!H821<>\"\", RawData!H821,\"\")","v":""},{"$f":"IF(RawData!I821<>\"\", RawData!I821,\"\")","v":""},{"$f":"IF(RawData!J821<>\"\", RawData!J821,\"\")","v":""},"","","","","",false,false,false,false,false,"","",""]
[{"$f":"IF(RawData!A822<>\"\", RawData!A822,\"\")","v":""},{"$f":"IF(RawData!B822<>\"\", RawData!B822,\"\")","v":""},{"$f":"IF(RawData!C822<>\"\", RawData!C822,\"\")","v":""},{"$f":"IF(RawData!D822<>\"\", RawData!D822,\"\")","v":""},{"$f":"IF(RawData!E822<>\"\", RawData!E822,\"\")","v":""},{"$f":"IF(RawData!F822<>\"\", RawData!F822,\"\")","v":""},{"$f":"IF(RawData!G822<>\"\", RawData!G822,\"\")","v":""},{"$f":"IF(RawData!H822<>\"\", RawData!H822,\"\")","v":""},{"$f":"IF(RawData!I822<>\"\", RawData!I822,\"\")","v":""},{"$f":"IF(RawData!J822<>\"\", RawData!J822,\"\")","v":""},"","","","","",false,false,false,false,false,"","",""]
[{"$f":"IF(RawData!A823<>\"\", RawData!A823,\"\")","v":""},{"$f":"IF(RawData!B823<>\"\", RawData!B823,\"\")","v":""},{"$f":"IF(RawData!C823<>\"\", RawData!C823,\"\")","v":""},{"$f":"IF(RawData!D823<>\"\", RawData!D823,\"\")","v":""},{"$f":"IF(RawData!E823<>\"\", RawData!E823,\"\")","v":""},{"$f":"IF(RawData!F823<>\"\", RawData!F823,\"\")","v":""},{"$f":"IF(RawData!G823<>\"\", RawData!G823,\"\")","v":""},{"$f":"IF(RawData!H823<>\"\", RawData!H823,\"\")","v":""},{"$f":"IF(RawData!I823<>\"\", RawData!I823,\"\")","v":""},{"$f":"IF(RawData!J823<>\"\", RawData!J823,\"\")","v":""},"","","","","",false,false,false,false,false,"","",""]
[{"$f":"IF(RawData!A824<>\"\", RawData!A824,\"\")","v":""},{"$f":"IF(RawData!B824<>\"\", RawData!B824,\"\")","v":""},{"$f":"IF(RawData!C824<>\"\", RawData!C824,\"\")","v":""},{"$f":"IF(RawData!D824<>\"\", RawData!D824,\"\")","v":""},{"$f":"IF(RawData!E824<>\"\", RawData!E824,\"\")","v":""},{"$f":"IF(RawData!F824<>\"\", RawData!F824,\"\")","v":""},{"$f":"IF(RawData!G824<>\"\", RawData!G824,\"\")","v":""},{"$f":"IF(RawData!H824<>\"\", RawData!H824,\"\")","v":""},{"$f":"IF(RawData!I824<>\"\", RawData!I824,\"\")","v":""},{"$f":"IF(RawData!J824<>\"\", RawData!J824,\"\")","v":""},"","","","","",false,false,false,false,false,"","",""]
[{"$f":"IF(RawData!A825<>\"\", RawData!A825,\"\")","v":""},{"$f":"IF(RawData!B825<>\"\", RawData!B825,\"\")","v":""},{"$f":"IF(RawData!C825<>\"\", RawData!C825,\"\")","v":""},{"$f":"IF(RawData!D825<>\"\", RawData!D825,\"\")","v":""},{"$f":"IF(RawData!E825<>\"\", RawData!E825,\"\")","v":""},{"$f":"IF(RawData!F825<>\"\", RawData!F825,\"\")","v":""},{"$f":"IF(RawData!G825<>\"\", RawData!G825,\"\")","v":""},{"$f":"IF(RawData!H825<>\"\", RawData!H825,\"\")","v":""},{"$f":"IF(RawData!I825<>\"\", RawData!I825,\"\")","v":""},{"$f":"IF(RawData!J825<>\"\", RawData!J825,\"\")","v":""},"","","","","",false,false,false,false,false,"","",""]
[{"$f":"IF(RawData!A826<>\"\", RawData!A826,\"\")","v":""},{"$f":"IF(RawData!B826<>\"\", RawData!B826,\"\")","v":""},{"$f":"IF(RawData!C826<>\"\", RawData!C826,\"\")","v":""},{"$f":"IF(RawData!D826<>\"\", RawData!D826,\"\")","v":""},{"$f":"IF(RawData!E826<>\"\", RawData!E826,\"\")","v":""},{"$f":"IF(RawData!F826<>\"\", RawData!F826,\"\")","v":""},{"$f":"IF(RawData!G826<>\"\", RawData!G826,\"\")","v":""},{"$f":"IF(RawData!H826<>\"\", RawData!H826,\"\")","v":""},{"$f":"IF(RawData!I826<>\"\", RawData!I826,\"\")","v":""},{"$f":"IF(RawData!J826<>\"\", RawData!J826,\"\")","v":""},"","","","","",false,false,false,false,false,"","",""]
[{"$f":"IF(RawData!A827<>\"\", RawData!A827,\"\")","v":""},{"$f":"IF(RawData!B827<>\"\", RawData!B827,\"\")","v":""},{"$f":"IF(RawData!C827<>\"\", RawData!C827,\"\")","v":""},{"$f":"IF(RawData!D827<>\"\", RawData!D827,\"\")","v":""},{"$f":"IF(RawData!E827<>\"\", RawData!E827,\"\")","v":""},{"$f":"IF(RawData!F827<>\"\", RawData!F827,\"\")","v":""},{"$f":"IF(RawData!G827<>\"\", RawData!G827,\"\")","v":""},{"$f":"IF(RawData!H827<>\"\", RawData!H827,\"\")","v":""},{"$f":"IF(RawData!I827<>\"\", RawData!I827,\"\")","v":""},{"$f":"IF(RawData!J827<>\"\", RawData!J827,\"\")","v":""},"","","","","",false,false,false,false,false,"","",""]
[{"$f":"IF(RawData!A828<>\"\", RawData!A828,\"\")","v":""},{"$f":"IF(RawData!B828<>\"\", RawData!B828,\"\")","v":""},{"$f":"IF(RawData!C828<>\"\", RawData!C828,\"\")","v":""},{"$f":"IF(RawData!D828<>\"\", RawData!D828,\"\")","v":""},{"$f":"IF(RawData!E828<>\"\", RawData!E828,\"\")","v":""},{"$f":"IF(RawData!F828<>\"\", RawData!F828,\"\")","v":""},{"$f":"IF(RawData!G828<>\"\", RawData!G828,\"\")","v":""},{"$f":"IF(RawData!H828<>\"\", RawData!H828,\"\")","v":""},{"$f":"IF(RawData!I828<>\"\", RawData!I828,\"\")","v":""},{"$f":"IF(RawData!J828<>\"\", RawData!J828,\"\")","v":""},"","","","","",false,false,false,false,false,"","",""]
[{"$f":"IF(RawData!A829<>\"\", RawData!A829,\"\")","v":""},{"$f":"IF(RawData!B829<>\"\", RawData!B829,\"\")","v":""},{"$f":"IF(RawData!C829<>\"\", RawData!C829,\"\")","v":""},{"$f":"IF(RawData!D829<>\"\", RawData!D829,\"\")","v":""},{"$f":"IF(RawData!E829<>\"\", RawData!E829,\"\")","v":""},{"$f":"IF(RawData!F829<>\"\", RawData!F829,\"\")","v":""},{"$f":"IF(RawData!G829<>\"\", RawData!G829,\"\")","v":""},{"$f":"IF(RawData!H829<>\"\", RawData!H829,\"\")","v":""},{"$f":"IF(RawData!I829<>\"\", RawData!I829,\"\")","v":""},{"$f":"IF(RawData!J829<>\"\", RawData!J829,\"\")","v":""},"","","","","",false,false,false,false,false,"","",""]
[{"$f":"IF(RawData!A830<>\"\", RawData!A830,\"\")","v":""},{"$f":"IF(RawData!B830<>\"\", RawData!B830,\"\")","v":""},{"$f":"IF(RawData!C830<>\"\", RawData!C830,\"\")","v":""},{"$f":"IF(RawData!D830<>\"\", RawData!D830,\"\")","v":""},{"$f":"IF(RawData!E830<>\"\", RawData!E830,\"\")","v":""},{"$f":"IF(RawData!F830<>\"\", RawData!F830,\"\")","v":""},{"$f":"IF(RawData!G830<>\"\", RawData!G830,\"\")","v":""},{"$f":"IF(RawData!H830<>\"\", RawData!H830,\"\")","v":""},{"$f":"IF(RawData!I830<>\"\", RawData!I830,\"\")","v":""},{"$f":"IF(RawData!J830<>\"\", RawData!J830,\"\")","v":""},"","","","","",false,false,false,false,false,"","",""]
[{"$f":"IF(RawData!A831<>\"\", RawData!A831,\"\")","v":""},{"$f":"IF(RawData!B831<>\"\", RawData!B831,\"\")","v":""},{"$f":"IF(RawData!C831<>\"\", RawData!C831,\"\")","v":""},{"$f":"IF(RawData!D831<>\"\", RawData!D831,\"\")","v":""},{"$f":"IF(RawData!E831<>\"\", RawData!E831,\"\")","v":""},{"$f":"IF(RawData!F831<>\"\", RawData!F831,\"\")","v":""},{"$f":"IF(RawData!G831<>\"\", RawData!G831,\"\")","v":""},{"$f":"IF(RawData!H831<>\"\", RawData!H831,\"\")","v":""},{"$f":"IF(RawData!I831<>\"\", RawData!I831,\"\")","v":""},{"$f":"IF(RawData!J831<>\"\", RawData!J831,\"\")","v":""},"","","","","",false,false,false,false,false,"","",""]
[{"$f":"IF(RawData!A832<>\"\", RawData!A832,\"\")","v":""},{"$f":"IF(RawData!B832<>\"\", RawData!B832,\"\")","v":""},{"$f":"IF(RawData!C832<>\"\", RawData!C832,\"\")","v":""},{"$f":"IF(RawData!D832<>\"\", RawData!D832,\"\")","v":""},{"$f":"IF(RawData!E832<>\"\", RawData!E832,\"\")","v":""},{"$f":"IF(RawData!F832<>\"\", RawData!F832,\"\")","v":""},{"$f":"IF(RawData!G832<>\"\", RawData!G832,\"\")","v":""},{"$f":"IF(RawData!H832<>\"\", RawData!H832,\"\")","v":""},{"$f":"IF(RawData!I832<>\"\", RawData!I832,\"\")","v":""},{"$f":"IF(RawData!J832<>\"\", RawData!J832,\"\")","v":""},"","","","","",false,false,false,false,false,"","",""]
[{"$f":"IF(RawData!A833<>\"\", RawData!A833,\"\")","v":""},{"$f":"IF(RawData!B833<>\"\", RawData!B833,\"\")","v":""},{"$f":"IF(RawData!C833<>\"\", RawData!C833,\"\")","v":""},{"$f":"IF(RawData!D833<>\"\", RawData!D833,\"\")","v":""},{"$f":"IF(RawData!E833<>\"\", RawData!E833,\"\")","v":""},{"$f":"IF(RawData!F833<>\"\", RawData!F833,\"\")","v":""},{"$f":"IF(RawData!G833<>\"\", RawData!G833,\"\")","v":""},{"$f":"IF(RawData!H833<>\"\", RawData!H833,\"\")","v":""},{"$f":"IF(RawData!I833<>\"\", RawData!I833,\"\")","v":""},{"$f":"IF(RawData!J833<>\"\", RawData!J833,\"\")","v":""},"","","","","",false,false,false,false,false,"","",""]
[{"$f":"IF(RawData!A834<>\"\", RawData!A834,\"\")","v":""},{"$f":"IF(RawData!B834<>\"\", RawData!B834,\"\")","v":""},{"$f":"IF(RawData!C834<>\"\", RawData!C834,\"\")","v":""},{"$f":"IF(RawData!D834<>\"\", RawData!D834,\"\")","v":""},{"$f":"IF(RawData!E834<>\"\", RawData!E834,\"\")","v":""},{"$f":"IF(RawData!F834<>\"\", RawData!F834,\"\")","v":""},{"$f":"IF(RawData!G834<>\"\", RawData!G834,\"\")","v":""},{"$f":"IF(RawData!H834<>\"\", RawData!H834,\"\")","v":""},{"$f":"IF(RawData!I834<>\"\", RawData!I834,\"\")","v":""},{"$f":"IF(RawData!J834<>\"\", RawData!J834,\"\")","v":""},"","","","","",false,false,false,false,false,"","",""]
[{"$f":"IF(RawData!A835<>\"\", RawData!A835,\"\")","v":""},{"$f":"IF(RawData!B835<>\"\", RawData!B835,\"\")","v":""},{"$f":"IF(RawData!C835<>\"\", RawData!C835,\"\")","v":""},{"$f":"IF(RawData!D835<>\"\", RawData!D835,\"\")","v":""},{"$f":"IF(RawData!E835<>\"\", RawData!E835,\"\")","v":""},{"$f":"IF(RawData!F835<>\"\", RawData!F835,\"\")","v":""},{"$f":"IF(RawData!G835<>\"\", RawData!G835,\"\")","v":""},{"$f":"IF(RawData!H835<>\"\", RawData!H835,\"\")","v":""},{"$f":"IF(RawData!I835<>\"\", RawData!I835,\"\")","v":""},{"$f":"IF(RawData!J835<>\"\", RawData!J835,\"\")","v":""},"","","","","",false,false,false,false,false,"","",""]
[{"$f":"IF(RawData!A836<>\"\", RawData!A836,\"\")","v":""},{"$f":"IF(RawData!B836<>\"\", RawData!B836,\"\")","v":""},{"$f":"IF(RawData!C836<>\"\", RawData!C836,\"\")","v":""},{"$f":"IF(RawData!D836<>\"\", RawData!D836,\"\")","v":""},{"$f":"IF(RawData!E836<>\"\", RawData!E836,\"\")","v":""},{"$f":"IF(RawData!F836<>\"\", RawData!F836,\"\")","v":""},{"$f":"IF(RawData!G836<>\"\", RawData!G836,\"\")","v":""},{"$f":"IF(RawData!H836<>\"\", RawData!H836,\"\")","v":""},{"$f":"IF(RawData!I836<>\"\", RawData!I836,\"\")","v":""},{"$f":"IF(RawData!J836<>\"\", RawData!J836,\"\")","v":""},"","","","","",false,false,false,false,false,"","",""]
[{"$f":"IF(RawData!A837<>\"\", RawData!A837,\"\")","v":""},{"$f":"IF(RawData!B837<>\"\", RawData!B837,\"\")","v":""},{"$f":"IF(RawData!C837<>\"\", RawData!C837,\"\")","v":""},{"$f":"IF(RawData!D837<>\"\", RawData!D837,\"\")","v":""},{"$f":"IF(RawData!E837<>\"\", RawData!E837,\"\")","v":""},{"$f":"IF(RawData!F837<>\"\", RawData!F837,\"\")","v":""},{"$f":"IF(RawData!G837<>\"\", RawData!G837,\"\")","v":""},{"$f":"IF(RawData!H837<>\"\", RawData!H837,\"\")","v":""},{"$f":"IF(RawData!I837<>\"\", RawData!I837,\"\")","v":""},{"$f":"IF(RawData!J837<>\"\", RawData!J837,\"\")","v":""},"","","","","",false,false,false,false,false,"","",""]
[{"$f":"IF(RawData!A838<>\"\", RawData!A838,\"\")","v":""},{"$f":"IF(RawData!B838<>\"\", RawData!B838,\"\")","v":""},{"$f":"IF(RawData!C838<>\"\", RawData!C838,\"\")","v":""},{"$f":"IF(RawData!D838<>\"\", RawData!D838,\"\")","v":""},{"$f":"IF(RawData!E838<>\"\", RawData!E838,\"\")","v":""},{"$f":"IF(RawData!F838<>\"\", RawData!F838,\"\")","v":""},{"$f":"IF(RawData!G838<>\"\", RawData!G838,\"\")","v":""},{"$f":"IF(RawData!H838<>\"\", RawData!H838,\"\")","v":""},{"$f":"IF(RawData!I838<>\"\", RawData!I838,\"\")","v":""},{"$f":"IF(RawData!J838<>\"\", RawData!J838,\"\")","v":""},"","","","","",false,false,false,false,false,"","",""]
[{"$f":"IF(RawData!A839<>\"\", RawData!A839,\"\")","v":""},{"$f":"IF(RawData!B839<>\"\", RawData!B839,\"\")","v":""},{"$f":"IF(RawData!C839<>\"\", RawData!C839,\"\")","v":""},{"$f":"IF(RawData!D839<>\"\", RawData!D839,\"\")","v":""},{"$f":"IF(RawData!E839<>\"\", RawData!E839,\"\")","v":""},{"$f":"IF(RawData!F839<>\"\", RawData!F839,\"\")","v":""},{"$f":"IF(RawData!G839<>\"\", RawData!G839,\"\")","v":""},{"$f":"IF(RawData!H839<>\"\", RawData!H839,\"\")","v":""},{"$f":"IF(RawData!I839<>\"\", RawData!I839,\"\")","v":""},{"$f":"IF(RawData!J839<>\"\", RawData!J839,\"\")","v":""},"","","",{"$f":"IF(G839<>\"\",IF(G839>=4, 1, 0),\"\")","v":""},"",false,false,false,false,false,"","",""]
[{"$f":"IF(RawData!A840<>\"\", RawData!A840,\"\")","v":""},{"$f":"IF(RawData!B840<>\"\", RawData!B840,\"\")","v":""},{"$f":"IF(RawData!C840<>\"\", RawData!C840,\"\")","v":""},{"$f":"IF(RawData!D840<>\"\", RawData!D840,\"\")","v":""},{"$f":"IF(RawData!E840<>\"\", RawData!E840,\"\")","v":""},{"$f":"IF(RawData!F840<>\"\", RawData!F840,\"\")","v":""},{"$f":"IF(RawData!G840<>\"\", RawData!G840,\"\")","v":""},{"$f":"IF(RawData!H840<>\"\", RawData!H840,\"\")","v":""},{"$f":"IF(RawData!I840<>\"\", RawData!I840,\"\")","v":""},{"$f":"IF(RawData!J840<>\"\", RawData!J840,\"\")","v":""},"","","","","",false,false,false,false,false,"","",""]
[{"$f":"IF(RawData!A841<>\"\", RawData!A841,\"\")","v":""},{"$f":"IF(RawData!B841<>\"\", RawData!B841,\"\")","v":""},{"$f":"IF(RawData!C841<>\"\", RawData!C841,\"\")","v":""},{"$f":"IF(RawData!D841<>\"\", RawData!D841,\"\")","v":""},{"$f":"IF(RawData!E841<>\"\", RawData!E841,\"\")","v":""},{"$f":"IF(RawData!F841<>\"\", RawData!F841,\"\")","v":""},{"$f":"IF(RawData!G841<>\"\", RawData!G841,\"\")","v":""},{"$f":"IF(RawData!H841<>\"\", RawData!H841,\"\")","v":""},{"$f":"IF(RawData!I841<>\"\", RawData!I841,\"\")","v":""},{"$f":"IF(RawData!J841<>\"\", RawData!J841,\"\")","v":""},"","","","","",false,false,false,false,false,"","",""]
[{"$f":"IF(RawData!A842<>\"\", RawData!A842,\"\")","v":""},{"$f":"IF(RawData!B842<>\"\", RawData!B842,\"\")","v":""},{"$f":"IF(RawData!C842<>\"\", RawData!C842,\"\")","v":""},{"$f":"IF(RawData!D842<>\"\", RawData!D842,\"\")","v":""},{"$f":"IF(RawData!E842<>\"\", RawData!E842,\"\")","v":""},{"$f":"IF(RawData!F842<>\"\", RawData!F842,\"\")","v":""},{"$f":"IF(RawData!G842<>\"\", RawData!G842,\"\")","v":""},{"$f":"IF(RawData!H842<>\"\", RawData!H842,\"\")","v":""},{"$f":"IF(RawData!I842<>\"\", RawData!I842,\"\")","v":""},{"$f":"IF(RawData!J842<>\"\", RawData!J842,\"\")","v":""},"","","","","",false,false,false,false,false,"","",""]
[{"$f":"IF(RawData!A843<>\"\", RawData!A843,\"\")","v":""},{"$f":"IF(RawData!B843<>\"\", RawData!B843,\"\")","v":""},{"$f":"IF(RawData!C843<>\"\", RawData!C843,\"\")","v":""},{"$f":"IF(RawData!D843<>\"\", RawData!D843,\"\")","v":""},{"$f":"IF(RawData!E843<>\"\", RawData!E843,\"\")","v":""},{"$f":"IF(RawData!F843<>\"\", RawData!F843,\"\")","v":""},{"$f":"IF(RawData!G843<>\"\", RawData!G843,\"\")","v":""},{"$f":"IF(RawData!H843<>\"\", RawData!H843,\"\")","v":""},{"$f":"IF(RawData!I843<>\"\", RawData!I843,\"\")","v":""},{"$f":"IF(RawData!J843<>\"\", RawData!J843,\"\")","v":""},"","","","","",false,false,false,false,false,"","",""]
[{"$f":"IF(RawData!A844<>\"\", RawData!A844,\"\")","v":""},{"$f":"IF(RawData!B844<>\"\", RawData!B844,\"\")","v":""},{"$f":"IF(RawData!C844<>\"\", RawData!C844,\"\")","v":""},{"$f":"IF(RawData!D844<>\"\", RawData!D844,\"\")","v":""},{"$f":"IF(RawData!E844<>\"\", RawData!E844,\"\")","v":""},{"$f":"IF(RawData!F844<>\"\", RawData!F844,\"\")","v":""},{"$f":"IF(RawData!G844<>\"\", RawData!G844,\"\")","v":""},{"$f":"IF(RawData!H844<>\"\", RawData!H844,\"\")","v":""},{"$f":"IF(RawData!I844<>\"\", RawData!I844,\"\")","v":""},{"$f":"IF(RawData!J844<>\"\", RawData!J844,\"\")","v":""},"","","","","",false,false,false,false,false,"","",""]
[{"$f":"IF(RawData!A845<>\"\", RawData!A845,\"\")","v":""},{"$f":"IF(RawData!B845<>\"\", RawData!B845,\"\")","v":""},{"$f":"IF(RawData!C845<>\"\", RawData!C845,\"\")","v":""},{"$f":"IF(RawData!D845<>\"\", RawData!D845,\"\")","v":""},{"$f":"IF(RawData!E845<>\"\", RawData!E845,\"\")","v":""},{"$f":"IF(RawData!F845<>\"\", RawData!F845,\"\")","v":""},{"$f":"IF(RawData!G845<>\"\", RawData!G845,\"\")","v":""},{"$f":"IF(RawData!H845<>\"\", RawData!H845,\"\")","v":""},{"$f":"IF(RawData!I845<>\"\", RawData!I845,\"\")","v":""},{"$f":"IF(RawData!J845<>\"\", RawData!J845,\"\")","v":""},"","","","","",false,false,false,false,false,"","",""]
[{"$f":"IF(RawData!A846<>\"\", RawData!A846,\"\")","v":""},{"$f":"IF(RawData!B846<>\"\", RawData!B846,\"\")","v":""},{"$f":"IF(RawData!C846<>\"\", RawData!C846,\"\")","v":""},{"$f":"IF(RawData!D846<>\"\", RawData!D846,\"\")","v":""},{"$f":"IF(RawData!E846<>\"\", RawData!E846,\"\")","v":""},{"$f":"IF(RawData!F846<>\"\", RawData!F846,\"\")","v":""},{"$f":"IF(RawData!G846<>\"\", RawData!G846,\"\")","v":""},{"$f":"IF(RawData!H846<>\"\", RawData!H846,\"\")","v":""},{"$f":"IF(RawData!I846<>\"\", RawData!I846,\"\")","v":""},{"$f":"IF(RawData!J846<>\"\", RawData!J846,\"\")","v":""},"","","","","",false,false,false,false,false,"","",""]
[{"$f":"IF(RawData!A847<>\"\", RawData!A847,\"\")","v":""},{"$f":"IF(RawData!B847<>\"\", RawData!B847,\"\")","v":""},{"$f":"IF(RawData!C847<>\"\", RawData!C847,\"\")","v":""},{"$f":"IF(RawData!D847<>\"\", RawData!D847,\"\")","v":""},{"$f":"IF(RawData!E847<>\"\", RawData!E847,\"\")","v":""},{"$f":"IF(RawData!F847<>\"\", RawData!F847,\"\")","v":""},{"$f":"IF(RawData!G847<>\"\", RawData!G847,\"\")","v":""},{"$f":"IF(RawData!H847<>\"\", RawData!H847,\"\")","v":""},{"$f":"IF(RawData!I847<>\"\", RawData!I847,\"\")","v":""},{"$f":"IF(RawData!J847<>\"\", RawData!J847,\"\")","v":""},"","","","","",false,false,false,false,false,"","",""]
[{"$f":"IF(RawData!A848<>\"\", RawData!A848,\"\")","v":""},{"$f":"IF(RawData!B848<>\"\", RawData!B848,\"\")","v":""},{"$f":"IF(RawData!C848<>\"\", RawData!C848,\"\")","v":""},{"$f":"IF(RawData!D848<>\"\", RawData!D848,\"\")","v":""},{"$f":"IF(RawData!E848<>\"\", RawData!E848,\"\")","v":""},{"$f":"IF(RawData!F848<>\"\", RawData!F848,\"\")","v":""},{"$f":"IF(RawData!G848<>\"\", RawData!G848,\"\")","v":""},{"$f":"IF(RawData!H848<>\"\", RawData!H848,\"\")","v":""},{"$f":"IF(RawData!I848<>\"\", RawData!I848,\"\")","v":""},{"$f":"IF(RawData!J848<>\"\", RawData!J848,\"\")","v":""},"","","","","",false,false,false,false,false,"","",""]
[{"$f":"IF(RawData!A849<>\"\", RawData!A849,\"\")","v":""},{"$f":"IF(RawData!B849<>\"\", RawData!B849,\"\")","v":""},{"$f":"IF(RawData!C849<>\"\", RawData!C849,\"\")","v":""},{"$f":"IF(RawData!D849<>\"\", RawData!D849,\"\")","v":""},{"$f":"IF(RawData!E849<>\"\", RawData!E849,\"\")","v":""},{"$f":"IF(RawData!F849<>\"\", RawData!F849,\"\")","v":""},{"$f":"IF(RawData!G849<>\"\", RawData!G849,\"\")","v":""},{"$f":"IF(RawData!H849<>\"\", RawData!H849,\"\")","v":""},{"$f":"IF(RawData!I849<>\"\", RawData!I849,\"\")","v":""},{"$f":"IF(RawData!J849<>\"\", RawData!J849,\"\")","v":""},"","","","","",false,false,false,false,false,"","",""]
[{"$f":"IF(RawData!A850<>\"\", RawData!A850,\"\")","v":""},{"$f":"IF(RawData!B850<>\"\", RawData!B850,\"\")","v":""},{"$f":"IF(RawData!C850<>\"\", RawData!C850,\"\")","v":""},{"$f":"IF(RawData!D850<>\"\", RawData!D850,\"\")","v":""},{"$f":"IF(RawData!E850<>\"\", RawData!E850,\"\")","v":""},{"$f":"IF(RawData!F850<>\"\", RawData!F850,\"\")","v":""},{"$f":"IF(RawData!G850<>\"\", RawData!G850,\"\")","v":""},{"$f":"IF(RawData!H850<>\"\", RawData!H850,\"\")","v":""},{"$f":"IF(RawData!I850<>\"\", RawData!I850,\"\")","v":""},{"$f":"IF(RawData!J850<>\"\", RawData!J850,\"\")","v":""},"","","","","",false,false,false,false,false,"","",""]
[{"$f":"IF(RawData!A851<>\"\", RawData!A851,\"\")","v":""},{"$f":"IF(RawData!B851<>\"\", RawData!B851,\"\")","v":""},{"$f":"IF(RawData!C851<>\"\", RawData!C851,\"\")","v":""},{"$f":"IF(RawData!D851<>\"\", RawData!D851,\"\")","v":""},{"$f":"IF(RawData!E851<>\"\", RawData!E851,\"\")","v":""},{"$f":"IF(RawData!F851<>\"\", RawData!F851,\"\")","v":""},{"$f":"IF(RawData!G851<>\"\", RawData!G851,\"\")","v":""},{"$f":"IF(RawData!H851<>\"\", RawData!H851,\"\")","v":""},{"$f":"IF(RawData!I851<>\"\", RawData!I851,\"\")","v":""},{"$f":"IF(RawData!J851<>\"\", RawData!J851,\"\")","v":""},"","","","","",false,false,false,false,false,"","",""]
[{"$f":"IF(RawData!A852<>\"\", RawData!A852,\"\")","v":""},{"$f":"IF(RawData!B852<>\"\", RawData!B852,\"\")","v":""},{"$f":"IF(RawData!C852<>\"\", RawData!C852,\"\")","v":""},{"$f":"IF(RawData!D852<>\"\", RawData!D852,\"\")","v":""},{"$f":"IF(RawData!E852<>\"\", RawData!E852,\"\")","v":""},{"$f":"IF(RawData!F852<>\"\", RawData!F852,\"\")","v":""},{"$f":"IF(RawData!G852<>\"\", RawData!G852,\"\")","v":""},{"$f":"IF(RawData!H852<>\"\", RawData!H852,\"\")","v":""},{"$f":"IF(RawData!I852<>\"\", RawData!I852,\"\")","v":""},{"$f":"IF(RawData!J852<>\"\", RawData!J852,\"\")","v":""},"","","","","",false,false,false,false,false,"","",""]
[{"$f":"IF(RawData!A853<>\"\", RawData!A853,\"\")","v":""},{"$f":"IF(RawData!B853<>\"\", RawData!B853,\"\")","v":""},{"$f":"IF(RawData!C853<>\"\", RawData!C853,\"\")","v":""},{"$f":"IF(RawData!D853<>\"\", RawData!D853,\"\")","v":""},{"$f":"IF(RawData!E853<>\"\", RawData!E853,\"\")","v":""},{"$f":"IF(RawData!F853<>\"\", RawData!F853,\"\")","v":""},{"$f":"IF(RawData!G853<>\"\", RawData!G853,\"\")","v":""},{"$f":"IF(RawData!H853<>\"\", RawData!H853,\"\")","v":""},{"$f":"IF(RawData!I853<>\"\", RawData!I853,\"\")","v":""},{"$f":"IF(RawData!J853<>\"\", RawData!J853,\"\")","v":""},"","","","","",false,false,false,false,false,"","",""]
[{"$f":"IF(RawData!A854<>\"\", RawData!A854,\"\")","v":""},{"$f":"IF(RawData!B854<>\"\", RawData!B854,\"\")","v":""},{"$f":"IF(RawData!C854<>\"\", RawData!C854,\"\")","v":""},{"$f":"IF(RawData!D854<>\"\", RawData!D854,\"\")","v":""},{"$f":"IF(RawData!E854<>\"\", RawData!E854,\"\")","v":""},{"$f":"IF(RawData!F854<>\"\", RawData!F854,\"\")","v":""},{"$f":"IF(RawData!G854<>\"\", RawData!G854,\"\")","v":""},{"$f":"IF(RawData!H854<>\"\", RawData!H854,\"\")","v":""},{"$f":"IF(RawData!I854<>\"\", RawData!I854,\"\")","v":""},{"$f":"IF(RawData!J854<>\"\", RawData!J854,\"\")","v":""},"","","","","",false,false,false,false,false,"","",""]
[{"$f":"IF(RawData!A855<>\"\", RawData!A855,\"\")","v":""},{"$f":"IF(RawData!B855<>\"\", RawData!B855,\"\")","v":""},{"$f":"IF(RawData!C855<>\"\", RawData!C855,\"\")","v":""},{"$f":"IF(RawData!D855<>\"\", RawData!D855,\"\")","v":""},{"$f":"IF(RawData!E855<>\"\", RawData!E855,\"\")","v":""},{"$f":"IF(RawData!F855<>\"\", RawData!F855,\"\")","v":""},{"$f":"IF(RawData!G855<>\"\", RawData!G855,\"\")","v":""},{"$f":"IF(RawData!H855<>\"\", RawData!H855,\"\")","v":""},{"$f":"IF(RawData!I855<>\"\", RawData!I855,\"\")","v":""},{"$f":"IF(RawData!J855<>\"\", RawData!J855,\"\")","v":""},"","","","","",false,false,false,false,false,"","",""]
[{"$f":"IF(RawData!A856<>\"\", RawData!A856,\"\")","v":""},{"$f":"IF(RawData!B856<>\"\", RawData!B856,\"\")","v":""},{"$f":"IF(RawData!C856<>\"\", RawData!C856,\"\")","v":""},{"$f":"IF(RawData!D856<>\"\", RawData!D856,\"\")","v":""},{"$f":"IF(RawData!E856<>\"\", RawData!E856,\"\")","v":""},{"$f":"IF(RawData!F856<>\"\", RawData!F856,\"\")","v":""},{"$f":"IF(RawData!G856<>\"\", RawData!G856,\"\")","v":""},{"$f":"IF(RawData!H856<>\"\", RawData!H856,\"\")","v":""},{"$f":"IF(RawData!I856<>\"\", RawData!I856,\"\")","v":""},{"$f":"IF(RawData!J856<>\"\", RawData!J856,\"\")","v":""},"","","","","",false,false,false,false,false,"","",""]
[{"$f":"IF(RawData!A857<>\"\", RawData!A857,\"\")","v":""},{"$f":"IF(RawData!B857<>\"\", RawData!B857,\"\")","v":""},{"$f":"IF(RawData!C857<>\"\", RawData!C857,\"\")","v":""},{"$f":"IF(RawData!D857<>\"\", RawData!D857,\"\")","v":""},{"$f":"IF(RawData!E857<>\"\", RawData!E857,\"\")","v":""},{"$f":"IF(RawData!F857<>\"\", RawData!F857,\"\")","v":""},{"$f":"IF(RawData!G857<>\"\", RawData!G857,\"\")","v":""},{"$f":"IF(RawData!H857<>\"\", RawData!H857,\"\")","v":""},{"$f":"IF(RawData!I857<>\"\", RawData!I857,\"\")","v":""},{"$f":"IF(RawData!J857<>\"\", RawData!J857,\"\")","v":""},"","","","","",false,false,false,false,false,"","",""]
[{"$f":"IF(RawData!A858<>\"\", RawData!A858,\"\")","v":""},{"$f":"IF(RawData!B858<>\"\", RawData!B858,\"\")","v":""},{"$f":"IF(RawData!C858<>\"\", RawData!C858,\"\")","v":""},{"$f":"IF(RawData!D858<>\"\", RawData!D858,\"\")","v":""},{"$f":"IF(RawData!E858<>\"\", RawData!E858,\"\")","v":""},{"$f":"IF(RawData!F858<>\"\", RawData!F858,\"\")","v":""},{"$f":"IF(RawData!G858<>\"\", RawData!G858,\"\")","v":""},{"$f":"IF(RawData!H858<>\"\", RawData!H858,\"\")","v":""},{"$f":"IF(RawData!I858<>\"\", RawData!I858,\"\")","v":""},{"$f":"IF(RawData!J858<>\"\", RawData!J858,\"\")","v":""},"","","","","",false,false,false,false,false,"","",""]
[{"$f":"IF(RawData!A859<>\"\", RawData!A859,\"\")","v":""},{"$f":"IF(RawData!B859<>\"\", RawData!B859,\"\")","v":""},{"$f":"IF(RawData!C859<>\"\", RawData!C859,\"\")","v":""},{"$f":"IF(RawData!D859<>\"\", RawData!D859,\"\")","v":""},{"$f":"IF(RawData!E859<>\"\", RawData!E859,\"\")","v":""},{"$f":"IF(RawData!F859<>\"\", RawData!F859,\"\")","v":""},{"$f":"IF(RawData!G859<>\"\", RawData!G859,\"\")","v":""},{"$f":"IF(RawData!H859<>\"\", RawData!H859,\"\")","v":""},{"$f":"IF(RawData!I859<>\"\", RawData!I859,\"\")","v":""},{"$f":"IF(RawData!J859<>\"\", RawData!J859,\"\")","v":""},"","","","","",false,false,false,false,false,"","",""]
[{"$f":"IF(RawData!A860<>\"\", RawData!A860,\"\")","v":""},{"$f":"IF(RawData!B860<>\"\", RawData!B860,\"\")","v":""},{"$f":"IF(RawData!C860<>\"\", RawData!C860,\"\")","v":""},{"$f":"IF(RawData!D860<>\"\", RawData!D860,\"\")","v":""},{"$f":"IF(RawData!E860<>\"\", RawData!E860,\"\")","v":""},{"$f":"IF(RawData!F860<>\"\", RawData!F860,\"\")","v":""},{"$f":"IF(RawData!G860<>\"\", RawData!G860,\"\")","v":""},{"$f":"IF(RawData!H860<>\"\", RawData!H860,\"\")","v":""},{"$f":"IF(RawData!I860<>\"\", RawData!I860,\"\")","v":""},{"$f":"IF(RawData!J860<>\"\", RawData!J860,\"\")","v":""},"","","","","",false,false,false,false,false,"","",""]
[{"$f":"IF(RawData!A861<>\"\", RawData!A861,\"\")","v":""},{"$f":"IF(RawData!B861<>\"\", RawData!B861,\"\")","v":""},{"$f":"IF(RawData!C861<>\"\", RawData!C861,\"\")","v":""},{"$f":"IF(RawData!D861<>\"\", RawData!D861,\"\")","v":""},{"$f":"IF(RawData!E861<>\"\", RawData!E861,\"\")","v":""},{"$f":"IF(RawData!F861<>\"\", RawData!F861,\"\")","v":""},{"$f":"IF(RawData!G861<>\"\", RawData!G861,\"\")","v":""},{"$f":"IF(RawData!H861<>\"\", RawData!H861,\"\")","v":""},{"$f":"IF(RawData!I861<>\"\", RawData!I861,\"\")","v":""},{"$f":"IF(RawData!J861<>\"\", RawData!J861,\"\")","v":""},"","","","","",false,false,false,false,false,"","",""]
[{"$f":"IF(RawData!A862<>\"\", RawData!A862,\"\")","v":""},{"$f":"IF(RawData!B862<>\"\", RawData!B862,\"\")","v":""},{"$f":"IF(RawData!C862<>\"\", RawData!C862,\"\")","v":""},{"$f":"IF(RawData!D862<>\"\", RawData!D862,\"\")","v":""},{"$f":"IF(RawData!E862<>\"\", RawData!E862,\"\")","v":""},{"$f":"IF(RawData!F862<>\"\", RawData!F862,\"\")","v":""},{"$f":"IF(RawData!G862<>\"\", RawData!G862,\"\")","v":""},{"$f":"IF(RawData!H862<>\"\", RawData!H862,\"\")","v":""},{"$f":"IF(RawData!I862<>\"\", RawData!I862,\"\")","v":""},{"$f":"IF(RawData!J862<>\"\", RawData!J862,\"\")","v":""},"","","","","",false,false,false,false,false,"","",""]
[{"$f":"IF(RawData!A863<>\"\", RawData!A863,\"\")","v":""},{"$f":"IF(RawData!B863<>\"\", RawData!B863,\"\")","v":""},{"$f":"IF(RawData!C863<>\"\", RawData!C863,\"\")","v":""},{"$f":"IF(RawData!D863<>\"\", RawData!D863,\"\")","v":""},{"$f":"IF(RawData!E863<>\"\", RawData!E863,\"\")","v":""},{"$f":"IF(RawData!F863<>\"\", RawData!F863,\"\")","v":""},{"$f":"IF(RawData!G863<>\"\", RawData!G863,\"\")","v":""},{"$f":"IF(RawData!H863<>\"\", RawData!H863,\"\")","v":""},{"$f":"IF(RawData!I863<>\"\", RawData!I863,\"\")","v":""},{"$f":"IF(RawData!J863<>\"\", RawData!J863,\"\")","v":""},"","","","","",false,false,false,false,false,"","",""]
[{"$f":"IF(RawData!A864<>\"\", RawData!A864,\"\")","v":""},{"$f":"IF(RawData!B864<>\"\", RawData!B864,\"\")","v":""},{"$f":"IF(RawData!C864<>\"\", RawData!C864,\"\")","v":""},{"$f":"IF(RawData!D864<>\"\", RawData!D864,\"\")","v":""},{"$f":"IF(RawData!E864<>\"\", RawData!E864,\"\")","v":""},{"$f":"IF(RawData!F864<>\"\", RawData!F864,\"\")","v":""},{"$f":"IF(RawData!G864<>\"\", RawData!G864,\"\")","v":""},{"$f":"IF(RawData!H864<>\"\", RawData!H864,\"\")","v":""},{"$f":"IF(RawData!I864<>\"\", RawData!I864,\"\")","v":""},{"$f":"IF(RawData!J864<>\"\", RawData!J864,\"\")","v":""},"","","","","",false,false,false,false,false,"","",""]
[{"$f":"IF(RawData!A865<>\"\", RawData!A865,\"\")","v":""},{"$f":"IF(RawData!B865<>\"\", RawData!B865,\"\")","v":""},{"$f":"IF(RawData!C865<>\"\", RawData!C865,\"\")","v":""},{"$f":"IF(RawData!D865<>\"\", RawData!D865,\"\")","v":""},{"$f":"IF(RawData!E865<>\"\", RawData!E865,\"\")","v":""},{"$f":"IF(RawData!F865<>\"\", RawData!F865,\"\")","v":""},{"$f":"IF(RawData!G865<>\"\", RawData!G865,\"\")","v":""},{"$f":"IF(RawData!H865<>\"\", RawData!H865,\"\")","v":""},{"$f":"IF(RawData!I865<>\"\", RawData!I865,\"\")","v":""},{"$f":"IF(RawData!J865<>\"\", RawData!J865,\"\")","v":""},"","","","","",false,false,false,false,false,"","",""]
[{"$f":"IF(RawData!A866<>\"\", RawData!A866,\"\")","v":""},{"$f":"IF(RawData!B866<>\"\", RawData!B866,\"\")","v":""},{"$f":"IF(RawData!C866<>\"\", RawData!C866,\"\")","v":""},{"$f":"IF(RawData!D866<>\"\", RawData!D866,\"\")","v":""},{"$f":"IF(RawData!E866<>\"\", RawData!E866,\"\")","v":""},{"$f":"IF(RawData!F866<>\"\", RawData!F866,\"\")","v":""},{"$f":"IF(RawData!G866<>\"\", RawData!G866,\"\")","v":""},{"$f":"IF(RawData!H866<>\"\", RawData!H866,\"\")","v":""},{"$f":"IF(RawData!I866<>\"\", RawData!I866,\"\")","v":""},{"$f":"IF(RawData!J866<>\"\", RawData!J866,\"\")","v":""},"","","","","",false,false,false,false,false,"","",""]
[{"$f":"IF(RawData!A867<>\"\", RawData!A867,\"\")","v":""},{"$f":"IF(RawData!B867<>\"\", RawData!B867,\"\")","v":""},{"$f":"IF(RawData!C867<>\"\", RawData!C867,\"\")","v":""},{"$f":"IF(RawData!D867<>\"\", RawData!D867,\"\")","v":""},{"$f":"IF(RawData!E867<>\"\", RawData!E867,\"\")","v":""},{"$f":"IF(RawData!F867<>\"\", RawData!F867,\"\")","v":""},{"$f":"IF(RawData!G867<>\"\", RawData!G867,\"\")","v":""},{"$f":"IF(RawData!H867<>\"\", RawData!H867,\"\")","v":""},{"$f":"IF(RawData!I867<>\"\", RawData!I867,\"\")","v":""},{"$f":"IF(RawData!J867<>\"\", RawData!J867,\"\")","v":""},"","","","","",false,false,false,false,false,"","",""]
[{"$f":"IF(RawData!A868<>\"\", RawData!A868,\"\")","v":""},{"$f":"IF(RawData!B868<>\"\", RawData!B868,\"\")","v":""},{"$f":"IF(RawData!C868<>\"\", RawData!C868,\"\")","v":""},{"$f":"IF(RawData!D868<>\"\", RawData!D868,\"\")","v":""},{"$f":"IF(RawData!E868<>\"\", RawData!E868,\"\")","v":""},{"$f":"IF(RawData!F868<>\"\", RawData!F868,\"\")","v":""},{"$f":"IF(RawData!G868<>\"\", RawData!G868,\"\")","v":""},{"$f":"IF(RawData!H868<>\"\", RawData!H868,\"\")","v":""},{"$f":"IF(RawData!I868<>\"\", RawData!I868,\"\")","v":""},{"$f":"IF(RawData!J868<>\"\", RawData!J868,\"\")","v":""},"","","","","",false,false,false,false,false,"","",""]
[{"$f":"IF(RawData!A869<>\"\", RawData!A869,\"\")","v":""},{"$f":"IF(RawData!B869<>\"\", RawData!B869,\"\")","v":""},{"$f":"IF(RawData!C869<>\"\", RawData!C869,\"\")","v":""},{"$f":"IF(RawData!D869<>\"\", RawData!D869,\"\")","v":""},{"$f":"IF(RawData!E869<>\"\", RawData!E869,\"\")","v":""},{"$f":"IF(RawData!F869<>\"\", RawData!F869,\"\")","v":""},{"$f":"IF(RawData!G869<>\"\", RawData!G869,\"\")","v":""},{"$f":"IF(RawData!H869<>\"\", RawData!H869,\"\")","v":""},{"$f":"IF(RawData!I869<>\"\", RawData!I869,\"\")","v":""},{"$f":"IF(RawData!J869<>\"\", RawData!J869,\"\")","v":""},"","","","","",false,false,false,false,false,"","",""]
[{"$f":"IF(RawData!A870<>\"\", RawData!A870,\"\")","v":""},{"$f":"IF(RawData!B870<>\"\", RawData!B870,\"\")","v":""},{"$f":"IF(RawData!C870<>\"\", RawData!C870,\"\")","v":""},{"$f":"IF(RawData!D870<>\"\", RawData!D870,\"\")","v":""},{"$f":"IF(RawData!E870<>\"\", RawData!E870,\"\")","v":""},{"$f":"IF(RawData!F870<>\"\", RawData!F870,\"\")","v":""},{"$f":"IF(RawData!G870<>\"\", RawData!G870,\"\")","v":""},{"$f":"IF(RawData!H870<>\"\", RawData!H870,\"\")","v":""},{"$f":"IF(RawData!I870<>\"\", RawData!I870,\"\")","v":""},{"$f":"IF(RawData!J870<>\"\", RawData!J870,\"\")","v":""},"","","","","",false,false,false,false,false,"","",""]
[{"$f":"IF(RawData!A871<>\"\", RawData!A871,\"\")","v":""},{"$f":"IF(RawData!B871<>\"\", RawData!B871,\"\")","v":""},{"$f":"IF(RawData!C871<>\"\", RawData!C871,\"\")","v":""},{"$f":"IF(RawData!D871<>\"\", RawData!D871,\"\")","v":""},{"$f":"IF(RawData!E871<>\"\", RawData!E871,\"\")","v":""},{"$f":"IF(RawData!F871<>\"\", RawData!F871,\"\")","v":""},{"$f":"IF(RawData!G871<>\"\", RawData!G871,\"\")","v":""},{"$f":"IF(RawData!H871<>\"\", RawData!H871,\"\")","v":""},{"$f":"IF(RawData!I871<>\"\", RawData!I871,\"\")","v":""},{"$f":"IF(RawData!J871<>\"\", RawData!J871,\"\")","v":""},"","","","","",false,false,false,false,false,"","",""]
[{"$f":"IF(RawData!A872<>\"\", RawData!A872,\"\")","v":""},{"$f":"IF(RawData!B872<>\"\", RawData!B872,\"\")","v":""},{"$f":"IF(RawData!C872<>\"\", RawData!C872,\"\")","v":""},{"$f":"IF(RawData!D872<>\"\", RawData!D872,\"\")","v":""},{"$f":"IF(RawData!E872<>\"\", RawData!E872,\"\")","v":""},{"$f":"IF(RawData!F872<>\"\", RawData!F872,\"\")","v":""},{"$f":"IF(RawData!G872<>\"\", RawData!G872,\"\")","v":""},{"$f":"IF(RawData!H872<>\"\", RawData!H872,\"\")","v":""},{"$f":"IF(RawData!I872<>\"\", RawData!I872,\"\")","v":""},{"$f":"IF(RawData!J872<>\"\", RawData!J872,\"\")","v":""},"","","","","",false,false,false,false,false,"","",""]
[{"$f":"IF(RawData!A873<>\"\", RawData!A873,\"\")","v":""},{"$f":"IF(RawData!B873<>\"\", RawData!B873,\"\")","v":""},{"$f":"IF(RawData!C873<>\"\", RawData!C873,\"\")","v":""},{"$f":"IF(RawData!D873<>\"\", RawData!D873,\"\")","v":""},{"$f":"IF(RawData!E873<>\"\", RawData!E873,\"\")","v":""},{"$f":"IF(RawData!F873<>\"\", RawData!F873,\"\")","v":""},{"$f":"IF(RawData!G873<>\"\", RawData!G873,\"\")","v":""},{"$f":"IF(RawData!H873<>\"\", RawData!H873,\"\")","v":""},{"$f":"IF(RawData!I873<>\"\", RawData!I873,\"\")","v":""},{"$f":"IF(RawData!J873<>\"\", RawData!J873,\"\")","v":""},"","","","","",false,false,false,false,false,"","",""]
[{"$f":"IF(RawData!A874<>\"\", RawData!A874,\"\")","v":""},{"$f":"IF(RawData!B874<>\"\", RawData!B874,\"\")","v":""},{"$f":"IF(RawData!C874<>\"\", RawData!C874,\"\")","v":""},{"$f":"IF(RawData!D874<>\"\", RawData!D874,\"\")","v":""},{"$f":"IF(RawData!E874<>\"\", RawData!E874,\"\")","v":""},{"$f":"IF(RawData!F874<>\"\", RawData!F874,\"\")","v":""},{"$f":"IF(RawData!G874<>\"\", RawData!G874,\"\")","v":""},{"$f":"IF(RawData!H874<>\"\", RawData!H874,\"\")","v":""},{"$f":"IF(RawData!I874<>\"\", RawData!I874,\"\")","v":""},{"$f":"IF(RawData!J874<>\"\", RawData!J874,\"\")","v":""},"","","","","",false,false,false,false,false,"","",""]
[{"$f":"IF(RawData!A875<>\"\", RawData!A875,\"\")","v":""},{"$f":"IF(RawData!B875<>\"\", RawData!B875,\"\")","v":""},{"$f":"IF(RawData!C875<>\"\", RawData!C875,\"\")","v":""},{"$f":"IF(RawData!D875<>\"\", RawData!D875,\"\")","v":""},{"$f":"IF(RawData!E875<>\"\", RawData!E875,\"\")","v":""},{"$f":"IF(RawData!F875<>\"\", RawData!F875,\"\")","v":""},{"$f":"IF(RawData!G875<>\"\", RawData!G875,\"\")","v":""},{"$f":"IF(RawData!H875<>\"\", RawData!H875,\"\")","v":""},{"$f":"IF(RawData!I875<>\"\", RawData!I875,\"\")","v":""},{"$f":"IF(RawData!J875<>\"\", RawData!J875,\"\")","v":""},"","","","","",false,false,false,false,false,"","",""]
[{"$f":"IF(RawData!A876<>\"\", RawData!A876,\"\")","v":""},{"$f":"IF(RawData!B876<>\"\", RawData!B876,\"\")","v":""},{"$f":"IF(RawData!C876<>\"\", RawData!C876,\"\")","v":""},{"$f":"IF(RawData!D876<>\"\", RawData!D876,\"\")","v":""},{"$f":"IF(RawData!E876<>\"\", RawData!E876,\"\")","v":""},{"$f":"IF(RawData!F876<>\"\", RawData!F876,\"\")","v":""},{"$f":"IF(RawData!G876<>\"\", RawData!G876,\"\")","v":""},{"$f":"IF(RawData!H876<>\"\", RawData!H876,\"\")","v":""},{"$f":"IF(RawData!I876<>\"\", RawData!I876,\"\")","v":""},{"$f":"IF(RawData!J876<>\"\", RawData!J876,\"\")","v":""},"","","","","",false,false,false,false,false,"","",""]
[{"$f":"IF(RawData!A877<>\"\", RawData!A877,\"\")","v":""},{"$f":"IF(RawData!B877<>\"\", RawData!B877,\"\")","v":""},{"$f":"IF(RawData!C877<>\"\", RawData!C877,\"\")","v":""},{"$f":"IF(RawData!D877<>\"\", RawData!D877,\"\")","v":""},{"$f":"IF(RawData!E877<>\"\", RawData!E877,\"\")","v":""},{"$f":"IF(RawData!F877<>\"\", RawData!F877,\"\")","v":""},{"$f":"IF(RawData!G877<>\"\", RawData!G877,\"\")","v":""},{"$f":"IF(RawData!H877<>\"\", RawData!H877,\"\")","v":""},{"$f":"IF(RawData!I877<>\"\", RawData!I877,\"\")","v":""},{"$f":"IF(RawData!J877<>\"\", RawData!J877,\"\")","v":""},"","","","","",false,false,false,false,false,"","",""]
[{"$f":"IF(RawData!A878<>\"\", RawData!A878,\"\")","v":""},{"$f":"IF(RawData!B878<>\"\", RawData!B878,\"\")","v":""},{"$f":"IF(RawData!C878<>\"\", RawData!C878,\"\")","v":""},{"$f":"IF(RawData!D878<>\"\", RawData!D878,\"\")","v":""},{"$f":"IF(RawData!E878<>\"\", RawData!E878,\"\")","v":""},{"$f":"IF(RawData!F878<>\"\", RawData!F878,\"\")","v":""},{"$f":"IF(RawData!G878<>\"\", RawData!G878,\"\")","v":""},{"$f":"IF(RawData!H878<>\"\", RawData!H878,\"\")","v":""},{"$f":"IF(RawData!I878<>\"\", RawData!I878,\"\")","v":""},{"$f":"IF(RawData!J878<>\"\", RawData!J878,\"\")","v":""},"","","","","",false,false,false,false,false,"","",""]
[{"$f":"IF(RawData!A879<>\"\", RawData!A879,\"\")","v":""},{"$f":"IF(RawData!B879<>\"\", RawData!B879,\"\")","v":""},{"$f":"IF(RawData!C879<>\"\", RawData!C879,\"\")","v":""},{"$f":"IF(RawData!D879<>\"\", RawData!D879,\"\")","v":""},{"$f":"IF(RawData!E879<>\"\", RawData!E879,\"\")","v":""},{"$f":"IF(RawData!F879<>\"\", RawData!F879,\"\")","v":""},{"$f":"IF(RawData!G879<>\"\", RawData!G879,\"\")","v":""},{"$f":"IF(RawData!H879<>\"\", RawData!H879,\"\")","v":""},{"$f":"IF(RawData!I879<>\"\", RawData!I879,\"\")","v":""},{"$f":"IF(RawData!J879<>\"\", RawData!J879,\"\")","v":""},"","","","","",false,false,false,false,false,"","",""]
[{"$f":"IF(RawData!A880<>\"\", RawData!A880,\"\")","v":""},{"$f":"IF(RawData!B880<>\"\", RawData!B880,\"\")","v":""},{"$f":"IF(RawData!C880<>\"\", RawData!C880,\"\")","v":""},{"$f":"IF(RawData!D880<>\"\", RawData!D880,\"\")","v":""},{"$f":"IF(RawData!E880<>\"\", RawData!E880,\"\")","v":""},{"$f":"IF(RawData!F880<>\"\", RawData!F880,\"\")","v":""},{"$f":"IF(RawData!G880<>\"\", RawData!G880,\"\")","v":""},{"$f":"IF(RawData!H880<>\"\", RawData!H880,\"\")","v":""},{"$f":"IF(RawData!I880<>\"\", RawData!I880,\"\")","v":""},{"$f":"IF(RawData!J880<>\"\", RawData!J880,\"\")","v":""},"","","","","",false,false,false,false,false,"","",""]
[{"$f":"IF(RawData!A881<>\"\", RawData!A881,\"\")","v":""},{"$f":"IF(RawData!B881<>\"\", RawData!B881,\"\")","v":""},{"$f":"IF(RawData!C881<>\"\", RawData!C881,\"\")","v":""},{"$f":"IF(RawData!D881<>\"\", RawData!D881,\"\")","v":""},{"$f":"IF(RawData!E881<>\"\", RawData!E881,\"\")","v":""},{"$f":"IF(RawData!F881<>\"\", RawData!F881,\"\")","v":""},{"$f":"IF(RawData!G881<>\"\", RawData!G881,\"\")","v":""},{"$f":"IF(RawData!H881<>\"\", RawData!H881,\"\")","v":""},{"$f":"IF(RawData!I881<>\"\", RawData!I881,\"\")","v":""},{"$f":"IF(RawData!J881<>\"\", RawData!J881,\"\")","v":""},"","","","","",false,false,false,false,false,"","",""]
[{"$f":"IF(RawData!A882<>\"\", RawData!A882,\"\")","v":""},{"$f":"IF(RawData!B882<>\"\", RawData!B882,\"\")","v":""},{"$f":"IF(RawData!C882<>\"\", RawData!C882,\"\")","v":""},{"$f":"IF(RawData!D882<>\"\", RawData!D882,\"\")","v":""},{"$f":"IF(RawData!E882<>\"\", RawData!E882,\"\")","v":""},{"$f":"IF(RawData!F882<>\"\", RawData!F882,\"\")","v":""},{"$f":"IF(RawData!G882<>\"\", RawData!G882,\"\")","v":""},{"$f":"IF(RawData!H882<>\"\", RawData!H882,\"\")","v":""},{"$f":"IF(RawData!I882<>\"\", RawData!I882,\"\")","v":""},{"$f":"IF(RawData!J882<>\"\", RawData!J882,\"\")","v":""},{"$f":"IF(G882<>\"\",IF(G882<3, 1, 0),\"\")","v":""},{"$f":"IF(G882<>\"\",IF(G882>=1, 1, 0),\"\")","v":""},{"$f":"IF(G882<>\"\",IF(AND(G882>=1,G882<=7), 1, 0),\"\")","v":""},"",{"$f":"IF(G882<>\"\",IF(G882>=8, 1, 0),\"\")","v":""},false,false,false,false,false,{"$f":"IF(H882<>\"\",IF(H882=1,IF(J882=4, 1, 0),\"\"),\"\")","v":""},"",""]
[{"$f":"IF(RawData!A883<>\"\", RawData!A883,\"\")","v":""},{"$f":"IF(RawData!B883<>\"\", RawData!B883,\"\")","v":""},{"$f":"IF(RawData!C883<>\"\", RawData!C883,\"\")","v":""},{"$f":"IF(RawData!D883<>\"\", RawData!D883,\"\")","v":""},{"$f":"IF(RawData!E883<>\"\", RawData!E883,\"\")","v":""},{"$f":"IF(RawData!F883<>\"\", RawData!F883,\"\")","v":""},{"$f":"IF(RawData!G883<>\"\", RawData!G883,\"\")","v":""},{"$f":"IF(RawData!H883<>\"\", RawData!H883,\"\")","v":""},{"$f":"IF(RawData!I883<>\"\", RawData!I883,\"\")","v":""},{"$f":"IF(RawData!J883<>\"\", RawData!J883,\"\")","v":""},"","","","","",{"$f":"IF(L883<>\"\", IF(J883<>\"\",IF(L883=0,IF(J883=1, 1, 0),\"\")))","v":false},{"$f":"IF(K883<>\"\",IF(J883<>\"\",IF(K883=1,IF(J883=1, 1, 0),\"\")))","v":false},{"$f":"IF(M883<>\"\",IF(J883<>\"\",IF(M883=1,IF(J883=2, 1, 0),\"\")))","v":false},{"$f":"IF(N883<>\"\",IF(J883<>\"\",IF(N883=1,IF(J883=3, 1, 0),\"\")))","v":false},{"$f":"IF(O883<>\"\",IF(J883<>\"\",IF(O883=1,IF(J883=4, 1, 0),\"\")))","v":false},"",{"$f":"IF(J883<>\"\",IF(OR(P883=1,Q883=1,R883=1,S883=1, T883=1, U883=1),1,0),\"\")","v":""},{"$f":"IF(J883<>\"\",IF(AND(J883<>0,V883=0),1,0),\"\")","v":""}]
[{"$f":"IF(RawData!A884<>\"\", RawData!A884,\"\")","v":""},{"$f":"IF(RawData!B884<>\"\", RawData!B884,\"\")","v":""},{"$f":"IF(RawData!C884<>\"\", RawData!C884,\"\")","v":""},{"$f":"IF(RawData!D884<>\"\", RawData!D884,\"\")","v":""},{"$f":"IF(RawData!E884<>\"\", RawData!E884,\"\")","v":""},{"$f":"IF(RawData!F884<>\"\", RawData!F884,\"\")","v":""},{"$f":"IF(RawData!G884<>\"\", RawData!G884,\"\")","v":""},{"$f":"IF(RawData!H884<>\"\", RawData!H884,\"\")","v":""},{"$f":"IF(RawData!I884<>\"\", RawData!I884,\"\")","v":""},{"$f":"IF(RawData!J884<>\"\", RawData!J884,\"\")","v":""},"","","","","",false,false,false,false,false,"","",""]
[{"$f":"IF(RawData!A885<>\"\", RawData!A885,\"\")","v":""},{"$f":"IF(RawData!B885<>\"\", RawData!B885,\"\")","v":""},{"$f":"IF(RawData!C885<>\"\", RawData!C885,\"\")","v":""},{"$f":"IF(RawData!D885<>\"\", RawData!D885,\"\")","v":""},{"$f":"IF(RawData!E885<>\"\", RawData!E885,\"\")","v":""},{"$f":"IF(RawData!F885<>\"\", RawData!F885,\"\")","v":""},{"$f":"IF(RawData!G885<>\"\", RawData!G885,\"\")","v":""},{"$f":"IF(RawData!H885<>\"\", RawData!H885,\"\")","v":""},{"$f":"IF(RawData!I885<>\"\", RawData!I885,\"\")","v":""},{"$f":"IF(RawData!J885<>\"\", RawData!J885,\"\")","v":""},"","","","","",false,false,false,false,false,"","",""]
[{"$f":"IF(RawData!A886<>\"\", RawData!A886,\"\")","v":""},{"$f":"IF(RawData!B886<>\"\", RawData!B886,\"\")","v":""},{"$f":"IF(RawData!C886<>\"\", RawData!C886,\"\")","v":""},{"$f":"IF(RawData!D886<>\"\", RawData!D886,\"\")","v":""},{"$f":"IF(RawData!E886<>\"\", RawData!E886,\"\")","v":""},{"$f":"IF(RawData!F886<>\"\", RawData!F886,\"\")","v":""},{"$f":"IF(RawData!G886<>\"\", RawData!G886,\"\")","v":""},{"$f":"IF(RawData!H886<>\"\", RawData!H886,\"\")","v":""},{"$f":"IF(RawData!I886<>\"\", RawData!I886,\"\")","v":""},{"$f":"IF(RawData!J886<>\"\", RawData!J886,\"\")","v":""},"","","","","",false,false,false,false,false,"","",""]
[{"$f":"IF(RawData!A887<>\"\", RawData!A887,\"\")","v":""},{"$f":"IF(RawData!B887<>\"\", RawData!B887,\"\")","v":""},{"$f":"IF(RawData!C887<>\"\", RawData!C887,\"\")","v":""},{"$f":"IF(RawData!D887<>\"\", RawData!D887,\"\")","v":""},{"$f":"IF(RawData!E887<>\"\", RawData!E887,\"\")","v":""},{"$f":"IF(RawData!F887<>\"\", RawData!F887,\"\")","v":""},{"$f":"IF(RawData!G887<>\"\", RawData!G887,\"\")","v":""},{"$f":"IF(RawData!H887<>\"\", RawData!H887,\"\")","v":""},{"$f":"IF(RawData!I887<>\"\", RawData!I887,\"\")","v":""},{"$f":"IF(RawData!J887<>\"\", RawData!J887,\"\")","v":""},"","","","","",false,false,false,false,false,"","",""]
[{"$f":"IF(RawData!A888<>\"\", RawData!A888,\"\")","v":""},{"$f":"IF(RawData!B888<>\"\", RawData!B888,\"\")","v":""},{"$f":"IF(RawData!C888<>\"\", RawData!C888,\"\")","v":""},{"$f":"IF(RawData!D888<>\"\", RawData!D888,\"\")","v":""},{"$f":"IF(RawData!E888<>\"\", RawData!E888,\"\")","v":""},{"$f":"IF(RawData!F888<>\"\", RawData!F888,\"\")","v":""},{"$f":"IF(RawData!G888<>\"\", RawData!G888,\"\")","v":""},{"$f":"IF(RawData!H888<>\"\", RawData!H888,\"\")","v":""},{"$f":"IF(RawData!I888<>\"\", RawData!I888,\"\")","v":""},{"$f":"IF(RawData!J888<>\"\", RawData!J888,\"\")","v":""},"","","","","",false,false,false,false,false,"","",""]
[{"$f":"IF(RawData!A889<>\"\", RawData!A889,\"\")","v":""},{"$f":"IF(RawData!B889<>\"\", RawData!B889,\"\")","v":""},{"$f":"IF(RawData!C889<>\"\", RawData!C889,\"\")","v":""},{"$f":"IF(RawData!D889<>\"\", RawData!D889,\"\")","v":""},{"$f":"IF(RawData!E889<>\"\", RawData!E889,\"\")","v":""},{"$f":"IF(RawData!F889<>\"\", RawData!F889,\"\")","v":""},{"$f":"IF(RawData!G889<>\"\", RawData!G889,\"\")","v":""},{"$f":"IF(RawData!H889<>\"\", RawData!H889,\"\")","v":""},{"$f":"IF(RawData!I889<>\"\", RawData!I889,\"\")","v":""},{"$f":"IF(RawData!J889<>\"\", RawData!J889,\"\")","v":""},"","","","","",false,false,false,false,false,"","",""]
[{"$f":"IF(RawData!A890<>\"\", RawData!A890,\"\")","v":""},{"$f":"IF(RawData!B890<>\"\", RawData!B890,\"\")","v":""},{"$f":"IF(RawData!C890<>\"\", RawData!C890,\"\")","v":""},{"$f":"IF(RawData!D890<>\"\", RawData!D890,\"\")","v":""},{"$f":"IF(RawData!E890<>\"\", RawData!E890,\"\")","v":""},{"$f":"IF(RawData!F890<>\"\", RawData!F890,\"\")","v":""},{"$f":"IF(RawData!G890<>\"\", RawData!G890,\"\")","v":""},{"$f":"IF(RawData!H890<>\"\", RawData!H890,\"\")","v":""},{"$f":"IF(RawData!I890<>\"\", RawData!I890,\"\")","v":""},{"$f":"IF(RawData!J890<>\"\", RawData!J890,\"\")","v":""},"","","","","",false,false,false,false,false,"","",""]
[{"$f":"IF(RawData!A891<>\"\", RawData!A891,\"\")","v":""},{"$f":"IF(RawData!B891<>\"\", RawData!B891,\"\")","v":""},{"$f":"IF(RawData!C891<>\"\", RawData!C891,\"\")","v":""},{"$f":"IF(RawData!D891<>\"\", RawData!D891,\"\")","v":""},{"$f":"IF(RawData!E891<>\"\", RawData!E891,\"\")","v":""},{"$f":"IF(RawData!F891<>\"\", RawData!F891,\"\")","v":""},{"$f":"IF(RawData!G891<>\"\", RawData!G891,\"\")","v":""},{"$f":"IF(RawData!H891<>\"\", RawData!H891,\"\")","v":""},{"$f":"IF(RawData!I891<>\"\", RawData!I891,\"\")","v":""},{"$f":"IF(RawData!J891<>\"\", RawData!J891,\"\")","v":""},"","","","","",false,false,false,false,false,"","",""]
[{"$f":"IF(RawData!A892<>\"\", RawData!A892,\"\")","v":""},{"$f":"IF(RawData!B892<>\"\", RawData!B892,\"\")","v":""},{"$f":"IF(RawData!C892<>\"\", RawData!C892,\"\")","v":""},{"$f":"IF(RawData!D892<>\"\", RawData!D892,\"\")","v":""},{"$f":"IF(RawData!E892<>\"\", RawData!E892,\"\")","v":""},{"$f":"IF(RawData!F892<>\"\", RawData!F892,\"\")","v":""},{"$f":"IF(RawData!G892<>\"\", RawData!G892,\"\")","v":""},{"$f":"IF(RawData!H892<>\"\", RawData!H892,\"\")","v":""},{"$f":"IF(RawData!I892<>\"\", RawData!I892,\"\")","v":""},{"$f":"IF(RawData!J892<>\"\", RawData!J892,\"\")","v":""},"","","","","",false,false,false,false,false,"","",""]
[{"$f":"IF(RawData!A893<>\"\", RawData!A893,\"\")","v":""},{"$f":"IF(RawData!B893<>\"\", RawData!B893,\"\")","v":""},{"$f":"IF(RawData!C893<>\"\", RawData!C893,\"\")","v":""},{"$f":"IF(RawData!D893<>\"\", RawData!D893,\"\")","v":""},{"$f":"IF(RawData!E893<>\"\", RawData!E893,\"\")","v":""},{"$f":"IF(RawData!F893<>\"\", RawData!F893,\"\")","v":""},{"$f":"IF(RawData!G893<>\"\", RawData!G893,\"\")","v":""},{"$f":"IF(RawData!H893<>\"\", RawData!H893,\"\")","v":""},{"$f":"IF(RawData!I893<>\"\", RawData!I893,\"\")","v":""},{"$f":"IF(RawData!J893<>\"\", RawData!J893,\"\")","v":""},"","","","","",false,false,false,false,false,"","",""]
[{"$f":"IF(RawData!A894<>\"\", RawData!A894,\"\")","v":""},{"$f":"IF(RawData!B894<>\"\", RawData!B894,\"\")","v":""},{"$f":"IF(RawData!C894<>\"\", RawData!C894,\"\")","v":""},{"$f":"IF(RawData!D894<>\"\", RawData!D894,\"\")","v":""},{"$f":"IF(RawData!E894<>\"\", RawData!E894,\"\")","v":""},{"$f":"IF(RawData!F894<>\"\", RawData!F894,\"\")","v":""},{"$f":"IF(RawData!G894<>\"\", RawData!G894,\"\")","v":""},{"$f":"IF(RawData!H894<>\"\", RawData!H894,\"\")","v":""},{"$f":"IF(RawData!I894<>\"\", RawData!I894,\"\")","v":""},{"$f":"IF(RawData!J894<>\"\", RawData!J894,\"\")","v":""},"","","","","",false,false,false,false,false,"","",""]
[{"$f":"IF(RawData!A895<>\"\", RawData!A895,\"\")","v":""},{"$f":"IF(RawData!B895<>\"\", RawData!B895,\"\")","v":""},{"$f":"IF(RawData!C895<>\"\", RawData!C895,\"\")","v":""},{"$f":"IF(RawData!D895<>\"\", RawData!D895,\"\")","v":""},{"$f":"IF(RawData!E895<>\"\", RawData!E895,\"\")","v":""},{"$f":"IF(RawData!F895<>\"\", RawData!F895,\"\")","v":""},{"$f":"IF(RawData!G895<>\"\", RawData!G895,\"\")","v":""},{"$f":"IF(RawData!H895<>\"\", RawData!H895,\"\")","v":""},{"$f":"IF(RawData!I895<>\"\", RawData!I895,\"\")","v":""},{"$f":"IF(RawData!J895<>\"\", RawData!J895,\"\")","v":""},"","","","","",false,false,false,false,false,"","",""]
[{"$f":"IF(RawData!A896<>\"\", RawData!A896,\"\")","v":""},{"$f":"IF(RawData!B896<>\"\", RawData!B896,\"\")","v":""},{"$f":"IF(RawData!C896<>\"\", RawData!C896,\"\")","v":""},{"$f":"IF(RawData!D896<>\"\", RawData!D896,\"\")","v":""},{"$f":"IF(RawData!E896<>\"\", RawData!E896,\"\")","v":""},{"$f":"IF(RawData!F896<>\"\", RawData!F896,\"\")","v":""},{"$f":"IF(RawData!G896<>\"\", RawData!G896,\"\")","v":""},{"$f":"IF(RawData!H896<>\"\", RawData!H896,\"\")","v":""},{"$f":"IF(RawData!I896<>\"\", RawData!I896,\"\")","v":""},{"$f":"IF(RawData!J896<>\"\", RawData!J896,\"\")","v":""},"","","","","",false,false,false,false,false,"","",""]
[{"$f":"IF(RawData!A897<>\"\", RawData!A897,\"\")","v":""},{"$f":"IF(RawData!B897<>\"\", RawData!B897,\"\")","v":""},{"$f":"IF(RawData!C897<>\"\", RawData!C897,\"\")","v":""},{"$f":"IF(RawData!D897<>\"\", RawData!D897,\"\")","v":""},{"$f":"IF(RawData!E897<>\"\", RawData!E897,\"\")","v":""},{"$f":"IF(RawData!F897<>\"\", RawData!F897,\"\")","v":""},{"$f":"IF(RawData!G897<>\"\", RawData!G897,\"\")","v":""},{"$f":"IF(RawData!H897<>\"\", RawData!H897,\"\")","v":""},{"$f":"IF(RawData!I897<>\"\", RawData!I897,\"\")","v":""},{"$f":"IF(RawData!J897<>\"\", RawData!J897,\"\")","v":""},"","","","","",false,false,false,false,false,"","",""]
[{"$f":"IF(RawData!A898<>\"\", RawData!A898,\"\")","v":""},{"$f":"IF(RawData!B898<>\"\", RawData!B898,\"\")","v":""},{"$f":"IF(RawData!C898<>\"\", RawData!C898,\"\")","v":""},{"$f":"IF(RawData!D898<>\"\", RawData!D898,\"\")","v":""},{"$f":"IF(RawData!E898<>\"\", RawData!E898,\"\")","v":""},{"$f":"IF(RawData!F898<>\"\", RawData!F898,\"\")","v":""},{"$f":"IF(RawData!G898<>\"\", RawData!G898,\"\")","v":""},{"$f":"IF(RawData!H898<>\"\", RawData!H898,\"\")","v":""},{"$f":"IF(RawData!I898<>\"\", RawData!I898,\"\")","v":""},{"$f":"IF(RawData!J898<>\"\", RawData!J898,\"\")","v":""},"","","","","",false,false,false,false,false,"","",""]
[{"$f":"IF(RawData!A899<>\"\", RawData!A899,\"\")","v":""},{"$f":"IF(RawData!B899<>\"\", RawData!B899,\"\")","v":""},{"$f":"IF(RawData!C899<>\"\", RawData!C899,\"\")","v":""},{"$f":"IF(RawData!D899<>\"\", RawData!D899,\"\")","v":""},{"$f":"IF(RawData!E899<>\"\", RawData!E899,\"\")","v":""},{"$f":"IF(RawData!F899<>\"\", RawData!F899,\"\")","v":""},{"$f":"IF(RawData!G899<>\"\", RawData!G899,\"\")","v":""},{"$f":"IF(RawData!H899<>\"\", RawData!H899,\"\")","v":""},{"$f":"IF(RawData!I899<>\"\", RawData!I899,\"\")","v":""},{"$f":"IF(RawData!J899<>\"\", RawData!J899,\"\")","v":""},"","","","","",false,false,false,false,false,"","",""]
[{"$f":"IF(RawData!A900<>\"\", RawData!A900,\"\")","v":""},{"$f":"IF(RawData!B900<>\"\", RawData!B900,\"\")","v":""},{"$f":"IF(RawData!C900<>\"\", RawData!C900,\"\")","v":""},{"$f":"IF(RawData!D900<>\"\", RawData!D900,\"\")","v":""},{"$f":"IF(RawData!E900<>\"\", RawData!E900,\"\")","v":""},{"$f":"IF(RawData!F900<>\"\", RawData!F900,\"\")","v":""},{"$f":"IF(RawData!G900<>\"\", RawData!G900,\"\")","v":""},{"$f":"IF(RawData!H900<>\"\", RawData!H900,\"\")","v":""},{"$f":"IF(RawData!I900<>\"\", RawData!I900,\"\")","v":""},{"$f":"IF(RawData!J900<>\"\", RawData!J900,\"\")","v":""},"","","","","",false,false,false,false,false,"","",""]
[{"$f":"IF(RawData!A901<>\"\", RawData!A901,\"\")","v":""},{"$f":"IF(RawData!B901<>\"\", RawData!B901,\"\")","v":""},{"$f":"IF(RawData!C901<>\"\", RawData!C901,\"\")","v":""},{"$f":"IF(RawData!D901<>\"\", RawData!D901,\"\")","v":""},{"$f":"IF(RawData!E901<>\"\", RawData!E901,\"\")","v":""},{"$f":"IF(RawData!F901<>\"\", RawData!F901,\"\")","v":""},{"$f":"IF(RawData!G901<>\"\", RawData!G901,\"\")","v":""},{"$f":"IF(RawData!H901<>\"\", RawData!H901,\"\")","v":""},{"$f":"IF(RawData!I901<>\"\", RawData!I901,\"\")","v":""},{"$f":"IF(RawData!J901<>\"\", RawData!J901,\"\")","v":""},"","","","","",false,false,false,false,false,"","",""]
[{"$f":"IF(RawData!A902<>\"\", RawData!A902,\"\")","v":""},{"$f":"IF(RawData!B902<>\"\", RawData!B902,\"\")","v":""},{"$f":"IF(RawData!C902<>\"\", RawData!C902,\"\")","v":""},{"$f":"IF(RawData!D902<>\"\", RawData!D902,\"\")","v":""},{"$f":"IF(RawData!E902<>\"\", RawData!E902,\"\")","v":""},{"$f":"IF(RawData!F902<>\"\", RawData!F902,\"\")","v":""},{"$f":"IF(RawData!G902<>\"\", RawData!G902,\"\")","v":""},{"$f":"IF(RawData!H902<>\"\", RawData!H902,\"\")","v":""},{"$f":"IF(RawData!I902<>\"\", RawData!I902,\"\")","v":""},{"$f":"IF(RawData!J902<>\"\", RawData!J902,\"\")","v":""},"","","","","",false,false,false,false,false,"","",""]
[{"$f":"IF(RawData!A903<>\"\", RawData!A903,\"\")","v":""},{"$f":"IF(RawData!B903<>\"\", RawData!B903,\"\")","v":""},{"$f":"IF(RawData!C903<>\"\", RawData!C903,\"\")","v":""},{"$f":"IF(RawData!D903<>\"\", RawData!D903,\"\")","v":""},{"$f":"IF(RawData!E903<>\"\", RawData!E903,\"\")","v":""},{"$f":"IF(RawData!F903<>\"\", RawData!F903,\"\")","v":""},{"$f":"IF(RawData!G903<>\"\", RawData!G903,\"\")","v":""},{"$f":"IF(RawData!H903<>\"\", RawData!H903,\"\")","v":""},{"$f":"IF(RawData!I903<>\"\", RawData!I903,\"\")","v":""},{"$f":"IF(RawData!J903<>\"\", RawData!J903,\"\")","v":""},"","","",{"$f":"IF(G903<>\"\",IF(G903>=4, 1, 0),\"\")","v":""},"",false,false,false,false,false,"","",""]
[{"$f":"IF(RawData!A904<>\"\", RawData!A904,\"\")","v":""},{"$f":"IF(RawData!B904<>\"\", RawData!B904,\"\")","v":""},{"$f":"IF(RawData!C904<>\"\", RawData!C904,\"\")","v":""},{"$f":"IF(RawData!D904<>\"\", RawData!D904,\"\")","v":""},{"$f":"IF(RawData!E904<>\"\", RawData!E904,\"\")","v":""},{"$f":"IF(RawData!F904<>\"\", RawData!F904,\"\")","v":""},{"$f":"IF(RawData!G904<>\"\", RawData!G904,\"\")","v":""},{"$f":"IF(RawData!H904<>\"\", RawData!H904,\"\")","v":""},{"$f":"IF(RawData!I904<>\"\", RawData!I904,\"\")","v":""},{"$f":"IF(RawData!J904<>\"\", RawData!J904,\"\")","v":""},"","","","","",false,false,false,false,false,"","",""]
[{"$f":"IF(RawData!A905<>\"\", RawData!A905,\"\")","v":""},{"$f":"IF(RawData!B905<>\"\", RawData!B905,\"\")","v":""},{"$f":"IF(RawData!C905<>\"\", RawData!C905,\"\")","v":""},{"$f":"IF(RawData!D905<>\"\", RawData!D905,\"\")","v":""},{"$f":"IF(RawData!E905<>\"\", RawData!E905,\"\")","v":""},{"$f":"IF(RawData!F905<>\"\", RawData!F905,\"\")","v":""},{"$f":"IF(RawData!G905<>\"\", RawData!G905,\"\")","v":""},{"$f":"IF(RawData!H905<>\"\", RawData!H905,\"\")","v":""},{"$f":"IF(RawData!I905<>\"\", RawData!I905,\"\")","v":""},{"$f":"IF(RawData!J905<>\"\", RawData!J905,\"\")","v":""},"","","","","",false,false,false,false,false,"","",""]
[{"$f":"IF(RawData!A906<>\"\", RawData!A906,\"\")","v":""},{"$f":"IF(RawData!B906<>\"\", RawData!B906,\"\")","v":""},{"$f":"IF(RawData!C906<>\"\", RawData!C906,\"\")","v":""},{"$f":"IF(RawData!D906<>\"\", RawData!D906,\"\")","v":""},{"$f":"IF(RawData!E906<>\"\", RawData!E906,\"\")","v":""},{"$f":"IF(RawData!F906<>\"\", RawData!F906,\"\")","v":""},{"$f":"IF(RawData!G906<>\"\", RawData!G906,\"\")","v":""},{"$f":"IF(RawData!H906<>\"\", RawData!H906,\"\")","v":""},{"$f":"IF(RawData!I906<>\"\", RawData!I906,\"\")","v":""},{"$f":"IF(RawData!J906<>\"\", RawData!J906,\"\")","v":""},"","","","","",false,false,false,false,false,"","",""]
[{"$f":"IF(RawData!A907<>\"\", RawData!A907,\"\")","v":""},{"$f":"IF(RawData!B907<>\"\", RawData!B907,\"\")","v":""},{"$f":"IF(RawData!C907<>\"\", RawData!C907,\"\")","v":""},{"$f":"IF(RawData!D907<>\"\", RawData!D907,\"\")","v":""},{"$f":"IF(RawData!E907<>\"\", RawData!E907,\"\")","v":""},{"$f":"IF(RawData!F907<>\"\", RawData!F907,\"\")","v":""},{"$f":"IF(RawData!G907<>\"\", RawData!G907,\"\")","v":""},{"$f":"IF(RawData!H907<>\"\", RawData!H907,\"\")","v":""},{"$f":"IF(RawData!I907<>\"\", RawData!I907,\"\")","v":""},{"$f":"IF(RawData!J907<>\"\", RawData!J907,\"\")","v":""},"","","","","",false,false,false,false,false,"","",""]
[{"$f":"IF(RawData!A908<>\"\", RawData!A908,\"\")","v":""},{"$f":"IF(RawData!B908<>\"\", RawData!B908,\"\")","v":""},{"$f":"IF(RawData!C908<>\"\", RawData!C908,\"\")","v":""},{"$f":"IF(RawData!D908<>\"\", RawData!D908,\"\")","v":""},{"$f":"IF(RawData!E908<>\"\", RawData!E908,\"\")","v":""},{"$f":"IF(RawData!F908<>\"\", RawData!F908,\"\")","v":""},{"$f":"IF(RawData!G908<>\"\", RawData!G908,\"\")","v":""},{"$f":"IF(RawData!H908<>\"\", RawData!H908,\"\")","v":""},{"$f":"IF(RawData!I908<>\"\", RawData!I908,\"\")","v":""},{"$f":"IF(RawData!J908<>\"\", RawData!J908,\"\")","v":""},"","","","","",false,false,false,false,false,"","",""]
[{"$f":"IF(RawData!A909<>\"\", RawData!A909,\"\")","v":""},{"$f":"IF(RawData!B909<>\"\", RawData!B909,\"\")","v":""},{"$f":"IF(RawData!C909<>\"\", RawData!C909,\"\")","v":""},{"$f":"IF(RawData!D909<>\"\", RawData!D909,\"\")","v":""},{"$f":"IF(RawData!E909<>\"\", RawData!E909,\"\")","v":""},{"$f":"IF(RawData!F909<>\"\", RawData!F909,\"\")","v":""},{"$f":"IF(RawData!G909<>\"\", RawData!G909,\"\")","v":""},{"$f":"IF(RawData!H909<>\"\", RawData!H909,\"\")","v":""},{"$f":"IF(RawData!I909<>\"\", RawData!I909,\"\")","v":""},{"$f":"IF(RawData!J909<>\"\", RawData!J909,\"\")","v":""},"","","","","",false,false,false,false,false,"","",""]
[{"$f":"IF(RawData!A910<>\"\", RawData!A910,\"\")","v":""},{"$f":"IF(RawData!B910<>\"\", RawData!B910,\"\")","v":""},{"$f":"IF(RawData!C910<>\"\", RawData!C910,\"\")","v":""},{"$f":"IF(RawData!D910<>\"\", RawData!D910,\"\")","v":""},{"$f":"IF(RawData!E910<>\"\", RawData!E910,\"\")","v":""},{"$f":"IF(RawData!F910<>\"\", RawData!F910,\"\")","v":""},{"$f":"IF(RawData!G910<>\"\", RawData!G910,\"\")","v":""},{"$f":"IF(RawData!H910<>\"\", RawData!H910,\"\")","v":""},{"$f":"IF(RawData!I910<>\"\", RawData!I910,\"\")","v":""},{"$f":"IF(RawData!J910<>\"\", RawData!J910,\"\")","v":""},"","","","","",false,false,false,false,false,"","",""]
[{"$f":"IF(RawData!A911<>\"\", RawData!A911,\"\")","v":""},{"$f":"IF(RawData!B911<>\"\", RawData!B911,\"\")","v":""},{"$f":"IF(RawData!C911<>\"\", RawData!C911,\"\")","v":""},{"$f":"IF(RawData!D911<>\"\", RawData!D911,\"\")","v":""},{"$f":"IF(RawData!E911<>\"\", RawData!E911,\"\")","v":""},{"$f":"IF(RawData!F911<>\"\", RawData!F911,\"\")","v":""},{"$f":"IF(RawData!G911<>\"\", RawData!G911,\"\")","v":""},{"$f":"IF(RawData!H911<>\"\", RawData!H911,\"\")","v":""},{"$f":"IF(RawData!I911<>\"\", RawData!I911,\"\")","v":""},{"$f":"IF(RawData!J911<>\"\", RawData!J911,\"\")","v":""},"","","","","",false,false,false,false,false,"","",""]
[{"$f":"IF(RawData!A912<>\"\", RawData!A912,\"\")","v":""},{"$f":"IF(RawData!B912<>\"\", RawData!B912,\"\")","v":""},{"$f":"IF(RawData!C912<>\"\", RawData!C912,\"\")","v":""},{"$f":"IF(RawData!D912<>\"\", RawData!D912,\"\")","v":""},{"$f":"IF(RawData!E912<>\"\", RawData!E912,\"\")","v":""},{"$f":"IF(RawData!F912<>\"\", RawData!F912,\"\")","v":""},{"$f":"IF(RawData!G912<>\"\", RawData!G912,\"\")","v":""},{"$f":"IF(RawData!H912<>\"\", RawData!H912,\"\")","v":""},{"$f":"IF(RawData!I912<>\"\", RawData!I912,\"\")","v":""},{"$f":"IF(RawData!J912<>\"\", RawData!J912,\"\")","v":""},"","","","","",false,false,false,false,false,"","",""]
[{"$f":"IF(RawData!A913<>\"\", RawData!A913,\"\")","v":""},{"$f":"IF(RawData!B913<>\"\", RawData!B913,\"\")","v":""},{"$f":"IF(RawData!C913<>\"\", RawData!C913,\"\")","v":""},{"$f":"IF(RawData!D913<>\"\", RawData!D913,\"\")","v":""},{"$f":"IF(RawData!E913<>\"\", RawData!E913,\"\")","v":""},{"$f":"IF(RawData!F913<>\"\", RawData!F913,\"\")","v":""},{"$f":"IF(RawData!G913<>\"\", RawData!G913,\"\")","v":""},{"$f":"IF(RawData!H913<>\"\", RawData!H913,\"\")","v":""},{"$f":"IF(RawData!I913<>\"\", RawData!I913,\"\")","v":""},{"$f":"IF(RawData!J913<>\"\", RawData!J913,\"\")","v":""},"","","","","",false,false,false,false,false,"","",""]
[{"$f":"IF(RawData!A914<>\"\", RawData!A914,\"\")","v":""},{"$f":"IF(RawData!B914<>\"\", RawData!B914,\"\")","v":""},{"$f":"IF(RawData!C914<>\"\", RawData!C914,\"\")","v":""},{"$f":"IF(RawData!D914<>\"\", RawData!D914,\"\")","v":""},{"$f":"IF(RawData!E914<>\"\", RawData!E914,\"\")","v":""},{"$f":"IF(RawData!F914<>\"\", RawData!F914,\"\")","v":""},{"$f":"IF(RawData!G914<>\"\", RawData!G914,\"\")","v":""},{"$f":"IF(RawData!H914<>\"\", RawData!H914,\"\")","v":""},{"$f":"IF(RawData!I914<>\"\", RawData!I914,\"\")","v":""},{"$f":"IF(RawData!J914<>\"\", RawData!J914,\"\")","v":""},"","","","","",false,false,false,false,false,"","",""]
[{"$f":"IF(RawData!A915<>\"\", RawData!A915,\"\")","v":""},{"$f":"IF(RawData!B915<>\"\", RawData!B915,\"\")","v":""},{"$f":"IF(RawData!C915<>\"\", RawData!C915,\"\")","v":""},{"$f":"IF(RawData!D915<>\"\", RawData!D915,\"\")","v":""},{"$f":"IF(RawData!E915<>\"\", RawData!E915,\"\")","v":""},{"$f":"IF(RawData!F915<>\"\", RawData!F915,\"\")","v":""},{"$f":"IF(RawData!G915<>\"\", RawData!G915,\"\")","v":""},{"$f":"IF(RawData!H915<>\"\", RawData!H915,\"\")","v":""},{"$f":"IF(RawData!I915<>\"\", RawData!I915,\"\")","v":""},{"$f":"IF(RawData!J915<>\"\", RawData!J915,\"\")","v":""},"","","","","",false,false,false,false,false,"","",""]
[{"$f":"IF(RawData!A916<>\"\", RawData!A916,\"\")","v":""},{"$f":"IF(RawData!B916<>\"\", RawData!B916,\"\")","v":""},{"$f":"IF(RawData!C916<>\"\", RawData!C916,\"\")","v":""},{"$f":"IF(RawData!D916<>\"\", RawData!D916,\"\")","v":""},{"$f":"IF(RawData!E916<>\"\", RawData!E916,\"\")","v":""},{"$f":"IF(RawData!F916<>\"\", RawData!F916,\"\")","v":""},{"$f":"IF(RawData!G916<>\"\", RawData!G916,\"\")","v":""},{"$f":"IF(RawData!H916<>\"\", RawData!H916,\"\")","v":""},{"$f":"IF(RawData!I916<>\"\", RawData!I916,\"\")","v":""},{"$f":"IF(RawData!J916<>\"\", RawData!J916,\"\")","v":""},"","","","","",false,false,false,false,false,"","",""]
[{"$f":"IF(RawData!A917<>\"\", RawData!A917,\"\")","v":""},{"$f":"IF(RawData!B917<>\"\", RawData!B917,\"\")","v":""},{"$f":"IF(RawData!C917<>\"\", RawData!C917,\"\")","v":""},{"$f":"IF(RawData!D917<>\"\", RawData!D917,\"\")","v":""},{"$f":"IF(RawData!E917<>\"\", RawData!E917,\"\")","v":""},{"$f":"IF(RawData!F917<>\"\", RawData!F917,\"\")","v":""},{"$f":"IF(RawData!G917<>\"\", RawData!G917,\"\")","v":""},{"$f":"IF(RawData!H917<>\"\", RawData!H917,\"\")","v":""},{"$f":"IF(RawData!I917<>\"\", RawData!I917,\"\")","v":""},{"$f":"IF(RawData!J917<>\"\", RawData!J917,\"\")","v":""},"","","","","",false,false,false,false,false,"","",""]
[{"$f":"IF(RawData!A918<>\"\", RawData!A918,\"\")","v":""},{"$f":"IF(RawData!B918<>\"\", RawData!B918,\"\")","v":""},{"$f":"IF(RawData!C918<>\"\", RawData!C918,\"\")","v":""},{"$f":"IF(RawData!D918<>\"\", RawData!D918,\"\")","v":""},{"$f":"IF(RawData!E918<>\"\", RawData!E918,\"\")","v":""},{"$f":"IF(RawData!F918<>\"\", RawData!F918,\"\")","v":""},{"$f":"IF(RawData!G918<>\"\", RawData!G918,\"\")","v":""},{"$f":"IF(RawData!H918<>\"\", RawData!H918,\"\")","v":""},{"$f":"IF(RawData!I918<>\"\", RawData!I918,\"\")","v":""},{"$f":"IF(RawData!J918<>\"\", RawData!J918,\"\")","v":""},"","","","","",false,false,false,false,false,"","",""]
[{"$f":"IF(RawData!A919<>\"\", RawData!A919,\"\")","v":""},{"$f":"IF(RawData!B919<>\"\", RawData!B919,\"\")","v":""},{"$f":"IF(RawData!C919<>\"\", RawData!C919,\"\")","v":""},{"$f":"IF(RawData!D919<>\"\", RawData!D919,\"\")","v":""},{"$f":"IF(RawData!E919<>\"\", RawData!E919,\"\")","v":""},{"$f":"IF(RawData!F919<>\"\", RawData!F919,\"\")","v":""},{"$f":"IF(RawData!G919<>\"\", RawData!G919,\"\")","v":""},{"$f":"IF(RawData!H919<>\"\", RawData!H919,\"\")","v":""},{"$f":"IF(RawData!I919<>\"\", RawData!I919,\"\")","v":""},{"$f":"IF(RawData!J919<>\"\", RawData!J919,\"\")","v":""},"","","","","",false,false,false,false,false,"","",""]
[{"$f":"IF(RawData!A920<>\"\", RawData!A920,\"\")","v":""},{"$f":"IF(RawData!B920<>\"\", RawData!B920,\"\")","v":""},{"$f":"IF(RawData!C920<>\"\", RawData!C920,\"\")","v":""},{"$f":"IF(RawData!D920<>\"\", RawData!D920,\"\")","v":""},{"$f":"IF(RawData!E920<>\"\", RawData!E920,\"\")","v":""},{"$f":"IF(RawData!F920<>\"\", RawData!F920,\"\")","v":""},{"$f":"IF(RawData!G920<>\"\", RawData!G920,\"\")","v":""},{"$f":"IF(RawData!H920<>\"\", RawData!H920,\"\")","v":""},{"$f":"IF(RawData!I920<>\"\", RawData!I920,\"\")","v":""},{"$f":"IF(RawData!J920<>\"\", RawData!J920,\"\")","v":""},"","","","","",false,false,false,false,false,"","",""]
[{"$f":"IF(RawData!A921<>\"\", RawData!A921,\"\")","v":""},{"$f":"IF(RawData!B921<>\"\", RawData!B921,\"\")","v":""},{"$f":"IF(RawData!C921<>\"\", RawData!C921,\"\")","v":""},{"$f":"IF(RawData!D921<>\"\", RawData!D921,\"\")","v":""},{"$f":"IF(RawData!E921<>\"\", RawData!E921,\"\")","v":""},{"$f":"IF(RawData!F921<>\"\", RawData!F921,\"\")","v":""},{"$f":"IF(RawData!G921<>\"\", RawData!G921,\"\")","v":""},{"$f":"IF(RawData!H921<>\"\", RawData!H921,\"\")","v":""},{"$f":"IF(RawData!I921<>\"\", RawData!I921,\"\")","v":""},{"$f":"IF(RawData!J921<>\"\", RawData!J921,\"\")","v":""},"","","","","",false,false,false,false,false,"","",""]
[{"$f":"IF(RawData!A922<>\"\", RawData!A922,\"\")","v":""},{"$f":"IF(RawData!B922<>\"\", RawData!B922,\"\")","v":""},{"$f":"IF(RawData!C922<>\"\", RawData!C922,\"\")","v":""},{"$f":"IF(RawData!D922<>\"\", RawData!D922,\"\")","v":""},{"$f":"IF(RawData!E922<>\"\", RawData!E922,\"\")","v":""},{"$f":"IF(RawData!F922<>\"\", RawData!F922,\"\")","v":""},{"$f":"IF(RawData!G922<>\"\", RawData!G922,\"\")","v":""},{"$f":"IF(RawData!H922<>\"\", RawData!H922,\"\")","v":""},{"$f":"IF(RawData!I922<>\"\", RawData!I922,\"\")","v":""},{"$f":"IF(RawData!J922<>\"\", RawData!J922,\"\")","v":""},"","","","","",false,false,false,false,false,"","",""]
[{"$f":"IF(RawData!A923<>\"\", RawData!A923,\"\")","v":""},{"$f":"IF(RawData!B923<>\"\", RawData!B923,\"\")","v":""},{"$f":"IF(RawData!C923<>\"\", RawData!C923,\"\")","v":""},{"$f":"IF(RawData!D923<>\"\", RawData!D923,\"\")","v":""},{"$f":"IF(RawData!E923<>\"\", RawData!E923,\"\")","v":""},{"$f":"IF(RawData!F923<>\"\", RawData!F923,\"\")","v":""},{"$f":"IF(RawData!G923<>\"\", RawData!G923,\"\")","v":""},{"$f":"IF(RawData!H923<>\"\", RawData!H923,\"\")","v":""},{"$f":"IF(RawData!I923<>\"\", RawData!I923,\"\")","v":""},{"$f":"IF(RawData!J923<>\"\", RawData!J923,\"\")","v":""},"","","","","",false,false,false,false,false,"","",""]
[{"$f":"IF(RawData!A924<>\"\", RawData!A924,\"\")","v":""},{"$f":"IF(RawData!B924<>\"\", RawData!B924,\"\")","v":""},{"$f":"IF(RawData!C924<>\"\", RawData!C924,\"\")","v":""},{"$f":"IF(RawData!D924<>\"\", RawData!D924,\"\")","v":""},{"$f":"IF(RawData!E924<>\"\", RawData!E924,\"\")","v":""},{"$f":"IF(RawData!F924<>\"\", RawData!F924,\"\")","v":""},{"$f":"IF(RawData!G924<>\"\", RawData!G924,\"\")","v":""},{"$f":"IF(RawData!H924<>\"\", RawData!H924,\"\")","v":""},{"$f":"IF(RawData!I924<>\"\", RawData!I924,\"\")","v":""},{"$f":"IF(RawData!J924<>\"\", RawData!J924,\"\")","v":""},"","","","","",false,false,false,false,false,"","",""]
[{"$f":"IF(RawData!A925<>\"\", RawData!A925,\"\")","v":""},{"$f":"IF(RawData!B925<>\"\", RawData!B925,\"\")","v":""},{"$f":"IF(RawData!C925<>\"\", RawData!C925,\"\")","v":""},{"$f":"IF(RawData!D925<>\"\", RawData!D925,\"\")","v":""},{"$f":"IF(RawData!E925<>\"\", RawData!E925,\"\")","v":""},{"$f":"IF(RawData!F925<>\"\", RawData!F925,\"\")","v":""},{"$f":"IF(RawData!G925<>\"\", RawData!G925,\"\")","v":""},{"$f":"IF(RawData!H925<>\"\", RawData!H925,\"\")","v":""},{"$f":"IF(RawData!I925<>\"\", RawData!I925,\"\")","v":""},{"$f":"IF(RawData!J925<>\"\", RawData!J925,\"\")","v":""},"","","","","",false,false,false,false,false,"","",""]
[{"$f":"IF(RawData!A926<>\"\", RawData!A926,\"\")","v":""},{"$f":"IF(RawData!B926<>\"\", RawData!B926,\"\")","v":""},{"$f":"IF(RawData!C926<>\"\", RawData!C926,\"\")","v":""},{"$f":"IF(RawData!D926<>\"\", RawData!D926,\"\")","v":""},{"$f":"IF(RawData!E926<>\"\", RawData!E926,\"\")","v":""},{"$f":"IF(RawData!F926<>\"\", RawData!F926,\"\")","v":""},{"$f":"IF(RawData!G926<>\"\", RawData!G926,\"\")","v":""},{"$f":"IF(RawData!H926<>\"\", RawData!H926,\"\")","v":""},{"$f":"IF(RawData!I926<>\"\", RawData!I926,\"\")","v":""},{"$f":"IF(RawData!J926<>\"\", RawData!J926,\"\")","v":""},"","","","","",false,false,false,false,false,"","",""]
[{"$f":"IF(RawData!A927<>\"\", RawData!A927,\"\")","v":""},{"$f":"IF(RawData!B927<>\"\", RawData!B927,\"\")","v":""},{"$f":"IF(RawData!C927<>\"\", RawData!C927,\"\")","v":""},{"$f":"IF(RawData!D927<>\"\", RawData!D927,\"\")","v":""},{"$f":"IF(RawData!E927<>\"\", RawData!E927,\"\")","v":""},{"$f":"IF(RawData!F927<>\"\", RawData!F927,\"\")","v":""},{"$f":"IF(RawData!G927<>\"\", RawData!G927,\"\")","v":""},{"$f":"IF(RawData!H927<>\"\", RawData!H927,\"\")","v":""},{"$f":"IF(RawData!I927<>\"\", RawData!I927,\"\")","v":""},{"$f":"IF(RawData!J927<>\"\", RawData!J927,\"\")","v":""},"","","","","",false,false,false,false,false,"","",""]
[{"$f":"IF(RawData!A928<>\"\", RawData!A928,\"\")","v":""},{"$f":"IF(RawData!B928<>\"\", RawData!B928,\"\")","v":""},{"$f":"IF(RawData!C928<>\"\", RawData!C928,\"\")","v":""},{"$f":"IF(RawData!D928<>\"\", RawData!D928,\"\")","v":""},{"$f":"IF(RawData!E928<>\"\", RawData!E928,\"\")","v":""},{"$f":"IF(RawData!F928<>\"\", RawData!F928,\"\")","v":""},{"$f":"IF(RawData!G928<>\"\", RawData!G928,\"\")","v":""},{"$f":"IF(RawData!H928<>\"\", RawData!H928,\"\")","v":""},{"$f":"IF(RawData!I928<>\"\", RawData!I928,\"\")","v":""},{"$f":"IF(RawData!J928<>\"\", RawData!J928,\"\")","v":""},"","","","","",false,false,false,false,false,"","",""]
[{"$f":"IF(RawData!A929<>\"\", RawData!A929,\"\")","v":""},{"$f":"IF(RawData!B929<>\"\", RawData!B929,\"\")","v":""},{"$f":"IF(RawData!C929<>\"\", RawData!C929,\"\")","v":""},{"$f":"IF(RawData!D929<>\"\", RawData!D929,\"\")","v":""},{"$f":"IF(RawData!E929<>\"\", RawData!E929,\"\")","v":""},{"$f":"IF(RawData!F929<>\"\", RawData!F929,\"\")","v":""},{"$f":"IF(RawData!G929<>\"\", RawData!G929,\"\")","v":""},{"$f":"IF(RawData!H929<>\"\", RawData!H929,\"\")","v":""},{"$f":"IF(RawData!I929<>\"\", RawData!I929,\"\")","v":""},{"$f":"IF(RawData!J929<>\"\", RawData!J929,\"\")","v":""},"","","","","",false,false,false,false,false,"","",""]
[{"$f":"IF(RawData!A930<>\"\", RawData!A930,\"\")","v":""},{"$f":"IF(RawData!B930<>\"\", RawData!B930,\"\")","v":""},{"$f":"IF(RawData!C930<>\"\", RawData!C930,\"\")","v":""},{"$f":"IF(RawData!D930<>\"\", RawData!D930,\"\")","v":""},{"$f":"IF(RawData!E930<>\"\", RawData!E930,\"\")","v":""},{"$f":"IF(RawData!F930<>\"\", RawData!F930,\"\")","v":""},{"$f":"IF(RawData!G930<>\"\", RawData!G930,\"\")","v":""},{"$f":"IF(RawData!H930<>\"\", RawData!H930,\"\")","v":""},{"$f":"IF(RawData!I930<>\"\", RawData!I930,\"\")","v":""},{"$f":"IF(RawData!J930<>\"\", RawData!J930,\"\")","v":""},"","","","","",false,false,false,false,false,"","",""]
[{"$f":"IF(RawData!A931<>\"\", RawData!A931,\"\")","v":""},{"$f":"IF(RawData!B931<>\"\", RawData!B931,\"\")","v":""},{"$f":"IF(RawData!C931<>\"\", RawData!C931,\"\")","v":""},{"$f":"IF(RawData!D931<>\"\", RawData!D931,\"\")","v":""},{"$f":"IF(RawData!E931<>\"\", RawData!E931,\"\")","v":""},{"$f":"IF(RawData!F931<>\"\", RawData!F931,\"\")","v":""},{"$f":"IF(RawData!G931<>\"\", RawData!G931,\"\")","v":""},{"$f":"IF(RawData!H931<>\"\", RawData!H931,\"\")","v":""},{"$f":"IF(RawData!I931<>\"\", RawData!I931,\"\")","v":""},{"$f":"IF(RawData!J931<>\"\", RawData!J931,\"\")","v":""},"","","","","",false,false,false,false,false,"","",""]
[{"$f":"IF(RawData!A932<>\"\", RawData!A932,\"\")","v":""},{"$f":"IF(RawData!B932<>\"\", RawData!B932,\"\")","v":""},{"$f":"IF(RawData!C932<>\"\", RawData!C932,\"\")","v":""},{"$f":"IF(RawData!D932<>\"\", RawData!D932,\"\")","v":""},{"$f":"IF(RawData!E932<>\"\", RawData!E932,\"\")","v":""},{"$f":"IF(RawData!F932<>\"\", RawData!F932,\"\")","v":""},{"$f":"IF(RawData!G932<>\"\", RawData!G932,\"\")","v":""},{"$f":"IF(RawData!H932<>\"\", RawData!H932,\"\")","v":""},{"$f":"IF(RawData!I932<>\"\", RawData!I932,\"\")","v":""},{"$f":"IF(RawData!J932<>\"\", RawData!J932,\"\")","v":""},"","","","","",false,false,false,false,false,"","",""]
[{"$f":"IF(RawData!A933<>\"\", RawData!A933,\"\")","v":""},{"$f":"IF(RawData!B933<>\"\", RawData!B933,\"\")","v":""},{"$f":"IF(RawData!C933<>\"\", RawData!C933,\"\")","v":""},{"$f":"IF(RawData!D933<>\"\", RawData!D933,\"\")","v":""},{"$f":"IF(RawData!E933<>\"\", RawData!E933,\"\")","v":""},{"$f":"IF(RawData!F933<>\"\", RawData!F933,\"\")","v":""},{"$f":"IF(RawData!G933<>\"\", RawData!G933,\"\")","v":""},{"$f":"IF(RawData!H933<>\"\", RawData!H933,\"\")","v":""},{"$f":"IF(RawData!I933<>\"\", RawData!I933,\"\")","v":""},{"$f":"IF(RawData!J933<>\"\", RawData!J933,\"\")","v":""},"","","","","",false,false,false,false,false,"","",""]
[{"$f":"IF(RawData!A934<>\"\", RawData!A934,\"\")","v":""},{"$f":"IF(RawData!B934<>\"\", RawData!B934,\"\")","v":""},{"$f":"IF(RawData!C934<>\"\", RawData!C934,\"\")","v":""},{"$f":"IF(RawData!D934<>\"\", RawData!D934,\"\")","v":""},{"$f":"IF(RawData!E934<>\"\", RawData!E934,\"\")","v":""},{"$f":"IF(RawData!F934<>\"\", RawData!F934,\"\")","v":""},{"$f":"IF(RawData!G934<>\"\", RawData!G934,\"\")","v":""},{"$f":"IF(RawData!H934<>\"\", RawData!H934,\"\")","v":""},{"$f":"IF(RawData!I934<>\"\", RawData!I934,\"\")","v":""},{"$f":"IF(RawData!J934<>\"\", RawData!J934,\"\")","v":""},"","","","","",false,false,false,false,false,"","",""]
[{"$f":"IF(RawData!A935<>\"\", RawData!A935,\"\")","v":""},{"$f":"IF(RawData!B935<>\"\", RawData!B935,\"\")","v":""},{"$f":"IF(RawData!C935<>\"\", RawData!C935,\"\")","v":""},{"$f":"IF(RawData!D935<>\"\", RawData!D935,\"\")","v":""},{"$f":"IF(RawData!E935<>\"\", RawData!E935,\"\")","v":""},{"$f":"IF(RawData!F935<>\"\", RawData!F935,\"\")","v":""},{"$f":"IF(RawData!G935<>\"\", RawData!G935,\"\")","v":""},{"$f":"IF(RawData!H935<>\"\", RawData!H935,\"\")","v":""},{"$f":"IF(RawData!I935<>\"\", RawData!I935,\"\")","v":""},{"$f":"IF(RawData!J935<>\"\", RawData!J935,\"\")","v":""},"","","","","",false,false,false,false,false,"","",""]
[{"$f":"IF(RawData!A936<>\"\", RawData!A936,\"\")","v":""},{"$f":"IF(RawData!B936<>\"\", RawData!B936,\"\")","v":""},{"$f":"IF(RawData!C936<>\"\", RawData!C936,\"\")","v":""},{"$f":"IF(RawData!D936<>\"\", RawData!D936,\"\")","v":""},{"$f":"IF(RawData!E936<>\"\", RawData!E936,\"\")","v":""},{"$f":"IF(RawData!F936<>\"\", RawData!F936,\"\")","v":""},{"$f":"IF(RawData!G936<>\"\", RawData!G936,\"\")","v":""},{"$f":"IF(RawData!H936<>\"\", RawData!H936,\"\")","v":""},{"$f":"IF(RawData!I936<>\"\", RawData!I936,\"\")","v":""},{"$f":"IF(RawData!J936<>\"\", RawData!J936,\"\")","v":""},"","","","","",false,false,false,false,false,"","",""]
[{"$f":"IF(RawData!A937<>\"\", RawData!A937,\"\")","v":""},{"$f":"IF(RawData!B937<>\"\", RawData!B937,\"\")","v":""},{"$f":"IF(RawData!C937<>\"\", RawData!C937,\"\")","v":""},{"$f":"IF(RawData!D937<>\"\", RawData!D937,\"\")","v":""},{"$f":"IF(RawData!E937<>\"\", RawData!E937,\"\")","v":""},{"$f":"IF(RawData!F937<>\"\", RawData!F937,\"\")","v":""},{"$f":"IF(RawData!G937<>\"\", RawData!G937,\"\")","v":""},{"$f":"IF(RawData!H937<>\"\", RawData!H937,\"\")","v":""},{"$f":"IF(RawData!I937<>\"\", RawData!I937,\"\")","v":""},{"$f":"IF(RawData!J937<>\"\", RawData!J937,\"\")","v":""},"","","","","",false,false,false,false,false,"","",""]
[{"$f":"IF(RawData!A938<>\"\", RawData!A938,\"\")","v":""},{"$f":"IF(RawData!B938<>\"\", RawData!B938,\"\")","v":""},{"$f":"IF(RawData!C938<>\"\", RawData!C938,\"\")","v":""},{"$f":"IF(RawData!D938<>\"\", RawData!D938,\"\")","v":""},{"$f":"IF(RawData!E938<>\"\", RawData!E938,\"\")","v":""},{"$f":"IF(RawData!F938<>\"\", RawData!F938,\"\")","v":""},{"$f":"IF(RawData!G938<>\"\", RawData!G938,\"\")","v":""},{"$f":"IF(RawData!H938<>\"\", RawData!H938,\"\")","v":""},{"$f":"IF(RawData!I938<>\"\", RawData!I938,\"\")","v":""},{"$f":"IF(RawData!J938<>\"\", RawData!J938,\"\")","v":""},"","","","","",false,false,false,false,false,"","",""]
[{"$f":"IF(RawData!A939<>\"\", RawData!A939,\"\")","v":""},{"$f":"IF(RawData!B939<>\"\", RawData!B939,\"\")","v":""},{"$f":"IF(RawData!C939<>\"\", RawData!C939,\"\")","v":""},{"$f":"IF(RawData!D939<>\"\", RawData!D939,\"\")","v":""},{"$f":"IF(RawData!E939<>\"\", RawData!E939,\"\")","v":""},{"$f":"IF(RawData!F939<>\"\", RawData!F939,\"\")","v":""},{"$f":"IF(RawData!G939<>\"\", RawData!G939,\"\")","v":""},{"$f":"IF(RawData!H939<>\"\", RawData!H939,\"\")","v":""},{"$f":"IF(RawData!I939<>\"\", RawData!I939,\"\")","v":""},{"$f":"IF(RawData!J939<>\"\", RawData!J939,\"\")","v":""},"","","","","",false,false,false,false,false,"","",""]
[{"$f":"IF(RawData!A940<>\"\", RawData!A940,\"\")","v":""},{"$f":"IF(RawData!B940<>\"\", RawData!B940,\"\")","v":""},{"$f":"IF(RawData!C940<>\"\", RawData!C940,\"\")","v":""},{"$f":"IF(RawData!D940<>\"\", RawData!D940,\"\")","v":""},{"$f":"IF(RawData!E940<>\"\", RawData!E940,\"\")","v":""},{"$f":"IF(RawData!F940<>\"\", RawData!F940,\"\")","v":""},{"$f":"IF(RawData!G940<>\"\", RawData!G940,\"\")","v":""},{"$f":"IF(RawData!H940<>\"\", RawData!H940,\"\")","v":""},{"$f":"IF(RawData!I940<>\"\", RawData!I940,\"\")","v":""},{"$f":"IF(RawData!J940<>\"\", RawData!J940,\"\")","v":""},"","","","","",false,false,false,false,false,"","",""]
[{"$f":"IF(RawData!A941<>\"\", RawData!A941,\"\")","v":""},{"$f":"IF(RawData!B941<>\"\", RawData!B941,\"\")","v":""},{"$f":"IF(RawData!C941<>\"\", RawData!C941,\"\")","v":""},{"$f":"IF(RawData!D941<>\"\", RawData!D941,\"\")","v":""},{"$f":"IF(RawData!E941<>\"\", RawData!E941,\"\")","v":""},{"$f":"IF(RawData!F941<>\"\", RawData!F941,\"\")","v":""},{"$f":"IF(RawData!G941<>\"\", RawData!G941,\"\")","v":""},{"$f":"IF(RawData!H941<>\"\", RawData!H941,\"\")","v":""},{"$f":"IF(RawData!I941<>\"\", RawData!I941,\"\")","v":""},{"$f":"IF(RawData!J941<>\"\", RawData!J941,\"\")","v":""},"","","","","",false,false,false,false,false,"","",""]
[{"$f":"IF(RawData!A942<>\"\", RawData!A942,\"\")","v":""},{"$f":"IF(RawData!B942<>\"\", RawData!B942,\"\")","v":""},{"$f":"IF(RawData!C942<>\"\", RawData!C942,\"\")","v":""},{"$f":"IF(RawData!D942<>\"\", RawData!D942,\"\")","v":""},{"$f":"IF(RawData!E942<>\"\", RawData!E942,\"\")","v":""},{"$f":"IF(RawData!F942<>\"\", RawData!F942,\"\")","v":""},{"$f":"IF(RawData!G942<>\"\", RawData!G942,\"\")","v":""},{"$f":"IF(RawData!H942<>\"\", RawData!H942,\"\")","v":""},{"$f":"IF(RawData!I942<>\"\", RawData!I942,\"\")","v":""},{"$f":"IF(RawData!J942<>\"\", RawData!J942,\"\")","v":""},"","","","","",false,false,false,false,false,"","",""]
[{"$f":"IF(RawData!A943<>\"\", RawData!A943,\"\")","v":""},{"$f":"IF(RawData!B943<>\"\", RawData!B943,\"\")","v":""},{"$f":"IF(RawData!C943<>\"\", RawData!C943,\"\")","v":""},{"$f":"IF(RawData!D943<>\"\", RawData!D943,\"\")","v":""},{"$f":"IF(RawData!E943<>\"\", RawData!E943,\"\")","v":""},{"$f":"IF(RawData!F943<>\"\", RawData!F943,\"\")","v":""},{"$f":"IF(RawData!G943<>\"\", RawData!G943,\"\")","v":""},{"$f":"IF(RawData!H943<>\"\", RawData!H943,\"\")","v":""},{"$f":"IF(RawData!I943<>\"\", RawData!I943,\"\")","v":""},{"$f":"IF(RawData!J943<>\"\", RawData!J943,\"\")","v":""},"","","","","",false,false,false,false,false,"","",""]
[{"$f":"IF(RawData!A944<>\"\", RawData!A944,\"\")","v":""},{"$f":"IF(RawData!B944<>\"\", RawData!B944,\"\")","v":""},{"$f":"IF(RawData!C944<>\"\", RawData!C944,\"\")","v":""},{"$f":"IF(RawData!D944<>\"\", RawData!D944,\"\")","v":""},{"$f":"IF(RawData!E944<>\"\", RawData!E944,\"\")","v":""},{"$f":"IF(RawData!F944<>\"\", RawData!F944,\"\")","v":""},{"$f":"IF(RawData!G944<>\"\", RawData!G944,\"\")","v":""},{"$f":"IF(RawData!H944<>\"\", RawData!H944,\"\")","v":""},{"$f":"IF(RawData!I944<>\"\", RawData!I944,\"\")","v":""},{"$f":"IF(RawData!J944<>\"\", RawData!J944,\"\")","v":""},"","","","","",false,false,false,false,false,"","",""]
[{"$f":"IF(RawData!A945<>\"\", RawData!A945,\"\")","v":""},{"$f":"IF(RawData!B945<>\"\", RawData!B945,\"\")","v":""},{"$f":"IF(RawData!C945<>\"\", RawData!C945,\"\")","v":""},{"$f":"IF(RawData!D945<>\"\", RawData!D945,\"\")","v":""},{"$f":"IF(RawData!E945<>\"\", RawData!E945,\"\")","v":""},{"$f":"IF(RawData!F945<>\"\", RawData!F945,\"\")","v":""},{"$f":"IF(RawData!G945<>\"\", RawData!G945,\"\")","v":""},{"$f":"IF(RawData!H945<>\"\", RawData!H945,\"\")","v":""},{"$f":"IF(RawData!I945<>\"\", RawData!I945,\"\")","v":""},{"$f":"IF(RawData!J945<>\"\", RawData!J945,\"\")","v":""},"","","","","",false,false,false,false,false,"","",""]
[{"$f":"IF(RawData!A946<>\"\", RawData!A946,\"\")","v":""},{"$f":"IF(RawData!B946<>\"\", RawData!B946,\"\")","v":""},{"$f":"IF(RawData!C946<>\"\", RawData!C946,\"\")","v":""},{"$f":"IF(RawData!D946<>\"\", RawData!D946,\"\")","v":""},{"$f":"IF(RawData!E946<>\"\", RawData!E946,\"\")","v":""},{"$f":"IF(RawData!F946<>\"\", RawData!F946,\"\")","v":""},{"$f":"IF(RawData!G946<>\"\", RawData!G946,\"\")","v":""},{"$f":"IF(RawData!H946<>\"\", RawData!H946,\"\")","v":""},{"$f":"IF(RawData!I946<>\"\", RawData!I946,\"\")","v":""},{"$f":"IF(RawData!J946<>\"\", RawData!J946,\"\")","v":""},{"$f":"IF(G946<>\"\",IF(G946<3, 1, 0),\"\")","v":""},{"$f":"IF(G946<>\"\",IF(G946>=1, 1, 0),\"\")","v":""},{"$f":"IF(G946<>\"\",IF(AND(G946>=1,G946<=7), 1, 0),\"\")","v":""},"",{"$f":"IF(G946<>\"\",IF(G946>=8, 1, 0),\"\")","v":""},false,false,false,false,false,{"$f":"IF(H946<>\"\",IF(H946=1,IF(J946=4, 1, 0),\"\"),\"\")","v":""},"",""]
[{"$f":"IF(RawData!A947<>\"\", RawData!A947,\"\")","v":""},{"$f":"IF(RawData!B947<>\"\", RawData!B947,\"\")","v":""},{"$f":"IF(RawData!C947<>\"\", RawData!C947,\"\")","v":""},{"$f":"IF(RawData!D947<>\"\", RawData!D947,\"\")","v":""},{"$f":"IF(RawData!E947<>\"\", RawData!E947,\"\")","v":""},{"$f":"IF(RawData!F947<>\"\", RawData!F947,\"\")","v":""},{"$f":"IF(RawData!G947<>\"\", RawData!G947,\"\")","v":""},{"$f":"IF(RawData!H947<>\"\", RawData!H947,\"\")","v":""},{"$f":"IF(RawData!I947<>\"\", RawData!I947,\"\")","v":""},{"$f":"IF(RawData!J947<>\"\", RawData!J947,\"\")","v":""},"","","","","",{"$f":"IF(L947<>\"\", IF(J947<>\"\",IF(L947=0,IF(J947=1, 1, 0),\"\")))","v":false},{"$f":"IF(K947<>\"\",IF(J947<>\"\",IF(K947=1,IF(J947=1, 1, 0),\"\")))","v":false},{"$f":"IF(M947<>\"\",IF(J947<>\"\",IF(M947=1,IF(J947=2, 1, 0),\"\")))","v":false},{"$f":"IF(N947<>\"\",IF(J947<>\"\",IF(N947=1,IF(J947=3, 1, 0),\"\")))","v":false},{"$f":"IF(O947<>\"\",IF(J947<>\"\",IF(O947=1,IF(J947=4, 1, 0),\"\")))","v":false},"",{"$f":"IF(J947<>\"\",IF(OR(P947=1,Q947=1,R947=1,S947=1, T947=1, U947=1),1,0),\"\")","v":""},{"$f":"IF(J947<>\"\",IF(AND(J947<>0,V947=0),1,0),\"\")","v":""}]
[{"$f":"IF(RawData!A948<>\"\", RawData!A948,\"\")","v":""},{"$f":"IF(RawData!B948<>\"\", RawData!B948,\"\")","v":""},{"$f":"IF(RawData!C948<>\"\", RawData!C948,\"\")","v":""},{"$f":"IF(RawData!D948<>\"\", RawData!D948,\"\")","v":""},{"$f":"IF(RawData!E948<>\"\", RawData!E948,\"\")","v":""},{"$f":"IF(RawData!F948<>\"\", RawData!F948,\"\")","v":""},{"$f":"IF(RawData!G948<>\"\", RawData!G948,\"\")","v":""},{"$f":"IF(RawData!H948<>\"\", RawData!H948,\"\")","v":""},{"$f":"IF(RawData!I948<>\"\", RawData!I948,\"\")","v":""},{"$f":"IF(RawData!J948<>\"\", RawData!J948,\"\")","v":""},"","","","","",false,false,false,false,false,"","",""]
[{"$f":"IF(RawData!A949<>\"\", RawData!A949,\"\")","v":""},{"$f":"IF(RawData!B949<>\"\", RawData!B949,\"\")","v":""},{"$f":"IF(RawData!C949<>\"\", RawData!C949,\"\")","v":""},{"$f":"IF(RawData!D949<>\"\", RawData!D949,\"\")","v":""},{"$f":"IF(RawData!E949<>\"\", RawData!E949,\"\")","v":""},{"$f":"IF(RawData!F949<>\"\", RawData!F949,\"\")","v":""},{"$f":"IF(RawData!G949<>\"\", RawData!G949,\"\")","v":""},{"$f":"IF(RawData!H949<>\"\", RawData!H949,\"\")","v":""},{"$f":"IF(RawData!I949<>\"\", RawData!I949,\"\")","v":""},{"$f":"IF(RawData!J949<>\"\", RawData!J949,\"\")","v":""},"","","","","",false,false,false,false,false,"","",""]
[{"$f":"IF(RawData!A950<>\"\", RawData!A950,\"\")","v":""},{"$f":"IF(RawData!B950<>\"\", RawData!B950,\"\")","v":""},{"$f":"IF(RawData!C950<>\"\", RawData!C950,\"\")","v":""},{"$f":"IF(RawData!D950<>\"\", RawData!D950,\"\")","v":""},{"$f":"IF(RawData!E950<>\"\", RawData!E950,\"\")","v":""},{"$f":"IF(RawData!F950<>\"\", RawData!F950,\"\")","v":""},{"$f":"IF(RawData!G950<>\"\", RawData!G950,\"\")","v":""},{"$f":"IF(RawData!H950<>\"\", RawData!H950,\"\")","v":""},{"$f":"IF(RawData!I950<>\"\", RawData!I950,\"\")","v":""},{"$f":"IF(RawData!J950<>\"\", RawData!J950,\"\")","v":""},"","","","","",false,false,false,false,false,"","",""]
[{"$f":"IF(RawData!A951<>\"\", RawData!A951,\"\")","v":""},{"$f":"IF(RawData!B951<>\"\", RawData!B951,\"\")","v":""},{"$f":"IF(RawData!C951<>\"\", RawData!C951,\"\")","v":""},{"$f":"IF(RawData!D951<>\"\", RawData!D951,\"\")","v":""},{"$f":"IF(RawData!E951<>\"\", RawData!E951,\"\")","v":""},{"$f":"IF(RawData!F951<>\"\", RawData!F951,\"\")","v":""},{"$f":"IF(RawData!G951<>\"\", RawData!G951,\"\")","v":""},{"$f":"IF(RawData!H951<>\"\", RawData!H951,\"\")","v":""},{"$f":"IF(RawData!I951<>\"\", RawData!I951,\"\")","v":""},{"$f":"IF(RawData!J951<>\"\", RawData!J951,\"\")","v":""},"","","","","",false,false,false,false,false,"","",""]
[{"$f":"IF(RawData!A952<>\"\", RawData!A952,\"\")","v":""},{"$f":"IF(RawData!B952<>\"\", RawData!B952,\"\")","v":""},{"$f":"IF(RawData!C952<>\"\", RawData!C952,\"\")","v":""},{"$f":"IF(RawData!D952<>\"\", RawData!D952,\"\")","v":""},{"$f":"IF(RawData!E952<>\"\", RawData!E952,\"\")","v":""},{"$f":"IF(RawData!F952<>\"\", RawData!F952,\"\")","v":""},{"$f":"IF(RawData!G952<>\"\", RawData!G952,\"\")","v":""},{"$f":"IF(RawData!H952<>\"\", RawData!H952,\"\")","v":""},{"$f":"IF(RawData!I952<>\"\", RawData!I952,\"\")","v":""},{"$f":"IF(RawData!J952<>\"\", RawData!J952,\"\")","v":""},"","","","","",false,false,false,false,false,"","",""]
[{"$f":"IF(RawData!A953<>\"\", RawData!A953,\"\")","v":""},{"$f":"IF(RawData!B953<>\"\", RawData!B953,\"\")","v":""},{"$f":"IF(RawData!C953<>\"\", RawData!C953,\"\")","v":""},{"$f":"IF(RawData!D953<>\"\", RawData!D953,\"\")","v":""},{"$f":"IF(RawData!E953<>\"\", RawData!E953,\"\")","v":""},{"$f":"IF(RawData!F953<>\"\", RawData!F953,\"\")","v":""},{"$f":"IF(RawData!G953<>\"\", RawData!G953,\"\")","v":""},{"$f":"IF(RawData!H953<>\"\", RawData!H953,\"\")","v":""},{"$f":"IF(RawData!I953<>\"\", RawData!I953,\"\")","v":""},{"$f":"IF(RawData!J953<>\"\", RawData!J953,\"\")","v":""},"","","","","",false,false,false,false,false,"","",""]
[{"$f":"IF(RawData!A954<>\"\", RawData!A954,\"\")","v":""},{"$f":"IF(RawData!B954<>\"\", RawData!B954,\"\")","v":""},{"$f":"IF(RawData!C954<>\"\", RawData!C954,\"\")","v":""},{"$f":"IF(RawData!D954<>\"\", RawData!D954,\"\")","v":""},{"$f":"IF(RawData!E954<>\"\", RawData!E954,\"\")","v":""},{"$f":"IF(RawData!F954<>\"\", RawData!F954,\"\")","v":""},{"$f":"IF(RawData!G954<>\"\", RawData!G954,\"\")","v":""},{"$f":"IF(RawData!H954<>\"\", RawData!H954,\"\")","v":""},{"$f":"IF(RawData!I954<>\"\", RawData!I954,\"\")","v":""},{"$f":"IF(RawData!J954<>\"\", RawData!J954,\"\")","v":""},"","","","","",false,false,false,false,false,"","",""]
[{"$f":"IF(RawData!A955<>\"\", RawData!A955,\"\")","v":""},{"$f":"IF(RawData!B955<>\"\", RawData!B955,\"\")","v":""},{"$f":"IF(RawData!C955<>\"\", RawData!C955,\"\")","v":""},{"$f":"IF(RawData!D955<>\"\", RawData!D955,\"\")","v":""},{"$f":"IF(RawData!E955<>\"\", RawData!E955,\"\")","v":""},{"$f":"IF(RawData!F955<>\"\", RawData!F955,\"\")","v":""},{"$f":"IF(RawData!G955<>\"\", RawData!G955,\"\")","v":""},{"$f":"IF(RawData!H955<>\"\", RawData!H955,\"\")","v":""},{"$f":"IF(RawData!I955<>\"\", RawData!I955,\"\")","v":""},{"$f":"IF(RawData!J955<>\"\", RawData!J955,\"\")","v":""},"","","","","",false,false,false,false,false,"","",""]
[{"$f":"IF(RawData!A956<>\"\", RawData!A956,\"\")","v":""},{"$f":"IF(RawData!B956<>\"\", RawData!B956,\"\")","v":""},{"$f":"IF(RawData!C956<>\"\", RawData!C956,\"\")","v":""},{"$f":"IF(RawData!D956<>\"\", RawData!D956,\"\")","v":""},{"$f":"IF(RawData!E956<>\"\", RawData!E956,\"\")","v":""},{"$f":"IF(RawData!F956<>\"\", RawData!F956,\"\")","v":""},{"$f":"IF(RawData!G956<>\"\", RawData!G956,\"\")","v":""},{"$f":"IF(RawData!H956<>\"\", RawData!H956,\"\")","v":""},{"$f":"IF(RawData!I956<>\"\", RawData!I956,\"\")","v":""},{"$f":"IF(RawData!J956<>\"\", RawData!J956,\"\")","v":""},"","","","","",false,false,false,false,false,"","",""]
[{"$f":"IF(RawData!A957<>\"\", RawData!A957,\"\")","v":""},{"$f":"IF(RawData!B957<>\"\", RawData!B957,\"\")","v":""},{"$f":"IF(RawData!C957<>\"\", RawData!C957,\"\")","v":""},{"$f":"IF(RawData!D957<>\"\", RawData!D957,\"\")","v":""},{"$f":"IF(RawData!E957<>\"\", RawData!E957,\"\")","v":""},{"$f":"IF(RawData!F957<>\"\", RawData!F957,\"\")","v":""},{"$f":"IF(RawData!G957<>\"\", RawData!G957,\"\")","v":""},{"$f":"IF(RawData!H957<>\"\", RawData!H957,\"\")","v":""},{"$f":"IF(RawData!I957<>\"\", RawData!I957,\"\")","v":""},{"$f":"IF(RawData!J957<>\"\", RawData!J957,\"\")","v":""},"","","","","",false,false,false,false,false,"","",""]
[{"$f":"IF(RawData!A958<>\"\", RawData!A958,\"\")","v":""},{"$f":"IF(RawData!B958<>\"\", RawData!B958,\"\")","v":""},{"$f":"IF(RawData!C958<>\"\", RawData!C958,\"\")","v":""},{"$f":"IF(RawData!D958<>\"\", RawData!D958,\"\")","v":""},{"$f":"IF(RawData!E958<>\"\", RawData!E958,\"\")","v":""},{"$f":"IF(RawData!F958<>\"\", RawData!F958,\"\")","v":""},{"$f":"IF(RawData!G958<>\"\", RawData!G958,\"\")","v":""},{"$f":"IF(RawData!H958<>\"\", RawData!H958,\"\")","v":""},{"$f":"IF(RawData!I958<>\"\", RawData!I958,\"\")","v":""},{"$f":"IF(RawData!J958<>\"\", RawData!J958,\"\")","v":""},"","","","","",false,false,false,false,false,"","",""]
[{"$f":"IF(RawData!A959<>\"\", RawData!A959,\"\")","v":""},{"$f":"IF(RawData!B959<>\"\", RawData!B959,\"\")","v":""},{"$f":"IF(RawData!C959<>\"\", RawData!C959,\"\")","v":""},{"$f":"IF(RawData!D959<>\"\", RawData!D959,\"\")","v":""},{"$f":"IF(RawData!E959<>\"\", RawData!E959,\"\")","v":""},{"$f":"IF(RawData!F959<>\"\", RawData!F959,\"\")","v":""},{"$f":"IF(RawData!G959<>\"\", RawData!G959,\"\")","v":""},{"$f":"IF(RawData!H959<>\"\", RawData!H959,\"\")","v":""},{"$f":"IF(RawData!I959<>\"\", RawData!I959,\"\")","v":""},{"$f":"IF(RawData!J959<>\"\", RawData!J959,\"\")","v":""},"","","","","",false,false,false,false,false,"","",""]
[{"$f":"IF(RawData!A960<>\"\", RawData!A960,\"\")","v":""},{"$f":"IF(RawData!B960<>\"\", RawData!B960,\"\")","v":""},{"$f":"IF(RawData!C960<>\"\", RawData!C960,\"\")","v":""},{"$f":"IF(RawData!D960<>\"\", RawData!D960,\"\")","v":""},{"$f":"IF(RawData!E960<>\"\", RawData!E960,\"\")","v":""},{"$f":"IF(RawData!F960<>\"\", RawData!F960,\"\")","v":""},{"$f":"IF(RawData!G960<>\"\", RawData!G960,\"\")","v":""},{"$f":"IF(RawData!H960<>\"\", RawData!H960,\"\")","v":""},{"$f":"IF(RawData!I960<>\"\", RawData!I960,\"\")","v":""},{"$f":"IF(RawData!J960<>\"\", RawData!J960,\"\")","v":""},"","","","","",false,false,false,false,false,"","",""]
[{"$f":"IF(RawData!A961<>\"\", RawData!A961,\"\")","v":""},{"$f":"IF(RawData!B961<>\"\", RawData!B961,\"\")","v":""},{"$f":"IF(RawData!C961<>\"\", RawData!C961,\"\")","v":""},{"$f":"IF(RawData!D961<>\"\", RawData!D961,\"\")","v":""},{"$f":"IF(RawData!E961<>\"\", RawData!E961,\"\")","v":""},{"$f":"IF(RawData!F961<>\"\", RawData!F961,\"\")","v":""},{"$f":"IF(RawData!G961<>\"\", RawData!G961,\"\")","v":""},{"$f":"IF(RawData!H961<>\"\", RawData!H961,\"\")","v":""},{"$f":"IF(RawData!I961<>\"\", RawData!I961,\"\")","v":""},{"$f":"IF(RawData!J961<>\"\", RawData!J961,\"\")","v":""},"","","","","",false,false,false,false,false,"","",""]
[{"$f":"IF(RawData!A962<>\"\", RawData!A962,\"\")","v":""},{"$f":"IF(RawData!B962<>\"\", RawData!B962,\"\")","v":""},{"$f":"IF(RawData!C962<>\"\", RawData!C962,\"\")","v":""},{"$f":"IF(RawData!D962<>\"\", RawData!D962,\"\")","v":""},{"$f":"IF(RawData!E962<>\"\", RawData!E962,\"\")","v":""},{"$f":"IF(RawData!F962<>\"\", RawData!F962,\"\")","v":""},{"$f":"IF(RawData!G962<>\"\", RawData!G962,\"\")","v":""},{"$f":"IF(RawData!H962<>\"\", RawData!H962,\"\")","v":""},{"$f":"IF(RawData!I962<>\"\", RawData!I962,\"\")","v":""},{"$f":"IF(RawData!J962<>\"\", RawData!J962,\"\")","v":""},"","","","","",false,false,false,false,false,"","",""]
[{"$f":"IF(RawData!A963<>\"\", RawData!A963,\"\")","v":""},{"$f":"IF(RawData!B963<>\"\", RawData!B963,\"\")","v":""},{"$f":"IF(RawData!C963<>\"\", RawData!C963,\"\")","v":""},{"$f":"IF(RawData!D963<>\"\", RawData!D963,\"\")","v":""},{"$f":"IF(RawData!E963<>\"\", RawData!E963,\"\")","v":""},{"$f":"IF(RawData!F963<>\"\", RawData!F963,\"\")","v":""},{"$f":"IF(RawData!G963<>\"\", RawData!G963,\"\")","v":""},{"$f":"IF(RawData!H963<>\"\", RawData!H963,\"\")","v":""},{"$f":"IF(RawData!I963<>\"\", RawData!I963,\"\")","v":""},{"$f":"IF(RawData!J963<>\"\", RawData!J963,\"\")","v":""},"","","","","",false,false,false,false,false,"","",""]
[{"$f":"IF(RawData!A964<>\"\", RawData!A964,\"\")","v":""},{"$f":"IF(RawData!B964<>\"\", RawData!B964,\"\")","v":""},{"$f":"IF(RawData!C964<>\"\", RawData!C964,\"\")","v":""},{"$f":"IF(RawData!D964<>\"\", RawData!D964,\"\")","v":""},{"$f":"IF(RawData!E964<>\"\", RawData!E964,\"\")","v":""},{"$f":"IF(RawData!F964<>\"\", RawData!F964,\"\")","v":""},{"$f":"IF(RawData!G964<>\"\", RawData!G964,\"\")","v":""},{"$f":"IF(RawData!H964<>\"\", RawData!H964,\"\")","v":""},{"$f":"IF(RawData!I964<>\"\", RawData!I964,\"\")","v":""},{"$f":"IF(RawData!J964<>\"\", RawData!J964,\"\")","v":""},"","","","","",false,false,false,false,false,"","",""]
[{"$f":"IF(RawData!A965<>\"\", RawData!A965,\"\")","v":""},{"$f":"IF(RawData!B965<>\"\", RawData!B965,\"\")","v":""},{"$f":"IF(RawData!C965<>\"\", RawData!C965,\"\")","v":""},{"$f":"IF(RawData!D965<>\"\", RawData!D965,\"\")","v":""},{"$f":"IF(RawData!E965<>\"\", RawData!E965,\"\")","v":""},{"$f":"IF(RawData!F965<>\"\", RawData!F965,\"\")","v":""},{"$f":"IF(RawData!G965<>\"\", RawData!G965,\"\")","v":""},{"$f":"IF(RawData!H965<>\"\", RawData!H965,\"\")","v":""},{"$f":"IF(RawData!I965<>\"\", RawData!I965,\"\")","v":""},{"$f":"IF(RawData!J965<>\"\", RawData!J965,\"\")","v":""},"","","","","",false,false,false,false,false,"","",""]
[{"$f":"IF(RawData!A966<>\"\", RawData!A966,\"\")","v":""},{"$f":"IF(RawData!B966<>\"\", RawData!B966,\"\")","v":""},{"$f":"IF(RawData!C966<>\"\", RawData!C966,\"\")","v":""},{"$f":"IF(RawData!D966<>\"\", RawData!D966,\"\")","v":""},{"$f":"IF(RawData!E966<>\"\", RawData!E966,\"\")","v":""},{"$f":"IF(RawData!F966<>\"\", RawData!F966,\"\")","v":""},{"$f":"IF(RawData!G966<>\"\", RawData!G966,\"\")","v":""},{"$f":"IF(RawData!H966<>\"\", RawData!H966,\"\")","v":""},{"$f":"IF(RawData!I966<>\"\", RawData!I966,\"\")","v":""},{"$f":"IF(RawData!J966<>\"\", RawData!J966,\"\")","v":""},"","","","","",false,false,false,false,false,"","",""]
[{"$f":"IF(RawData!A967<>\"\", RawData!A967,\"\")","v":""},{"$f":"IF(RawData!B967<>\"\", RawData!B967,\"\")","v":""},{"$f":"IF(RawData!C967<>\"\", RawData!C967,\"\")","v":""},{"$f":"IF(RawData!D967<>\"\", RawData!D967,\"\")","v":""},{"$f":"IF(RawData!E967<>\"\", RawData!E967,\"\")","v":""},{"$f":"IF(RawData!F967<>\"\", RawData!F967,\"\")","v":""},{"$f":"IF(RawData!G967<>\"\", RawData!G967,\"\")","v":""},{"$f":"IF(RawData!H967<>\"\", RawData!H967,\"\")","v":""},{"$f":"IF(RawData!I967<>\"\", RawData!I967,\"\")","v":""},{"$f":"IF(RawData!J967<>\"\", RawData!J967,\"\")","v":""},"","","",{"$f":"IF(G967<>\"\",IF(G967>=4, 1, 0),\"\")","v":""},"",false,false,false,false,false,"","",""]
[{"$f":"IF(RawData!A968<>\"\", RawData!A968,\"\")","v":""},{"$f":"IF(RawData!B968<>\"\", RawData!B968,\"\")","v":""},{"$f":"IF(RawData!C968<>\"\", RawData!C968,\"\")","v":""},{"$f":"IF(RawData!D968<>\"\", RawData!D968,\"\")","v":""},{"$f":"IF(RawData!E968<>\"\", RawData!E968,\"\")","v":""},{"$f":"IF(RawData!F968<>\"\", RawData!F968,\"\")","v":""},{"$f":"IF(RawData!G968<>\"\", RawData!G968,\"\")","v":""},{"$f":"IF(RawData!H968<>\"\", RawData!H968,\"\")","v":""},{"$f":"IF(RawData!I968<>\"\", RawData!I968,\"\")","v":""},{"$f":"IF(RawData!J968<>\"\", RawData!J968,\"\")","v":""},"","","","","",false,false,false,false,false,"","",""]
[{"$f":"IF(RawData!A969<>\"\", RawData!A969,\"\")","v":""},{"$f":"IF(RawData!B969<>\"\", RawData!B969,\"\")","v":""},{"$f":"IF(RawData!C969<>\"\", RawData!C969,\"\")","v":""},{"$f":"IF(RawData!D969<>\"\", RawData!D969,\"\")","v":""},{"$f":"IF(RawData!E969<>\"\", RawData!E969,\"\")","v":""},{"$f":"IF(RawData!F969<>\"\", RawData!F969,\"\")","v":""},{"$f":"IF(RawData!G969<>\"\", RawData!G969,\"\")","v":""},{"$f":"IF(RawData!H969<>\"\", RawData!H969,\"\")","v":""},{"$f":"IF(RawData!I969<>\"\", RawData!I969,\"\")","v":""},{"$f":"IF(RawData!J969<>\"\", RawData!J969,\"\")","v":""},"","","","","",false,false,false,false,false,"","",""]
[{"$f":"IF(RawData!A970<>\"\", RawData!A970,\"\")","v":""},{"$f":"IF(RawData!B970<>\"\", RawData!B970,\"\")","v":""},{"$f":"IF(RawData!C970<>\"\", RawData!C970,\"\")","v":""},{"$f":"IF(RawData!D970<>\"\", RawData!D970,\"\")","v":""},{"$f":"IF(RawData!E970<>\"\", RawData!E970,\"\")","v":""},{"$f":"IF(RawData!F970<>\"\", RawData!F970,\"\")","v":""},{"$f":"IF(RawData!G970<>\"\", RawData!G970,\"\")","v":""},{"$f":"IF(RawData!H970<>\"\", RawData!H970,\"\")","v":""},{"$f":"IF(RawData!I970<>\"\", RawData!I970,\"\")","v":""},{"$f":"IF(RawData!J970<>\"\", RawData!J970,\"\")","v":""},"","","","","",false,false,false,false,false,"","",""]
[{"$f":"IF(RawData!A971<>\"\", RawData!A971,\"\")","v":""},{"$f":"IF(RawData!B971<>\"\", RawData!B971,\"\")","v":""},{"$f":"IF(RawData!C971<>\"\", RawData!C971,\"\")","v":""},{"$f":"IF(RawData!D971<>\"\", RawData!D971,\"\")","v":""},{"$f":"IF(RawData!E971<>\"\", RawData!E971,\"\")","v":""},{"$f":"IF(RawData!F971<>\"\", RawData!F971,\"\")","v":""},{"$f":"IF(RawData!G971<>\"\", RawData!G971,\"\")","v":""},{"$f":"IF(RawData!H971<>\"\", RawData!H971,\"\")","v":""},{"$f":"IF(RawData!I971<>\"\", RawData!I971,\"\")","v":""},{"$f":"IF(RawData!J971<>\"\", RawData!J971,\"\")","v":""},"","","","","",false,false,false,false,false,{"$f":"IF(H971<>\"\",IF(H971=1,IF(J971=4, 1, 0),\"\"),\"\")","v":""},"",""]
[{"$f":"IF(RawData!A972<>\"\", RawData!A972,\"\")","v":""},{"$f":"IF(RawData!B972<>\"\", RawData!B972,\"\")","v":""},{"$f":"IF(RawData!C972<>\"\", RawData!C972,\"\")","v":""},{"$f":"IF(RawData!D972<>\"\", RawData!D972,\"\")","v":""},{"$f":"IF(RawData!E972<>\"\", RawData!E972,\"\")","v":""},{"$f":"IF(RawData!F972<>\"\", RawData!F972,\"\")","v":""},{"$f":"IF(RawData!G972<>\"\", RawData!G972,\"\")","v":""},{"$f":"IF(RawData!H972<>\"\", RawData!H972,\"\")","v":""},{"$f":"IF(RawData!I972<>\"\", RawData!I972,\"\")","v":""},{"$f":"IF(RawData!J972<>\"\", RawData!J972,\"\")","v":""},"","","","","",false,false,false,false,false,"","",""]
[{"$f":"IF(RawData!A973<>\"\", RawData!A973,\"\")","v":""},{"$f":"IF(RawData!B973<>\"\", RawData!B973,\"\")","v":""},{"$f":"IF(RawData!C973<>\"\", RawData!C973,\"\")","v":""},{"$f":"IF(RawData!D973<>\"\", RawData!D973,\"\")","v":""},{"$f":"IF(RawData!E973<>\"\", RawData!E973,\"\")","v":""},{"$f":"IF(RawData!F973<>\"\", RawData!F973,\"\")","v":""},{"$f":"IF(RawData!G973<>\"\", RawData!G973,\"\")","v":""},{"$f":"IF(RawData!H973<>\"\", RawData!H973,\"\")","v":""},{"$f":"IF(RawData!I973<>\"\", RawData!I973,\"\")","v":""},{"$f":"IF(RawData!J973<>\"\", RawData!J973,\"\")","v":""},"","","","","",false,false,false,false,false,"","",""]
[{"$f":"IF(RawData!A974<>\"\", RawData!A974,\"\")","v":""},{"$f":"IF(RawData!B974<>\"\", RawData!B974,\"\")","v":""},{"$f":"IF(RawData!C974<>\"\", RawData!C974,\"\")","v":""},{"$f":"IF(RawData!D974<>\"\", RawData!D974,\"\")","v":""},{"$f":"IF(RawData!E974<>\"\", RawData!E974,\"\")","v":""},{"$f":"IF(RawData!F974<>\"\", RawData!F974,\"\")","v":""},{"$f":"IF(RawData!G974<>\"\", RawData!G974,\"\")","v":""},{"$f":"IF(RawData!H974<>\"\", RawData!H974,\"\")","v":""},{"$f":"IF(RawData!I974<>\"\", RawData!I974,\"\")","v":""},{"$f":"IF(RawData!J974<>\"\", RawData!J974,\"\")","v":""},"","","","","",false,false,false,false,false,"","",""]
[{"$f":"IF(RawData!A975<>\"\", RawData!A975,\"\")","v":""},{"$f":"IF(RawData!B975<>\"\", RawData!B975,\"\")","v":""},{"$f":"IF(RawData!C975<>\"\", RawData!C975,\"\")","v":""},{"$f":"IF(RawData!D975<>\"\", RawData!D975,\"\")","v":""},{"$f":"IF(RawData!E975<>\"\", RawData!E975,\"\")","v":""},{"$f":"IF(RawData!F975<>\"\", RawData!F975,\"\")","v":""},{"$f":"IF(RawData!G975<>\"\", RawData!G975,\"\")","v":""},{"$f":"IF(RawData!H975<>\"\", RawData!H975,\"\")","v":""},{"$f":"IF(RawData!I975<>\"\", RawData!I975,\"\")","v":""},{"$f":"IF(RawData!J975<>\"\", RawData!J975,\"\")","v":""},"","","","","",false,false,false,false,false,"","",""]
[{"$f":"IF(RawData!A976<>\"\", RawData!A976,\"\")","v":""},{"$f":"IF(RawData!B976<>\"\", RawData!B976,\"\")","v":""},{"$f":"IF(RawData!C976<>\"\", RawData!C976,\"\")","v":""},{"$f":"IF(RawData!D976<>\"\", RawData!D976,\"\")","v":""},{"$f":"IF(RawData!E976<>\"\", RawData!E976,\"\")","v":""},{"$f":"IF(RawData!F976<>\"\", RawData!F976,\"\")","v":""},{"$f":"IF(RawData!G976<>\"\", RawData!G976,\"\")","v":""},{"$f":"IF(RawData!H976<>\"\", RawData!H976,\"\")","v":""},{"$f":"IF(RawData!I976<>\"\", RawData!I976,\"\")","v":""},{"$f":"IF(RawData!J976<>\"\", RawData!J976,\"\")","v":""},"","","","","",false,false,false,false,false,"","",""]
[{"$f":"IF(RawData!A977<>\"\", RawData!A977,\"\")","v":""},{"$f":"IF(RawData!B977<>\"\", RawData!B977,\"\")","v":""},{"$f":"IF(RawData!C977<>\"\", RawData!C977,\"\")","v":""},{"$f":"IF(RawData!D977<>\"\", RawData!D977,\"\")","v":""},{"$f":"IF(RawData!E977<>\"\", RawData!E977,\"\")","v":""},{"$f":"IF(RawData!F977<>\"\", RawData!F977,\"\")","v":""},{"$f":"IF(RawData!G977<>\"\", RawData!G977,\"\")","v":""},{"$f":"IF(RawData!H977<>\"\", RawData!H977,\"\")","v":""},{"$f":"IF(RawData!I977<>\"\", RawData!I977,\"\")","v":""},{"$f":"IF(RawData!J977<>\"\", RawData!J977,\"\")","v":""},"","","","","",false,false,false,false,false,"","",""]
[{"$f":"IF(RawData!A978<>\"\", RawData!A978,\"\")","v":""},{"$f":"IF(RawData!B978<>\"\", RawData!B978,\"\")","v":""},{"$f":"IF(RawData!C978<>\"\", RawData!C978,\"\")","v":""},{"$f":"IF(RawData!D978<>\"\", RawData!D978,\"\")","v":""},{"$f":"IF(RawData!E978<>\"\", RawData!E978,\"\")","v":""},{"$f":"IF(RawData!F978<>\"\", RawData!F978,\"\")","v":""},{"$f":"IF(RawData!G978<>\"\", RawData!G978,\"\")","v":""},{"$f":"IF(RawData!H978<>\"\", RawData!H978,\"\")","v":""},{"$f":"IF(RawData!I978<>\"\", RawData!I978,\"\")","v":""},{"$f":"IF(RawData!J978<>\"\", RawData!J978,\"\")","v":""},"","","","","",false,false,false,false,false,"","",""]
[{"$f":"IF(RawData!A979<>\"\", RawData!A979,\"\")","v":""},{"$f":"IF(RawData!B979<>\"\", RawData!B979,\"\")","v":""},{"$f":"IF(RawData!C979<>\"\", RawData!C979,\"\")","v":""},{"$f":"IF(RawData!D979<>\"\", RawData!D979,\"\")","v":""},{"$f":"IF(RawData!E979<>\"\", RawData!E979,\"\")","v":""},{"$f":"IF(RawData!F979<>\"\", RawData!F979,\"\")","v":""},{"$f":"IF(RawData!G979<>\"\", RawData!G979,\"\")","v":""},{"$f":"IF(RawData!H979<>\"\", RawData!H979,\"\")","v":""},{"$f":"IF(RawData!I979<>\"\", RawData!I979,\"\")","v":""},{"$f":"IF(RawData!J979<>\"\", RawData!J979,\"\")","v":""},"","","","","",false,false,false,false,false,"","",""]
[{"$f":"IF(RawData!A980<>\"\", RawData!A980,\"\")","v":""},{"$f":"IF(RawData!B980<>\"\", RawData!B980,\"\")","v":""},{"$f":"IF(RawData!C980<>\"\", RawData!C980,\"\")","v":""},{"$f":"IF(RawData!D980<>\"\", RawData!D980,\"\")","v":""},{"$f":"IF(RawData!E980<>\"\", RawData!E980,\"\")","v":""},{"$f":"IF(RawData!F980<>\"\", RawData!F980,\"\")","v":""},{"$f":"IF(RawData!G980<>\"\", RawData!G980,\"\")","v":""},{"$f":"IF(RawData!H980<>\"\", RawData!H980,\"\")","v":""},{"$f":"IF(RawData!I980<>\"\", RawData!I980,\"\")","v":""},{"$f":"IF(RawData!J980<>\"\", RawData!J980,\"\")","v":""},"","","","","",false,false,false,false,false,"","",""]
[{"$f":"IF(RawData!A981<>\"\", RawData!A981,\"\")","v":""},{"$f":"IF(RawData!B981<>\"\", RawData!B981,\"\")","v":""},{"$f":"IF(RawData!C981<>\"\", RawData!C981,\"\")","v":""},{"$f":"IF(RawData!D981<>\"\", RawData!D981,\"\")","v":""},{"$f":"IF(RawData!E981<>\"\", RawData!E981,\"\")","v":""},{"$f":"IF(RawData!F981<>\"\", RawData!F981,\"\")","v":""},{"$f":"IF(RawData!G981<>\"\", RawData!G981,\"\")","v":""},{"$f":"IF(RawData!H981<>\"\", RawData!H981,\"\")","v":""},{"$f":"IF(RawData!I981<>\"\", RawData!I981,\"\")","v":""},{"$f":"IF(RawData!J981<>\"\", RawData!J981,\"\")","v":""},"","","","","",false,false,false,false,false,"","",""]
[{"$f":"IF(RawData!A982<>\"\", RawData!A982,\"\")","v":""},{"$f":"IF(RawData!B982<>\"\", RawData!B982,\"\")","v":""},{"$f":"IF(RawData!C982<>\"\", RawData!C982,\"\")","v":""},{"$f":"IF(RawData!D982<>\"\", RawData!D982,\"\")","v":""},{"$f":"IF(RawData!E982<>\"\", RawData!E982,\"\")","v":""},{"$f":"IF(RawData!F982<>\"\", RawData!F982,\"\")","v":""},{"$f":"IF(RawData!G982<>\"\", RawData!G982,\"\")","v":""},{"$f":"IF(RawData!H982<>\"\", RawData!H982,\"\")","v":""},{"$f":"IF(RawData!I982<>\"\", RawData!I982,\"\")","v":""},{"$f":"IF(RawData!J982<>\"\", RawData!J982,\"\")","v":""},"","","","","",false,false,false,false,false,"","",""]
[{"$f":"IF(RawData!A983<>\"\", RawData!A983,\"\")","v":""},{"$f":"IF(RawData!B983<>\"\", RawData!B983,\"\")","v":""},{"$f":"IF(RawData!C983<>\"\", RawData!C983,\"\")","v":""},{"$f":"IF(RawData!D983<>\"\", RawData!D983,\"\")","v":""},{"$f":"IF(RawData!E983<>\"\", RawData!E983,\"\")","v":""},{"$f":"IF(RawData!F983<>\"\", RawData!F983,\"\")","v":""},{"$f":"IF(RawData!G983<>\"\", RawData!G983,\"\")","v":""},{"$f":"IF(RawData!H983<>\"\", RawData!H983,\"\")","v":""},{"$f":"IF(RawData!I983<>\"\", RawData!I983,\"\")","v":""},{"$f":"IF(RawData!J983<>\"\", RawData!J983,\"\")","v":""},null,null,null,null,null,null,null,null,null,null,""]
[{"$f":"IF(RawData!A984<>\"\", RawData!A984,\"\")","v":""},{"$f":"IF(RawData!B984<>\"\", RawData!B984,\"\")","v":""},{"$f":"IF(RawData!C984<>\"\", RawData!C984,\"\")","v":""},{"$f":"IF(RawData!D984<>\"\", RawData!D984,\"\")","v":""},{"$f":"IF(RawData!E984<>\"\", RawData!E984,\"\")","v":""},{"$f":"IF(RawData!F984<>\"\", RawData!F984,\"\")","v":""},{"$f":"IF(RawData!G984<>\"\", RawData!G984,\"\")","v":""},{"$f":"IF(RawData!H984<>\"\", RawData!H984,\"\")","v":""},{"$f":"IF(RawData!I984<>\"\", RawData!I984,\"\")","v":""},{"$f":"IF(RawData!J984<>\"\", RawData!J984,\"\")","v":""},null,null,null,null,null,null,null,null,null,null,""]

{"sheet":"Descriptives","index":3,"n_rows":35,"n_cols":12,"rows_kept":35,"cut":false,"hidden":false,"merged":[[1,0,1,2]]}
[]
["Driver/Vehicle Characteristics",null,null,null,null,"Site","Count",null,"Child Characteristics"]
[null,"n","%",null,null,"(blank)",null,null,null,"n","%"]
["Number of children observed",{"$f":"COUNTA(RawData!A2:'RawData'!A9972)","v":0},"--",null,null,"school",6,null,"Child age (years)"]
[null,null,null,null,null,"home",1,null,"     Mean",{"$f":"IFERROR(AVERAGE(RawData!$G$2:'RawData'!$G$9972),\"-\")","v":"-"},"--"]
["Driver seat belt use",null,null,null,null,"grocery",1,null,"     <1",{"$f":"COUNTIF(RawData!G:G, \"0\")","v":0},{"$f":"IFERROR(J6/(SUM(J6:J18)), \"-\")","v":"-"},{"$f":"K6","v":"-"}]
["     Kids riding with belted driver",{"$f":"COUNTIF(RawData!D:D, \"1\")","v":0},{"$f":"IFERROR(B7/(B7+B8), \"-\")","v":"-"},{"$f":"C7","v":"-"},null,"Head Start",1,null,"     1",{"$f":"COUNTIF(RawData!G:G, \"1\")","v":0},{"$f":"IFERROR(J7/(SUM(J6:J18)), \"-\")","v":"-"},{"$f":"K7","v":"-"}]
["     Kids riding with unbelted driver",{"$f":"COUNTIF(RawData!D:D, \"2\")","v":0},{"$f":"IFERROR(B8/(B7+B8), \"-\")","v":"-"},{"$f":"C8","v":"-"},null,"port",8,null,"     2",{"$f":"COUNTIF(RawData!G:G, \"2\")","v":0},{"$f":"IFERROR(J8/(SUM(J6:J18)), \"-\")","v":"-"},"-"]
[null,null,null,0,null,"Grand Total",17,null,"     3",{"$f":"COUNTIF(RawData!G:G, \"3\")","v":0},{"$f":"IFERROR(J9/(SUM(J6:J18)), \"-\")","v":"-"},"-"]
["Distance from home (minutes)",null,null,0,null,null,null,null,"     4",{"$f":"COUNTIF(RawData!G:G, \"4\")","v":0},{"$f":"IFERROR(J10/(SUM(J6:J18)), \"-\")","v":"-"},"-"]
["     Mean",{"$f":"IFERROR(AVERAGE(RawData!$E$2:'RawData'!$E$9972), \"-\")","v":"-"},null,0,null,null,null,null,"     5",{"$f":"COUNTIF(RawData!G:G, \"5\")","v":0},{"$f":"IFERROR(J11/(SUM(J6:J18)), \"-\")","v":"-"},"-"]
["     Kids travelling <5 minutes from home",{"$f":"COUNTIF(RawData!E:E, \"<5\")","v":0},{"$f":"IFERROR(B12/(B12+B13+B14), \"-\")","v":"-"},"-",null,null,null,null,"     6",{"$f":"COUNTIF(RawData!G:G, \"6\")","v":0},{"$f":"IFERROR(J12/(SUM(J6:J18)), \"-\")","v":"-"},"-"]
["     Kids traveling 5-10 minutes from home",{"$f":"COUNTIFS(RawData!E:E, \">=5\", RawData!E:E,\"<=10\")","v":0},{"$f":"IFERROR(B13/(B12+B13+B14), \"-\")","v":"-"},"-",null,null,null,null,"     7",{"$f":"COUNTIF(RawData!G:G, \"7\")","v":0},{"$f":"IFERROR(J13/(SUM(J6:J18)), \"-\")","v":"-"},"-"]
["     Kids traveling 11+ minutes from home",{"$f":"COUNTIF(RawData!$E$2:'RawData'!$E$9972, \">=11\")","v":0},{"$f":"IFERROR(B14/(B12+ B13+B14),\"-\")","v":"-"},"-",null,null,null,null,"     8",{"$f":"COUNTIF(RawData!G:G, \"8\")","v":0},{"$f":"IFERROR(J14/(SUM(J6:J18)), \"-\")","v":"-"},"-"]
[null,null,null,0,null,null,null,null,"     9",{"$f":"COUNTIF(RawData!G:G, \"9\")","v":0},{"$f":"IFERROR(J15/(SUM(J6:J18)), \"-\")","v":"-"},"-"]
["Driver relationship to the child",null,null,0,null,null,null,null,"     10",{"$f":"COUNTIF(RawData!G:G, \"10\")","v":0},{"$f":"IFERROR(J16/(SUM(J6:J18)), \"-\")","v":"-"},"-"]
["     Kids riding with parent",{"$f":"COUNTIF(RawData!F:F, \"1\")","v":0},{"$f":"IFERROR(B17/(B17+B18), \"-\")","v":"-"},"-",null,null,null,null,"     11",{"$f":"COUNTIF(RawData!G:G, \"11\")","v":0},{"$f":"IFERROR(J17/(SUM(J6:J18)), \"-\")","v":"-"},"-"]
["     Kids riding with someone else",{"$f":"COUNTIF(RawData!F:F, \"2\")","v":0},{"$f":"IFERROR(B18/(B17+B18),\"-\")","v":"-"},"-",null,null,null,null,"     12",{"$f":"COUNTIF(RawData!G:G, \"12\")","v":0},{"$f":"IFERROR(J18/(SUM(J6:J18)), \"-\")","v":"-"},"-"]
[null,null,null,null,null,null,null,null,null,null,null,0]
[null,null,null,null,null,null,null,null,"4'9\" tall (of kids age 7+)",null,null,0]
[null,null,null,null,null,null,null,null,"     Yes",{"$f":"COUNTIFS(RawData!G:G,  \">=7\",RawData!H:H,\"1\")","v":0},{"$f":"IFERROR(J21/(J21+J22), \"-\")","v":"-"},"-"]
[null,null,null,null,null,null,null,null,"     No",{"$f":"COUNTIFS(RawData!G:G,  \">=7\",RawData!H:H, \"2\")","v":0},{"$f":"IFERROR(J22/(J21+J22), \"-\")","v":"-"},"-"]
[null,null,null,null,null,null,null,null,null,null,null,0]
[null,null,null,null,null,null,null,null,"Seat position",null,null,0]
[null,null,null,null,null,null,null,null,"     Kids riding in the back seat",{"$f":"COUNTIF(RawData!I:I, \"1\")","v":0},{"$f":"IFERROR(J25/(J25+J26), \"-\")","v":"-"},"-"]
[null,null,null,null,null,null,null,null,"     Kids riding in the front seat",{"$f":"COUNTIF(RawData!I:I, \"2\")","v":0},{"$f":"IFERROR(J26/(J25+J26),\"-\")","v":"-"},"-"]
[null,null,null,null,null,null,null,null,null,null,null,0]
[null,null,null,null,null,null,null,null,"Restraint",null,null,0]
[null,null,null,null,null,null,null,null,"     Unrestrained",{"$f":"COUNTIF(RawData!J:J, \"0\")","v":0},{"$f":"IFERROR(J29/(SUM(J29:J33)),\"-\")","v":"-"},"-"]
[null,null,null,null,null,null,null,null,"     Rear-facing harness seat",{"$f":"COUNTIF(RawData!J:J, \"1\")","v":0},{"$f":"IFERROR(J30/(SUM(J29:J33)),\"-\")","v":"-"},"-"]
[null,null,null,null,null,null,null,null,"     Forward-facing harness seat",{"$f":"COUNTIF(RawData!J:J, \"2\")","v":0},{"$f":"IFERROR(J31/(SUM(J29:J33)),\"-\")","v":"-"},"-"]
[null,null,null,null,null,null,null,null,"     Booster seat",{"$f":"COUNTIF(RawData!J:J, \"3\")","v":0},{"$f":"IFERROR(J32/(SUM(J29:J33)),\"-\")","v":"-"},"-"]
[null,null,null,null,null,null,null,null,"     Lap/shoulder belt",{"$f":"COUNTIF(RawData!J:J, \"4\")","v":0},{"$f":"IFERROR(J33/(SUM(J29:J33)),\"-\")","v":"-"},"-"]
[null,null,null,null,null,null,null,null,null,null,null,0]
[null,null,null,null,null,null,null,null,"Car seat present but not used",{"$f":"COUNTIF(RawData!K:K, \"1\")","v":0},{"$f":"IFERROR((J35/B4),\"-\")","v":"-"},"-"]

{"sheet":"Meets recommendations","index":4,"n_rows":46,"n_cols":4,"rows_kept":46,"cut":false,"hidden":false,"merged":[]}
[]
["Children Meeting Child Passenger Safety Recommendations"]
[null,"n","row %"]
["Total Children Meeting Recommendations ",{"$f":"COUNTIF(Calculations!V:V, \"1\")","v":0},{"$f":"IFERROR(B4/(Descriptives!B4),\"-\")","v":"-"},{"$f":"C4","v":"-"}]
[]
["Children Meeting Recommendations by Driver Seat Belt Use"]
["     Belted driver",{"$f":"COUNTIFS(Calculations!V:V, \"1\", RawData!D:D, \"1\")","v":0},{"$f":"IFERROR(B7/(Descriptives!B7),\"-\")","v":"-"},{"$f":"C7","v":"-"}]
["     Unbelted driver",{"$f":"COUNTIFS(Calculations!V:V, \"1\", RawData!D:D, \"2\")","v":0},{"$f":"IFERROR(B8/(Descriptives!B8),\"-\")","v":"-"},"-"]
[]
["Children Meeting Recommendations by Distance from Home (minutes)"]
["     Kids traveling <5 minutes from home",{"$f":"COUNTIFS(Calculations!V:V, \"1\", RawData!E:E, \"<5\")","v":0},{"$f":"IFERROR(B11/(Descriptives!B12),\"-\")","v":"-"},"-"]
["     Kids traveling 5-10 minutes from home",{"$f":"COUNTIFS(Calculations!V:V, \"1\", RawData!E:E,\">=5\", RawData!E:E,\"<=10\")","v":0},{"$f":"IFERROR(B12/(Descriptives!B13),\"-\")","v":"-"},"-"]
["     Kids traveling 11+ minutes from home",{"$f":"COUNTIFS(Calculations!V:V, \"1\", RawData!E:E, \">=11\")","v":0},{"$f":"IFERROR(B13/(Descriptives!B14),\"-\")","v":"-"},"-"]
[]
["Children Meeting Recommendations by Driver Relationship"]
["     Kids riding with parent",{"$f":"COUNTIFS(Calculations!V:V, \"1\", RawData!F:F, \"1\")","v":0},{"$f":"IFERROR(B16/(Descriptives!B17),\"-\")","v":"-"},"-"]
["     Kids riding with someone else",{"$f":"COUNTIFS(Calculations!V:V, \"1\", RawData!F:F, \"2\")","v":0},{"$f":"IFERROR(B17/(Descriptives!B18),\"-\")","v":"-"},"-"]
[]
["Children Meeting Recommendations by Age (years)"]
["    <1",{"$f":"COUNTIFS(Calculations!V:V, \"1\", RawData!G:G, \"0\")","v":0},{"$f":"IFERROR(B20/(Descriptives!J6),\"-\")","v":"-"},"-"]
["     1",{"$f":"COUNTIFS(Calculations!V:V, \"1\", RawData!G:G, \"1\")","v":0},{"$f":"IFERROR(B21/(Descriptives!J7),\"-\")","v":"-"},"-"]
["     2",{"$f":"COUNTIFS(Calculations!V:V, \"1\", RawData!G:G, \"2\")","v":0},{"$f":"IFERROR(B22/(Descriptives!J8),\"-\")","v":"-"},"-"]
["     3",{"$f":"COUNTIFS(Calculations!V:V, \"1\", RawData!G:G, \"3\")","v":0},{"$f":"IFERROR(B23/(Descriptives!J9),\"-\")","v":"-"},"-"]
["     4",{"$f":"COUNTIFS(Calculations!V:V, \"1\", RawData!G:G, \"4\")","v":0},{"$f":"IFERROR(B24/(Descriptives!J10),\"-\")","v":"-"},"-"]
["     5",{"$f":"COUNTIFS(Calculations!V:V, \"1\", RawData!G:G, \"5\")","v":0},{"$f":"IFERROR(B25/(Descriptives!J11),\"-\")","v":"-"},"-"]
["     6",{"$f":"COUNTIFS(Calculations!V:V, \"1\", RawData!G:G, \"6\")","v":0},{"$f":"IFERROR(B26/(Descriptives!J12),\"-\")","v":"-"},"-"]
["     7",{"$f":"COUNTIFS(Calculations!V:V, \"1\", RawData!G:G, \"7\")","v":0},{"$f":"IFERROR(B27/(Descriptives!J13),\"-\")","v":"-"},"-"]
["     8",{"$f":"COUNTIFS(Calculations!V:V, \"1\", RawData!G:G, \"8\")","v":0},{"$f":"IFERROR(B28/(Descriptives!J14),\"-\")","v":"-"},"-"]
["     9",{"$f":"COUNTIFS(Calculations!V:V, \"1\", RawData!G:G, \"9\")","v":0},{"$f":"IFERROR(B29/(Descriptives!J15),\"-\")","v":"-"},"-"]
["     10",{"$f":"COUNTIFS(Calculations!V:V, \"1\", RawData!G:G, \"10\")","v":0},{"$f":"IFERROR(B30/(Descriptives!J16),\"-\")","v":"-"},"-"]
["     11",{"$f":"COUNTIFS(Calculations!V:V, \"1\", RawData!G:G, \"11\")","v":0},{"$f":"IFERROR(B31/(Descriptives!J17),\"-\")","v":"-"},"-"]
["     12",{"$f":"COUNTIFS(Calculations!V:V, \"1\", RawData!G:G, \"12\")","v":0},{"$f":"IFERROR(B32/(Descriptives!J18),\"-\")","v":"-"},"-"]
[]
["Children Meeting Recommendations by Seat Position"]
["     Back seat",{"$f":"COUNTIFS(Calculations!V:V, \"1\", RawData!I:I, \"1\")","v":0},{"$f":"IFERROR(B35/(Descriptives!J25),\"-\")","v":"-"},"-"]
["     Front seat",{"$f":"COUNTIFS(Calculations!V:V, \"1\", RawData!I:I, \"2\")","v":0},{"$f":"IFERROR(B36/(Descriptives!J26),\"-\")","v":"-"},"-"]
[]
["\"Meeting recommendations\" definition"]
["Rear-facing from birth thru age 2"]
["Forward-Facing harness seat from age 1-6"]
["Booster seat from age 4-11"]
["Lap/shoulder belt from age 8-12"]
[]
["References:"]
["https://www.nhtsa.gov/equipment/car-seats-and-booster-seats"]
["https://www.healthychildren.org/English/safety-prevention/on-the-go/Pages/Car-Safety-Seats-Information-for-Families.aspx"]

{"sheet":"Inadequately Restrained","index":5,"n_rows":36,"n_cols":4,"rows_kept":36,"cut":false,"hidden":false,"merged":[[1,0,1,3]]}
[]
["Children Using Some Type of Restraint, but not Meeting Recommendations (Inadequately Restrained)"]
[null,"n","row %"]
["Total Inadequately Restrained Children",{"$f":"COUNTIF(Calculations!W:W, 1)","v":0},{"$f":"IFERROR(B4/(Descriptives!B4),\"-\")","v":"-"},{"$f":"C4","v":"-"}]
[]
["Inadequatly Restrained Children by Driver Seat Belt Use"]
["     Belted driver",{"$f":"COUNTIFS(Calculations!W:W, \"1\", RawData!D:D, \"1\")","v":0},{"$f":"IFERROR(B7/(Descriptives!B7),\"-\")","v":"-"},{"$f":"C7","v":"-"}]
["     Unbelted driver",{"$f":"COUNTIFS(Calculations!W:W, \"1\", RawData!D:D, \"2\")","v":0},{"$f":"IFERROR(B8/(Descriptives!B8),\"-\")","v":"-"},"-"]
[]
["Inadequatly Restrained Children by Distance from Home (minutes)"]
["     Kids traveling <5 minutes from home",{"$f":"COUNTIFS(Calculations!W:W, \"1\", RawData!E:E, \"<5\")","v":0},{"$f":"IFERROR(B11/(Descriptives!B12),\"-\")","v":"-"},"-"]
["     Kids traveling 5-10 minutes from home",{"$f":"COUNTIFS(Calculations!W:W, \"1\", RawData!E:E, \">=5\", RawData!E:E,\"<=10\")","v":0},{"$f":"IFERROR(B12/(Descriptives!B13),\"-\")","v":"-"},"-"]
["     Kids traveling 11+ minutes from home",{"$f":"COUNTIFS(Calculations!W:W, \"1\", RawData!E:E, \">=11\")","v":0},{"$f":"IFERROR(B13/(Descriptives!B14),\"-\")","v":"-"},"-"]
[]
["Inadequatly Restrained Children by Driver Relationship"]
["     Kids riding with parent",{"$f":"COUNTIFS(Calculations!W:W, \"1\", RawData!F:F, \"1\")","v":0},{"$f":"IFERROR(B16/(Descriptives!B17),\"-\")","v":"-"},"-"]
["     Kids riding with someone else",{"$f":"COUNTIFS(Calculations!W:W, \"1\", RawData!F:F, \"2\")","v":0},{"$f":"IFERROR(B17/(Descriptives!B18),\"-\")","v":"-"},"-"]
[]
["Inadequatly Restrained Children by Age (years)"]
["    <1",{"$f":"COUNTIFS(Calculations!W:W, \"1\", RawData!G:G, \"0\")","v":0},{"$f":"IFERROR(B20/(Descriptives!J6),\"-\")","v":"-"},"-"]
["     1",{"$f":"COUNTIFS(Calculations!W:W, \"1\", RawData!G:G, \"1\")","v":0},{"$f":"IFERROR(B21/(Descriptives!J7),\"-\")","v":"-"},"-"]
["     2",{"$f":"COUNTIFS(Calculations!W:W, \"1\", RawData!G:G, \"2\")","v":0},{"$f":"IFERROR(B22/(Descriptives!J8),\"-\")","v":"-"},"-"]
["     3",{"$f":"COUNTIFS(Calculations!W:W, \"1\", RawData!G:G, \"3\")","v":0},{"$f":"IFERROR(B23/(Descriptives!J9),\"-\")","v":"-"},"-"]
["     4",{"$f":"COUNTIFS(Calculations!W:W, \"1\", RawData!G:G, \"4\")","v":0},{"$f":"IFERROR(B24/(Descriptives!J10),\"-\")","v":"-"},"-"]
["     5",{"$f":"COUNTIFS(Calculations!W:W, \"1\", RawData!G:G, \"5\")","v":0},{"$f":"IFERROR(B25/(Descriptives!J11),\"-\")","v":"-"},"-"]
["     6",{"$f":"COUNTIFS(Calculations!W:W, \"1\", RawData!G:G, \"6\")","v":0},{"$f":"IFERROR(B26/(Descriptives!J12),\"-\")","v":"-"},"-"]
["     7",{"$f":"COUNTIFS(Calculations!W:W, \"1\", RawData!G:G, \"7\")","v":0},{"$f":"IFERROR(B27/(Descriptives!J13),\"-\")","v":"-"},"-"]
["     8",{"$f":"COUNTIFS(Calculations!W:W, \"1\",RawData!G:G, \"8\")","v":0},{"$f":"IFERROR(B28/(Descriptives!J14),\"-\")","v":"-"},"-"]
["     9",{"$f":"COUNTIFS( Calculations!W:W, \"1\", RawData!G:G, \"9\")","v":0},{"$f":"IFERROR(B29/(Descriptives!J15),\"-\")","v":"-"},"-"]
["     10",{"$f":"COUNTIFS(Calculations!W:W, \"1\", RawData!G:G, \"10\")","v":0},{"$f":"IFERROR(B30/(Descriptives!J16),\"-\")","v":"-"},"-"]
["     11",{"$f":"COUNTIFS(Calculations!W:W, \"1\", RawData!G:G, \"11\")","v":0},{"$f":"IFERROR(B31/(Descriptives!J17),\"-\")","v":"-"},"-"]
["     12",{"$f":"COUNTIFS(Calculations!W:W, \"1\", RawData!G:G, \"12\")","v":0},{"$f":"IFERROR(B32/(Descriptives!J18),\"-\")","v":"-"},"-"]
[]
["Inadequatly Restrained Children by Seat Position"]
["     Back seat",{"$f":"COUNTIFS(Calculations!W:W, \"1\", RawData!I:I, \"1\")","v":0},{"$f":"IFERROR(B35/(Descriptives!J25),\"-\")","v":"-"},"-"]
["     Front seat",{"$f":"COUNTIFS(Calculations!W:W, \"1\", RawData!I:I, \"2\")","v":0},{"$f":"IFERROR(B36/(Descriptives!J26),\"-\")","v":"-"},"-"]

{"sheet":"Unrestrained ","index":6,"n_rows":36,"n_cols":4,"rows_kept":36,"cut":false,"hidden":false,"merged":[]}
[]
["Unrestrained Children"]
[null,"n","row %"]
["Total Number of Unrestrained Children",{"$f":"Descriptives!J29","v":0},{"$f":"IFERROR(B4/Descriptives!B4,\"-\")","v":"-"},{"$f":"C4","v":"-"}]
[]
["Unrestrained Children by Driver Seat Belt Use"]
["     Belted driver",{"$f":"COUNTIFS(RawData!J:J, \"0\", RawData!D:D, \"1\")","v":0},{"$f":"IFERROR(B7/(Descriptives!B7),\"-\")","v":"-"},{"$f":"C7","v":"-"}]
["     Unbelted driver",{"$f":"COUNTIFS(RawData!J:J, \"0\", RawData!D:D, \"2\")","v":0},{"$f":"IFERROR(B8/(Descriptives!B8),\"-\")","v":"-"},"-"]
[]
["Unrestrained Children by Distance from Home (minutes)"]
["     Kids traveling <5 minutes from home",{"$f":"COUNTIFS(RawData!J:J, \"0\", RawData!E:E, \"<5\")","v":0},{"$f":"IFERROR(B11/(Descriptives!B12),\"-\")","v":"-"},"-"]
["     Kids traveling 5-10 minutes from home",{"$f":"COUNTIFS(RawData!J:J, \"0\", RawData!E:E, \">=5\", RawData!E:E,\"<=10\")","v":0},{"$f":"IFERROR(B12/(Descriptives!B13),\"-\")","v":"-"},"-"]
["     Kids traveling 11+ minutes from home",{"$f":"COUNTIFS(RawData!J:J, \"0\", RawData!E:E, \">=11\")","v":0},{"$f":"IFERROR(B13/(Descriptives!B14),\"-\")","v":"-"},"-"]
[]
["Unrestrained Children by Driver Relationship"]
["     Kids riding with parent",{"$f":"COUNTIFS(RawData!J:J, \"0\", RawData!F:F, \"1\")","v":0},{"$f":"IFERROR(B16/(Descriptives!B17),\"-\")","v":"-"},"-"]
["     Kids riding with someone else",{"$f":"COUNTIFS(RawData!J:J, \"0\", RawData!F:F, \"2\")","v":0},{"$f":"IFERROR(B17/(Descriptives!B18),\"-\")","v":"-"},"-"]
[]
["Unrestrained Children by Age (years)"]
["     <1",{"$f":"COUNTIFS(RawData!J:J, \"0\", RawData!G:G, \"0\")","v":0},{"$f":"IFERROR(B20/(Descriptives!J6), \"-\")","v":"-"},"-"]
["     1",{"$f":"COUNTIFS(RawData!J:J, \"0\", RawData!G:G, \"1\")","v":0},{"$f":"IFERROR(B21/(Descriptives!J7),\"-\")","v":"-"},"-"]
["     2",{"$f":"COUNTIFS(RawData!J:J, \"0\", RawData!G:G, \"2\")","v":0},{"$f":"IFERROR(B22/(Descriptives!J8),\"-\")","v":"-"},"-"]
["     3",{"$f":"COUNTIFS(RawData!J:J, \"0\", RawData!G:G, \"3\")","v":0},{"$f":"IFERROR(B23/(Descriptives!J9),\"-\")","v":"-"},"-"]
["     4",{"$f":"COUNTIFS(RawData!J:J, \"0\", RawData!G:G, \"4\")","v":0},{"$f":"IFERROR(B24/(Descriptives!J10),\"-\")","v":"-"},"-"]
["     5",{"$f":"COUNTIFS(RawData!J:J, \"0\", RawData!G:G, \"5\")","v":0},{"$f":"IFERROR(B25/(Descriptives!J11),\"-\")","v":"-"},"-"]
["     6",{"$f":"COUNTIFS(RawData!J:J, \"0\", RawData!G:G, \"6\")","v":0},{"$f":"IFERROR(B26/(Descriptives!J12),\"-\")","v":"-"},"-"]
["     7",{"$f":"COUNTIFS(RawData!J:J, \"0\", RawData!G:G, \"7\")","v":0},{"$f":"IFERROR(B27/(Descriptives!J13),\"-\")","v":"-"},"-"]
["     8",{"$f":"COUNTIFS(RawData!J:J, \"0\", RawData!G:G, \"8\")","v":0},{"$f":"IFERROR(B28/(Descriptives!J14),\"-\")","v":"-"},"-"]
["     9",{"$f":"COUNTIFS(RawData!J:J, \"0\", RawData!G:G, \"9\")","v":0},{"$f":"IFERROR(B29/(Descriptives!J15),\"-\")","v":"-"},"-"]
["     10",{"$f":"COUNTIFS(RawData!J:J, \"0\", RawData!G:G, \"10\")","v":0},{"$f":"IFERROR(B30/(Descriptives!J16),\"-\")","v":"-"},"-"]
["     11",{"$f":"COUNTIFS(RawData!J:J, \"0\", RawData!G:G, \"11\")","v":0},{"$f":"IFERROR(B31/(Descriptives!J17),\"-\")","v":"-"},"-"]
["     12",{"$f":"COUNTIFS(RawData!J:J, \"0\", RawData!G:G, \"12\")","v":0},{"$f":"IFERROR(B32/(Descriptives!J18),\"-\")","v":"-"},"-"]
[]
["Unrestrained Children by Seat Position"]
["     Back seat",{"$f":"COUNTIFS(RawData!J:J, \"0\", RawData!I:I, \"1\")","v":0},{"$f":"IFERROR(B35/(Descriptives!J25),\"-\")","v":"-"},"-"]
["     Front seat",{"$f":"COUNTIFS(RawData!J:J, \"0\",RawData!I:I, \"2\")","v":0},{"$f":"IFERROR(B36/(Descriptives!J26),\"-\")","v":"-"},"-"]

{"sheet":"Charts","index":7,"n_rows":65,"n_cols":19,"rows_kept":65,"cut":false,"hidden":false,"merged":[]}
[]
[]
[null,null,null,null,null,null,null,null,null,null,null,null,null,null,null,null,"Meets recommendations","Inadequately restrained","Unrestrained"]
[null,"Overall Child Passenger Restraint Status",null,null,null,null,null,"% of children meeting ",null,null,null,null,null,null,null,"Babies",{"$f":"IFERROR((COUNTIFS(Calculations!V:V, \"1\", RawData!G:G, \"0\"))/(Descriptives!J6), #N/A)","v":{"$error":"#N/A"}},{"$f":"IFERROR((COUNTIFS(Calculations!W:W, \"1\", RawData!$G:G, \"0\"))/(Descriptives!J6), #N/A)","v":{"$error":"#N/A"}},{"$f":"IFERROR((COUNTIFS(RawData!J:J,\"0\",RawData!G:G,\"0\"))/(Descriptives!J6), #N/A)","v":{"$error":"#N/A"}}]
[null,null,"n","%",null,null,null,"recommendations by age grp",null,null,null,null,null,null,null,"Age 1",{"$f":"IFERROR((COUNTIFS(Calculations!V:V, \"1\", RawData!G:G, \"1\"))/(Descriptives!J7), #N/A)","v":{"$error":"#N/A"}},{"$f":"IFERROR((COUNTIFS(Calculations!W:W, \"1\", RawData!$G:G, \"1\"))/(Descriptives!J7), #N/A)","v":{"$error":"#N/A"}},{"$f":"IFERROR((COUNTIFS(RawData!J:J,\"0\",RawData!G:G,\"1\"))/(Descriptives!J7), #N/A)","v":{"$error":"#N/A"}}]
[null,"Meets Recommendations",{"$f":"COUNTIF(Calculations!V:V, 1)","v":0},{"$f":"IFERROR(C6/(Descriptives!B4),\"-\")","v":"-"},null,null,null,"Age group","%",null,null,null,null,null,null,"Age  2",{"$f":"IFERROR((COUNTIFS(Calculations!V:V, \"1\", RawData!G:G, \"2\"))/(Descriptives!J8), #N/A)","v":{"$error":"#N/A"}},{"$f":"IFERROR((COUNTIFS(Calculations!W:W, \"1\", RawData!$G:G, \"2\"))/(Descriptives!J8), #N/A)","v":{"$error":"#N/A"}},{"$f":"IFERROR((COUNTIFS(RawData!J:J,\"0\",RawData!G:G,\"2\"))/(Descriptives!J8), #N/A)","v":{"$error":"#N/A"}}]
[null,"Restrained Inadequately",{"$f":"COUNTIF(Calculations!W:W, 1)","v":0},{"$f":"IFERROR(C7/Descriptives!B4,\"-\")","v":"-"},null,null,null,"Birth-2",{"$f":"IFERROR(('Meets recommendations'!B20+'Meets recommendations'!B21+'Meets recommendations'!B22)/(Descriptives!J6+Descriptives!J7+Descriptives!J8), #N/A)","v":{"$error":"#N/A"}},null,null,null,null,null,null,"Age 3",{"$f":"IFERROR((COUNTIFS(Calculations!V:V, \"1\", RawData!G:G, \"3\"))/(Descriptives!J9), #N/A)","v":{"$error":"#N/A"}},{"$f":"IFERROR((COUNTIFS(Calculations!W:W, \"1\", RawData!$G:G, \"3\"))/(Descriptives!J9), #N/A)","v":{"$error":"#N/A"}},{"$f":"IFERROR((COUNTIFS(RawData!J:J,\"0\",RawData!G:G,\"3\"))/(Descriptives!J9), #N/A)","v":{"$error":"#N/A"}}]
[null,"Unrestrained",{"$f":"COUNTIF(Calculations!J:J, 0)","v":0},{"$f":"IFERROR(C8/Descriptives!B4,\"-\")","v":"-"},null,null,null,"Age 1-6",{"$f":"IFERROR(('Meets recommendations'!B21+'Meets recommendations'!B22+'Meets recommendations'!B23+'Meets recommendations'!B24+'Meets recommendations'!B25+'Meets recommendations'!B26)/(Descriptives!J7+Descriptives!J8+Descriptives!J9+Descriptives!J10+Descriptives!J11+Descriptives!J12), #N/A)","v":{"$error":"#N/A"}},null,null,null,null,null,null,"Age 4",{"$f":"IFERROR((COUNTIFS(Calculations!V:V, \"1\", RawData!G:G, \"4\"))/(Descriptives!J10), #N/A)","v":{"$error":"#N/A"}},{"$f":"IFERROR((COUNTIFS(Calculations!W:W, \"1\", RawData!$G:G, \"4\"))/(Descriptives!J10), #N/A)","v":{"$error":"#N/A"}},{"$f":"IFERROR((COUNTIFS(RawData!J:J,\"0\",RawData!G:G,\"4\"))/(Descriptives!J10), #N/A)","v":{"$error":"#N/A"}}]
[null,null,null,null,null,null,null,"Age 4-11",{"$f":"IFERROR(('Meets recommendations'!B24+'Meets recommendations'!B25+'Meets recommendations'!B26+'Meets recommendations'!B27+'Meets recommendations'!B28+'Meets recommendations'!B29+'Meets recommendations'!B30+'Meets recommendations'!B31)/(Descriptives!J10+Descriptives!J11+Descriptives!J12+Descriptives!J13+Descriptives!J14+Descriptives!J15+Descriptives!J16+Descriptives!J17), #N/A)","v":{"$error":"#N/A"}},null,null,null,null,null,null,"Age 5",{"$f":"IFERROR((COUNTIFS(Calculations!V:V, \"1\", RawData!G:G, \"5\"))/(Descriptives!J11), #N/A)","v":{"$error":"#N/A"}},{"$f":"IFERROR((COUNTIFS(Calculations!W:W, \"1\", RawData!$G:G, \"5\"))/(Descriptives!J11), #N/A)","v":{"$error":"#N/A"}},{"$f":"IFERROR((COUNTIFS(RawData!J:J,\"0\",RawData!G:G,\"5\"))/(Descriptives!J11), #N/A)","v":{"$error":"#N/A"}}]
[null,null,null,null,null,null,null,"Age 8-12",{"$f":"IFERROR(('Meets recommendations'!B28+'Meets recommendations'!B29+'Meets recommendations'!B30+'Meets recommendations'!B31+'Meets recommendations'!B32)/(Descriptives!J14+Descriptives!J15+Descriptives!J16+Descriptives!J17+Descriptives!J18), #N/A)","v":{"$error":"#N/A"}},null,null,null,null,null,null,"Age 6",{"$f":"IFERROR((COUNTIFS(Calculations!V:V, \"1\", RawData!G:G, \"6\"))/(Descriptives!J12), #N/A)","v":{"$error":"#N/A"}},{"$f":"IFERROR((COUNTIFS(Calculations!W:W, \"1\", RawData!$G:G, \"6\"))/(Descriptives!J12), #N/A)","v":{"$error":"#N/A"}},{"$f":"IFERROR((COUNTIFS(RawData!J:J,\"0\",RawData!G:G,\"6\"))/(Descriptives!J12), #N/A)","v":{"$error":"#N/A"}}]
[null,null,null,null,null,null,null,null,null,null,null,null,null,null,null,"Age 7",{"$f":"IFERROR((COUNTIFS(Calculations!V:V, \"1\", RawData!G:G, \"7\"))/(Descriptives!J13), #N/A)","v":{"$error":"#N/A"}},{"$f":"IFERROR((COUNTIFS(Calculations!W:W, \"1\", RawData!$G:G, \"7\"))/(Descriptives!J13), #N/A)","v":{"$error":"#N/A"}},{"$f":"IFERROR((COUNTIFS(RawData!J:J,\"0\",RawData!G:G,\"7\"))/(Descriptives!J13), #N/A)","v":{"$error":"#N/A"}}]
[null,null,null,null,null,null,null,null,null,null,null,null,null,null,null,"Age 8",{"$f":"IFERROR((COUNTIFS(Calculations!V:V, \"1\", RawData!G:G, \"8\"))/(Descriptives!J14), #N/A)","v":{"$error":"#N/A"}},{"$f":"IFERROR((COUNTIFS(Calculations!W:W, \"1\", RawData!$G:G, \"8\"))/(Descriptives!J14), #N/A)","v":{"$error":"#N/A"}},{"$f":"IFERROR((COUNTIFS(RawData!J:J,\"0\",RawData!G:G,\"8\"))/(Descriptives!J14), #N/A)","v":{"$error":"#N/A"}}]
[null,null,null,null,null,null,null,null,null,null,null,null,null,null,null,"Age 9",{"$f":"IFERROR((COUNTIFS(Calculations!V:V, \"1\", RawData!G:G, \"9\"))/(Descriptives!J15), #N/A)","v":{"$error":"#N/A"}},{"$f":"IFERROR((COUNTIFS(Calculations!W:W, \"1\", RawData!$G:G, \"9\"))/(Descriptives!J15), #N/A)","v":{"$error":"#N/A"}},{"$f":"IFERROR((COUNTIFS(RawData!J:J,\"0\",RawData!G:G,\"9\"))/(Descriptives!J15), #N/A)","v":{"$error":"#N/A"}}]
[null,null,null,null,null,null,null,null,null,null,null,null,null,null,null,"Age 10",{"$f":"IFERROR((COUNTIFS(Calculations!V:V, \"1\", RawData!G:G, \"10\"))/(Descriptives!J16), #N/A)","v":{"$error":"#N/A"}},{"$f":"IFERROR((COUNTIFS(Calculations!W:W, \"1\", RawData!$G:G, \"10\"))/(Descriptives!J16), #N/A)","v":{"$error":"#N/A"}},{"$f":"IFERROR((COUNTIFS(RawData!J:J,\"0\",RawData!G:G,\"10\"))/(Descriptives!J16), #N/A)","v":{"$error":"#N/A"}}]
[null,null,null,null,null,null,null,null,null,null,null,null,null,null,null,"Age 11",{"$f":"IFERROR((COUNTIFS(Calculations!V:V, \"1\", RawData!G:G, \"11\"))/(Descriptives!J17), #N/A)","v":{"$error":"#N/A"}},{"$f":"IFERROR((COUNTIFS(Calculations!W:W, \"1\", RawData!$G:G, \"11\"))/(Descriptives!J17), #N/A)","v":{"$error":"#N/A"}},{"$f":"IFERROR((COUNTIFS(RawData!J:J,\"0\",RawData!G:G,\"11\"))/(Descriptives!J17), #N/A)","v":{"$error":"#N/A"}}]
[null,"Child Restraint Status by Relationship to Driver",null,null,null,null,null,null,null,null,null,null,null,null,null,"Age 12",{"$f":"IFERROR((COUNTIFS(Calculations!V:V, \"1\", RawData!G:G, \"12\"))/(Descriptives!J18), #N/A)","v":{"$error":"#N/A"}},{"$f":"IFERROR((COUNTIFS(Calculations!W:W, \"1\", RawData!$G:G, \"12\"))/(Descriptives!J18), #N/A)","v":{"$error":"#N/A"}},{"$f":"IFERROR((COUNTIFS(RawData!J:J,\"0\",RawData!G:G,\"12\"))/(Descriptives!J18), #N/A)","v":{"$error":"#N/A"}}]
[null,null,"Parent","Other"]
[null,"Meets Recommendations",{"$f":"'Meets recommendations'!C16","v":"-"},{"$f":"'Meets recommendations'!C17","v":"-"}]
[null,"Restrained Inadequately",{"$f":"'Inadequately Restrained'!C16","v":"-"},{"$f":"'Inadequately Restrained'!C17","v":"-"}]
[null,"Unrestrained",{"$f":"'Unrestrained '!C16","v":"-"},{"$f":"'Unrestrained '!C17","v":"-"}]
[]
[null,null,null,null,null,null,null,null,"% of unrestrained children"]
[null,null,null,null,null,null,null,null,"by age grp"]
[null,null,null,null,null,null,null,null,"Age group","%"]
[null,null,null,null,null,null,null,null,"Birth-2",{"$f":"IFERROR(('Unrestrained '!B20+'Unrestrained '!B21+'Unrestrained '!B22)/(Descriptives!J6+Descriptives!J7+Descriptives!J8), #N/A)","v":{"$error":"#N/A"}}]
[null,null,null,null,null,null,null,null,"Age 1-6",{"$f":"IFERROR(('Unrestrained '!B21+'Unrestrained '!B22+'Unrestrained '!B23+'Unrestrained '!B24+'Unrestrained '!B25+'Unrestrained '!B26)/(Descriptives!J7+Descriptives!J8+Descriptives!J9+Descriptives!J10+Descriptives!J11+Descriptives!J12), #N/A)","v":{"$error":"#N/A"}}]
[null,null,null,null,null,null,null,null,"Age 4-11",{"$f":"IFERROR(('Unrestrained '!B24+'Unrestrained '!B25+'Unrestrained '!B26+'Unrestrained '!B27+'Unrestrained '!B28+'Unrestrained '!B29+'Unrestrained '!B30+'Unrestrained '!B31)/(Descriptives!J10+Descriptives!J11+Descriptives!J12+Descriptives!J13+Descriptives!J14+Descriptives!J15+Descriptives!J16+Descriptives!J17), #N/A)","v":{"$error":"#N/A"}}]
[null,null,null,null,null,null,null,null,"Age 8-12",{"$f":"IFERROR(('Unrestrained '!B28+'Unrestrained '!B29+'Unrestrained '!B30+'Unrestrained '!B31+'Unrestrained '!B32)/(Descriptives!J14+Descriptives!J15+Descriptives!J16+Descriptives!J17+Descriptives!J18), #N/A)","v":{"$error":"#N/A"}}]
[null,"Child Restraint Status by Driver Seat Belt Use"]
[null,null,"Belted","Not Belted"]
[null,"Meets Recommendations",{"$f":"'Meets recommendations'!C7","v":"-"},{"$f":"'Meets recommendations'!C8","v":"-"}]
[null,"Restrained Inadequately",{"$f":"'Inadequately Restrained'!C7","v":"-"},{"$f":"'Inadequately Restrained'!C8","v":"-"}]
[null,"Unrestrained",{"$f":"'Unrestrained '!C7","v":"-"},{"$f":"'Unrestrained '!C8","v":"-"}]
[]
[]
[]
[]
[]
[]
[]
[]
[null,"Child Restraint Status by Distance from Home"]
[null,null,"<5 min","5-10 min","11+ min"]
[null,"Meets Recommendations",{"$f":"'Meets recommendations'!C11","v":"-"},{"$f":"'Meets recommendations'!C12","v":"-"},{"$f":"'Meets recommendations'!C13","v":"-"}]
[null,"Restrained Inadequately",{"$f":"'Inadequately Restrained'!C11","v":"-"},{"$f":"'Inadequately Restrained'!C12","v":"-"},{"$f":"'Inadequately Restrained'!C13","v":"-"}]
[null,"Unrestrained",{"$f":"'Unrestrained '!C11","v":"-"},{"$f":"'Unrestrained '!C12","v":"-"},{"$f":"'Unrestrained '!C13","v":"-"}]
[]
[]
[]
[]
[]
[]
[]
[]
["\"Meets recommendations\" definition"]
["Rear-facing from birth thru age 2"]
["Forward-Facing harness seat from age 1-6"]
["Booster seat from age 4-11"]
["Lap/shoulder belt from age 8-12"]
[]
["References:"]
["https://www.nhtsa.gov/equipment/car-seats-and-booster-seats"]
["https://www.healthychildren.org/English/safety-prevention/on-the-go/Pages/Car-Safety-Seats-Information-for-Families.aspx"]
[]
["Questions? Email nativecars@npaihb.org"]

{"sheet":"Any restraint & back seat","index":8,"n_rows":33,"n_cols":17,"rows_kept":33,"cut":false,"hidden":false,"merged":[]}
[]
[]
[]
[null,"What proportion of kids were using any restraint type?",null,null,null,null,null,null,null,null,"proportion of kids in the back seat"]
[null,"Any",{"$f":"IFERROR(1-'Unrestrained '!C4, \"-\")","v":"-"},null,null,null,null,null,null,null,"Back",{"$f":"(IFERROR( Descriptives!K25, #N/A))","v":"-"},null,null,null,"% of kids with a car seat but were not using it"]
[null,"None",{"$f":"(IFERROR( 'Unrestrained '!C4, \"-\"))","v":"-"},null,null,null,null,null,null,null,"Front",{"$f":"IFERROR((Descriptives!K26),#N/A)","v":"-"},null,null,null,"not checked",{"$f":"IFERROR(1-(Descriptives!K35),#N/A)","v":{"$error":"#N/A"}}]
[null,null,null,null,null,null,null,null,null,null,null,null,null,null,null,"Box checked",{"$f":"(IFERROR( Descriptives!K35, #N/A))","v":"-"}]
[]
[]
[]
[]
[]
[]
[]
[]
[]
[null,null,null,null,null,null,null,null,"% of kids in the back seat by age"]
[null,null,"Percent of children using ",null,null,null,null,null,"Child age","count back","count front","%"]
[null,null,"any restraint by age",null,null,null,null,null,"Babies",{"$f":"COUNTIFS(RawData!I:I, \"1\", RawData!G:G, \"0\")","v":0},{"$f":"COUNTIFS(RawData!I:I, \"2\", RawData!G:G, \"0\")","v":0},{"$f":"IFERROR(J19/(J19+K19), #N/A)","v":{"$error":"#N/A"}},null,null,null,"Number of kids with a visible, unused car seat by age"]
[null,null,"Child age","%",null,null,null,null,"Age 1",{"$f":"COUNTIFS(RawData!I:I, \"1\", RawData!G:G, \"1\")","v":0},{"$f":"COUNTIFS(RawData!I:I, \"2\", RawData!G:G, \"1\")","v":0},{"$f":"IFERROR(J20/(J20+K20), #N/A)","v":{"$error":"#N/A"}},null,null,null,"Child age","count check box"]
[null,null,"Babies",{"$f":"IFERROR(1-'Unrestrained '!C20, #N/A)","v":{"$error":"#N/A"}},null,null,null,null,"Age  2",{"$f":"COUNTIFS(RawData!I:I, \"1\", RawData!G:G, \"2\")","v":0},{"$f":"COUNTIFS(RawData!I:I, \"2\", RawData!G:G, \"2\")","v":0},{"$f":"IFERROR(J21/(J21+K21), #N/A)","v":{"$error":"#N/A"}},null,null,null,"Babies",{"$f":"COUNTIFS(RawData!K:K, \"1\", RawData!G:G, \"0\")","v":0}]
[null,null,"Age 1",{"$f":"IFERROR(1-'Unrestrained '!C21, #N/A)","v":{"$error":"#N/A"}},null,null,null,null,"Age 3",{"$f":"COUNTIFS(RawData!I:I, \"1\", RawData!G:G, \"3\")","v":0},{"$f":"COUNTIFS(RawData!I:I, \"2\", RawData!G:G, \"3\")","v":0},{"$error":"#N/A"},null,null,null,"Age 1",{"$f":"COUNTIFS(RawData!K:K, \"1\", RawData!G:G, \"1\")","v":0}]
[null,null,"Age  2",{"$f":"IFERROR(1-'Unrestrained '!C22, #N/A)","v":{"$error":"#N/A"}},null,null,null,null,"Age 4",{"$f":"COUNTIFS(RawData!I:I, \"1\", RawData!G:G, \"4\")","v":0},{"$f":"COUNTIFS(RawData!I:I, \"2\", RawData!G:G, \"4\")","v":0},{"$error":"#N/A"},null,null,null,"Age  2",{"$f":"COUNTIFS(RawData!K:K, \"1\", RawData!G:G, \"2\")","v":0}]
[null,null,"Age 3",{"$f":"IFERROR(1-'Unrestrained '!C23, #N/A)","v":{"$error":"#N/A"}},null,null,null,null,"Age 5",{"$f":"COUNTIFS(RawData!I:I, \"1\", RawData!G:G, \"5\")","v":0},{"$f":"COUNTIFS(RawData!I:I, \"2\", RawData!G:G, \"5\")","v":0},{"$error":"#N/A"},null,null,null,"Age 3",{"$f":"COUNTIFS(RawData!K:K, \"1\", RawData!G:G, \"3\")","v":0}]
[null,null,"Age 4",{"$f":"IFERROR(1-'Unrestrained '!C24, #N/A)","v":{"$error":"#N/A"}},null,null,null,null,"Age 6",{"$f":"COUNTIFS(RawData!I:I, \"1\", RawData!G:G, \"6\")","v":0},{"$f":"COUNTIFS(RawData!I:I, \"2\", RawData!G:G, \"6\")","v":0},{"$error":"#N/A"},null,null,null,"Age 4",{"$f":"COUNTIFS(RawData!K:K, \"1\", RawData!G:G, \"4\")","v":0}]
[null,null,"Age 5",{"$f":"IFERROR(1-'Unrestrained '!C25, #N/A)","v":{"$error":"#N/A"}},null,null,null,null,"Age 7",{"$f":"COUNTIFS(RawData!I:I, \"1\", RawData!G:G, \"7\")","v":0},{"$f":"COUNTIFS(RawData!I:I, \"2\", RawData!G:G, \"7\")","v":0},{"$error":"#N/A"},null,null,null,"Age 5",{"$f":"COUNTIFS(RawData!K:K, \"1\", RawData!G:G, \"5\")","v":0}]
[null,null,"Age 6",{"$f":"IFERROR(1-'Unrestrained '!C26, #N/A)","v":{"$error":"#N/A"}},null,null,null,null,"Age 8",{"$f":"COUNTIFS(RawData!I:I, \"1\", RawData!G:G, \"8\")","v":0},{"$f":"COUNTIFS(RawData!I:I, \"2\", RawData!G:G, \"8\")","v":0},{"$error":"#N/A"},null,null,null,"Age 6",{"$f":"COUNTIFS(RawData!K:K, \"1\", RawData!G:G, \"6\")","v":0}]
[null,null,"Age 7",{"$f":"IFERROR(1-'Unrestrained '!C27, #N/A)","v":{"$error":"#N/A"}},null,null,null,null,"Age 9",{"$f":"COUNTIFS(RawData!I:I, \"1\", RawData!G:G, \"9\")","v":0},{"$f":"COUNTIFS(RawData!I:I, \"2\", RawData!G:G, \"9\")","v":0},{"$error":"#N/A"},null,null,null,"Age 7",{"$f":"COUNTIFS(RawData!K:K, \"1\", RawData!G:G, \"7\")","v":0}]
[null,null,"Age 8",{"$f":"IFERROR(1-'Unrestrained '!C28, #N/A)","v":{"$error":"#N/A"}},null,null,null,null,"Age 10",{"$f":"COUNTIFS(RawData!I:I, \"1\", RawData!G:G, \"10\")","v":0},{"$f":"COUNTIFS(RawData!I:I, \"2\", RawData!G:G, \"10\")","v":0},{"$error":"#N/A"}]
[null,null,"Age 9",{"$f":"IFERROR(1-'Unrestrained '!C29, #N/A)","v":{"$error":"#N/A"}},null,null,null,null,"Age 11",{"$f":"COUNTIFS(RawData!I:I, \"1\", RawData!G:G, \"11\")","v":0},{"$f":"COUNTIFS(RawData!I:I, \"2\", RawData!G:G, \"11\")","v":0},{"$error":"#N/A"}]
[null,null,"Age 10",{"$f":"IFERROR(1-'Unrestrained '!C30, #N/A)","v":{"$error":"#N/A"}},null,null,null,null,"Age 12",{"$f":"COUNTIFS(RawData!I:I, \"1\", RawData!G:G, \"12\")","v":0},{"$f":"COUNTIFS(RawData!I:I, \"2\", RawData!G:G, \"12\")","v":0},{"$error":"#N/A"}]
[null,null,"Age 11",{"$f":"IFERROR(1-'Unrestrained '!C31, #N/A)","v":{"$error":"#N/A"}}]
[null,null,"Age 12",{"$f":"IFERROR(1-'Unrestrained '!C32, #N/A)","v":{"$error":"#N/A"}}]

{"sheet":"Seat use detail","index":9,"n_rows":40,"n_cols":22,"rows_kept":40,"cut":false,"hidden":false,"merged":[[2,1,2,2],[2,3,2,4],[2,5,2,6],[2,7,2,8],[2,9,2,10]]}
[]
["Counts of children in each seat type, by child's age"]
["Child age","Rear-facing seat",null,"Fwd-facing harness",null,"Booster seat",null,"Lap/shoulder belt",null,"None",null,null,"Percent of young children rear-facing",null,null,null,null,null,null,"Percent in FF-seats by age"]
["<1",{"$f":"COUNTIFS(RawData!G:G, \"0\", RawData!J:J, \"1\")","v":0},{"$f":"B4","v":0},{"$f":"COUNTIFS(RawData!G:G, \"0\", RawData!J:J, \"2\")","v":0},{"$f":"D4","v":0},{"$f":"COUNTIFS(RawData!G:G, \"0\", RawData!J:J, \"3\")","v":0},{"$f":"F4","v":0},{"$f":"COUNTIFS(RawData!G:G, \"0\", RawData!J:J, \"4\")","v":0},{"$f":"H4","v":0},{"$f":"COUNTIFS(RawData!G:G, \"0\", RawData!J:J, \"0\")","v":0},{"$f":"J4","v":0},null,"Babies",{"$f":"IFERROR(B4/(B4+D4+F4+H4+J4), #N/A)","v":{"$error":"#N/A"}},null,null,null,null,null,"Age 1",{"$f":"IFERROR(D5/(B5+D5+F5+H5+J5), #N/A)","v":{"$error":"#N/A"}}]
["1",{"$f":"COUNTIFS(RawData!G:G, \"1\", RawData!J:J, \"1\")","v":0},0,{"$f":"COUNTIFS(RawData!G:G, \"1\", RawData!J:J, \"2\")","v":0},0,{"$f":"COUNTIFS(RawData!G:G, \"1\", RawData!J:J, \"3\")","v":0},0,{"$f":"COUNTIFS(RawData!G:G, \"1\", RawData!J:J, \"4\")","v":0},0,{"$f":"COUNTIFS(RawData!G:G, \"1\",RawData!J:J, \"0\")","v":0},0,null,"1-year olds",{"$f":"IFERROR(B5/(B5+D5+F5+H5+J5), #N/A)","v":{"$error":"#N/A"}},null,null,null,null,null,"Age 2",{"$error":"#N/A"}]
["2",{"$f":"COUNTIFS(RawData!G:G, \"2\", RawData!J:J, \"1\")","v":0},0,{"$f":"COUNTIFS(RawData!G:G, \"2\", RawData!J:J, \"2\")","v":0},0,{"$f":"COUNTIFS(RawData!G:G, \"2\", RawData!J:J, \"3\")","v":0},0,{"$f":"COUNTIFS(RawData!G:G, \"2\", RawData!J:J, \"4\")","v":0},0,{"$f":"COUNTIFS(RawData!G:G, \"2\", RawData!J:J, \"0\")","v":0},0,null,"2-year olds",{"$f":"IFERROR(B6/(B6+D6+F6+H6+J6), #N/A)","v":{"$error":"#N/A"}},null,null,null,null,null,"Age 3",{"$error":"#N/A"}]
["3",{"$f":"COUNTIFS(RawData!G:G, \"3\", RawData!J:J, \"1\")","v":0},0,{"$f":"COUNTIFS(RawData!G:G, \"3\", RawData!J:J, \"2\")","v":0},0,{"$f":"COUNTIFS(RawData!G:G, \"3\", RawData!J:J, \"3\")","v":0},0,{"$f":"COUNTIFS(RawData!G:G, \"3\", RawData!J:J, \"4\")","v":0},0,{"$f":"COUNTIFS(RawData!G:G, \"3\", RawData!J:J, \"0\")","v":0},0,null,null,null,null,null,null,null,null,"Age 4",{"$error":"#N/A"}]
["4",{"$f":"COUNTIFS(RawData!G:G, \"4\", RawData!J:J, \"1\")","v":0},0,{"$f":"COUNTIFS(RawData!G:G, \"4\", RawData!J:J, \"2\")","v":0},0,{"$f":"COUNTIFS(RawData!G:G, \"4\", RawData!J:J, \"3\")","v":0},0,{"$f":"COUNTIFS(RawData!G:G, \"4\", RawData!J:J, \"4\")","v":0},0,{"$f":"COUNTIFS(RawData!G:G, \"4\", RawData!J:J, \"0\")","v":0},0,null,null,null,null,null,null,null,null,"Age 5",{"$error":"#N/A"}]
["5",{"$f":"COUNTIFS(RawData!G:G, \"5\", RawData!J:J, \"1\")","v":0},0,{"$f":"COUNTIFS(RawData!G:G, \"5\", RawData!J:J, \"2\")","v":0},0,{"$f":"COUNTIFS(RawData!G:G, \"5\", RawData!J:J, \"3\")","v":0},0,{"$f":"COUNTIFS(RawData!G:G, \"5\", RawData!J:J, \"4\")","v":0},0,{"$f":"COUNTIFS(RawData!G:G, \"5\", RawData!J:J, \"0\")","v":0},0,null,null,null,null,null,null,null,null,"Age 6",{"$error":"#N/A"}]
["6",{"$f":"COUNTIFS(RawData!G:G, \"6\", RawData!J:J, \"1\")","v":0},0,{"$f":"COUNTIFS(RawData!G:G, \"6\", RawData!J:J, \"2\")","v":0},0,{"$f":"COUNTIFS(RawData!G:G, \"6\", RawData!J:J, \"3\")","v":0},0,{"$f":"COUNTIFS(RawData!G:G, \"6\", RawData!J:J, \"4\")","v":0},0,{"$f":"COUNTIFS(RawData!G:G, \"6\", RawData!J:J, \"0\")","v":0},0,null,null,null,null,null,null,null,null,"Age 7",{"$error":"#N/A"}]
["7",{"$f":"COUNTIFS(RawData!G:G, \"7\", RawData!J:J, \"1\")","v":0},0,{"$f":"COUNTIFS(RawData!G:G, \"7\", RawData!J:J, \"2\")","v":0},0,{"$f":"COUNTIFS(RawData!G:G, \"7\", RawData!J:J, \"3\")","v":0},0,{"$f":"COUNTIFS(RawData!G:G, \"7\", RawData!J:J, \"4\")","v":0},0,{"$f":"COUNTIFS(RawData!G:G, \"7\", RawData!J:J, \"0\")","v":0},0,null,"Percent in Booster seats by age"]
["8",{"$f":"COUNTIFS(RawData!G:G, \"8\", RawData!J:J, \"1\")","v":0},0,{"$f":"COUNTIFS(RawData!G:G, \"8\", RawData!J:J, \"2\")","v":0},0,{"$f":"COUNTIFS(RawData!G:G, \"8\", RawData!J:J, \"3\")","v":0},0,{"$f":"COUNTIFS(RawData!G:G, \"8\", RawData!J:J, \"4\")","v":0},0,{"$f":"COUNTIFS(RawData!G:G, \"8\", RawData!J:J, \"0\")","v":0},0,null,"Age 2",{"$f":"IFERROR(F6/(B6+D6+F6+H6+J6), #N/A)","v":{"$error":"#N/A"}}]
["9",{"$f":"COUNTIFS(RawData!G:G, \"9\", RawData!J:J, \"1\")","v":0},0,{"$f":"COUNTIFS(RawData!G:G, \"9\", RawData!J:J, \"2\")","v":0},0,{"$f":"COUNTIFS(RawData!G:G, \"9\", RawData!J:J, \"3\")","v":0},0,{"$f":"COUNTIFS(RawData!G:G, \"9\", RawData!J:J, \"4\")","v":0},0,{"$f":"COUNTIFS(RawData!G:G, \"9\", RawData!J:J, \"0\")","v":0},0,null,"Age 3",{"$error":"#N/A"}]
["10",{"$f":"COUNTIFS(RawData!G:G, \"10\", RawData!J:J, \"1\")","v":0},0,{"$f":"COUNTIFS(RawData!G:G, \"10\", RawData!J:J, \"2\")","v":0},0,{"$f":"COUNTIFS(RawData!G:G, \"10\", RawData!J:J, \"3\")","v":0},0,{"$f":"COUNTIFS(RawData!G:G, \"10\", RawData!J:J, \"4\")","v":0},0,{"$f":"COUNTIFS(RawData!G:G, \"10\", RawData!J:J, \"0\")","v":0},0,null,"Age 4",{"$error":"#N/A"}]
["11",{"$f":"COUNTIFS(RawData!G:G, \"11\", RawData!J:J, \"1\")","v":0},0,{"$f":"COUNTIFS(RawData!G:G, \"11\", RawData!J:J, \"2\")","v":0},0,{"$f":"COUNTIFS(RawData!G:G, \"11\", RawData!J:J, \"3\")","v":0},0,{"$f":"COUNTIFS(RawData!G:G, \"11\", RawData!J:J, \"4\")","v":0},0,{"$f":"COUNTIFS(RawData!G:G, \"11\", RawData!J:J, \"0\")","v":0},0,null,"Age 5",{"$error":"#N/A"},null,null,null,null,null,null,"Percent in lap/shoulder belts by age"]
["12",{"$f":"COUNTIFS(RawData!G:G, \"12\", RawData!J:J, \"1\")","v":0},0,{"$f":"COUNTIFS(RawData!G:G, \"12\", RawData!J:J, \"2\")","v":0},0,{"$f":"COUNTIFS(RawData!G:G, \"12\", RawData!J:J, \"3\")","v":0},0,{"$f":"COUNTIFS(RawData!G:G, \"12\", RawData!J:J, \"4\")","v":0},0,{"$f":"COUNTIFS(RawData!G:G, \"12\", RawData!J:J, \"0\")","v":0},0,null,"Age 6",{"$error":"#N/A"},null,null,null,null,null,null,"Age 2",{"$f":"IFERROR(H6/(B6+D6+F6+H6+J6), #N/A)","v":{"$error":"#N/A"}}]
[null,null,null,null,null,null,null,null,null,null,null,null,"Age 7",{"$error":"#N/A"},null,null,null,null,null,null,"Age 3",{"$error":"#N/A"}]
[null,null,null,null,null,null,null,null,null,null,null,null,"Age 8",{"$error":"#N/A"},null,null,null,null,null,null,"Age 4",{"$error":"#N/A"}]
[null,null,null,null,null,null,null,null,null,null,null,null,"Age 9",{"$error":"#N/A"},null,null,null,null,null,null,"Age 5",{"$error":"#N/A"}]
[null,null,null,null,null,null,null,null,null,null,null,null,"Age 10",{"$error":"#N/A"},null,null,null,null,null,null,"Age 6",{"$error":"#N/A"}]
[null,null,null,null,null,null,null,null,null,null,null,null,"Age 11",{"$error":"#N/A"},null,null,null,null,null,null,"Age 7",{"$error":"#N/A"}]
[null,null,null,null,null,null,null,null,null,null,null,null,"Age 12",{"$error":"#N/A"},null,null,null,null,null,null,"Age 8",{"$error":"#N/A"}]
[null,null,null,null,null,null,null,null,null,null,null,null,null,null,null,null,null,null,null,null,"Age 9",{"$error":"#N/A"}]
[null,null,null,null,null,null,null,null,null,null,null,null,null,null,null,null,null,null,null,null,"Age 10",{"$error":"#N/A"}]
[null,null,null,null,null,null,null,null,null,null,null,null,null,"Percent of Unrestrained",null,null,null,null,null,null,"Age 11",{"$error":"#N/A"}]
[null,null,null,null,null,null,null,null,null,null,null,null,null,"Children by Age",null,null,null,null,null,null,"Age 12",{"$error":"#N/A"}]
[null,null,null,null,null,null,null,null,null,null,null,null,null,"Child Age","%"]
[null,null,null,null,null,null,null,null,null,null,null,null,null,"Babies",{"$f":"'Unrestrained '!C11","v":"-"}]
[null,null,null,null,null,null,null,null,null,null,null,null,null,"Age 1",{"$f":"'Unrestrained '!C12","v":"-"}]
[null,null,null,null,null,null,null,null,null,null,null,null,null,"Age 2",{"$f":"'Unrestrained '!C13","v":"-"}]
[null,null,null,null,null,null,null,null,null,null,null,null,null,"Age 3",{"$f":"'Unrestrained '!C14","v":0}]
[null,null,null,null,null,null,null,null,null,null,null,null,null,"Age 4",{"$f":"'Unrestrained '!C15","v":0}]
[null,null,null,null,null,null,null,null,null,null,null,null,null,"Age 5",{"$f":"'Unrestrained '!C16","v":"-"}]
[null,null,null,null,null,null,null,null,null,null,null,null,null,"Age 6",{"$f":"'Unrestrained '!C17","v":"-"}]
[null,null,null,null,null,null,null,null,null,null,null,null,null,"Age 7",{"$f":"'Unrestrained '!C18","v":0}]
[null,null,null,null,null,null,null,null,null,null,null,null,null,"Age 8",{"$f":"'Unrestrained '!C19","v":0}]
[null,null,null,null,null,null,null,null,null,null,null,null,null,"Age 9",{"$f":"'Unrestrained '!C20","v":"-"}]
[null,null,null,null,null,null,null,null,null,null,null,null,null,"Age 10",{"$f":"'Unrestrained '!C21","v":"-"}]
[null,null,null,null,null,null,null,null,null,null,null,null,null,"Age 11",{"$f":"'Unrestrained '!C22","v":"-"}]
[null,null,null,null,null,null,null,null,null,null,null,null,null,"Age 12",{"$f":"'Unrestrained '!C23","v":"-"}]